BEGIN:VCALENDAR
VERSION:2.0
PRODID:-//The College Funding Coach - ECPv6.15.17//NONSGML v1.0//EN
CALSCALE:GREGORIAN
METHOD:PUBLISH
X-ORIGINAL-URL:https://www.thecollegefundingcoach.org
X-WR-CALDESC:Events for The College Funding Coach
REFRESH-INTERVAL;VALUE=DURATION:PT1H
X-Robots-Tag:noindex
X-PUBLISHED-TTL:PT1H
BEGIN:VTIMEZONE
TZID:America/New_York
BEGIN:DAYLIGHT
TZOFFSETFROM:-0500
TZOFFSETTO:-0400
TZNAME:EDT
DTSTART:20180311T070000
END:DAYLIGHT
BEGIN:STANDARD
TZOFFSETFROM:-0400
TZOFFSETTO:-0500
TZNAME:EST
DTSTART:20181104T060000
END:STANDARD
BEGIN:DAYLIGHT
TZOFFSETFROM:-0500
TZOFFSETTO:-0400
TZNAME:EDT
DTSTART:20190310T070000
END:DAYLIGHT
BEGIN:STANDARD
TZOFFSETFROM:-0400
TZOFFSETTO:-0500
TZNAME:EST
DTSTART:20191103T060000
END:STANDARD
BEGIN:DAYLIGHT
TZOFFSETFROM:-0500
TZOFFSETTO:-0400
TZNAME:EDT
DTSTART:20200308T070000
END:DAYLIGHT
BEGIN:STANDARD
TZOFFSETFROM:-0400
TZOFFSETTO:-0500
TZNAME:EST
DTSTART:20201101T060000
END:STANDARD
END:VTIMEZONE
BEGIN:VEVENT
DTSTART;TZID=America/New_York:20191106T180000
DTEND;TZID=America/New_York:20191106T200000
DTSTAMP:20260423T203153
CREATED:20190926T173917Z
LAST-MODIFIED:20190926T173917Z
UID:7231-1573063200-1573070400@www.thecollegefundingcoach.org
SUMMARY:Thales Academy - Apex JH/HS
DESCRIPTION:
URL:https://www.thecollegefundingcoach.org/class/thales-academy-apex-jh-hs/
LOCATION:Thales Academy – Apex JH/HS\, 1300 N Salem St\, Apex\, NC\, 27502
CATEGORIES:Classes,Workshops
ATTACH;FMTTYPE=image/png:https://www.thecollegefundingcoach.org/wp-content/uploads/2019/09/Thales-Academy-Apex-JHHS.png
GEO:35.744958;-78.8490129
X-APPLE-STRUCTURED-LOCATION;VALUE=URI;X-ADDRESS=Thales Academy – Apex JH/HS 1300 N Salem St Apex NC 27502;X-APPLE-RADIUS=500;X-TITLE=1300 N Salem St:geo:-78.8490129,35.744958
END:VEVENT
BEGIN:VEVENT
DTSTART;TZID=America/New_York:20191029T183000
DTEND;TZID=America/New_York:20191029T203000
DTSTAMP:20260423T203153
CREATED:20190809T205303Z
LAST-MODIFIED:20190809T205303Z
UID:6719-1572373800-1572381000@www.thecollegefundingcoach.org
SUMMARY:Wesleyan Christian Academy
DESCRIPTION:
URL:https://www.thecollegefundingcoach.org/class/wesleyan-christian-academy/
LOCATION:Wesleyan Christian Academy\, 1917 N Centennial Street\, High Point\, NC\, 27262
CATEGORIES:Classes,Workshops
ATTACH;FMTTYPE=image/png:https://www.thecollegefundingcoach.org/wp-content/uploads/2019/08/Wesleyan-Christian-Academy.png
GEO:35.9871335;-80.0018413
X-APPLE-STRUCTURED-LOCATION;VALUE=URI;X-ADDRESS=Wesleyan Christian Academy 1917 N Centennial Street High Point NC 27262;X-APPLE-RADIUS=500;X-TITLE=1917 N Centennial Street:geo:-80.0018413,35.9871335
END:VEVENT
BEGIN:VEVENT
DTSTART;TZID=America/New_York:20191024T180000
DTEND;TZID=America/New_York:20191024T200000
DTSTAMP:20260423T203153
CREATED:20190916T184912Z
LAST-MODIFIED:20190916T185518Z
UID:7111-1571940000-1571947200@www.thecollegefundingcoach.org
SUMMARY:Page High School
DESCRIPTION:
URL:https://www.thecollegefundingcoach.org/class/page-high-school/
LOCATION:Page High School\, 201 Alma Pinnix Drive\, Greensboro\, NC\, 27405
CATEGORIES:Classes,Workshops
ATTACH;FMTTYPE=image/png:https://www.thecollegefundingcoach.org/wp-content/uploads/2019/09/Page-High-School.png
GEO:36.1097407;-79.7855429
X-APPLE-STRUCTURED-LOCATION;VALUE=URI;X-ADDRESS=Page High School 201 Alma Pinnix Drive Greensboro NC 27405;X-APPLE-RADIUS=500;X-TITLE=201 Alma Pinnix Drive:geo:-79.7855429,36.1097407
END:VEVENT
BEGIN:VEVENT
DTSTART;TZID=America/New_York:20191023T183000
DTEND;TZID=America/New_York:20191023T203000
DTSTAMP:20260423T203153
CREATED:20190916T185403Z
LAST-MODIFIED:20190916T185403Z
UID:7115-1571855400-1571862600@www.thecollegefundingcoach.org
SUMMARY:York Comprehensive High School
DESCRIPTION:
URL:https://www.thecollegefundingcoach.org/class/york-comprehensive-high-school-2/
LOCATION:York Comprehensive High School\, 275 E Alexander Love Hwy\, York\, SC\, 29745
CATEGORIES:Classes,Workshops
ATTACH;FMTTYPE=image/png:https://www.thecollegefundingcoach.org/wp-content/uploads/2019/09/York-Comprehensive-High-School.png
GEO:35.0149551;-81.2271162
X-APPLE-STRUCTURED-LOCATION;VALUE=URI;X-ADDRESS=York Comprehensive High School 275 E Alexander Love Hwy York SC 29745;X-APPLE-RADIUS=500;X-TITLE=275 E Alexander Love Hwy:geo:-81.2271162,35.0149551
END:VEVENT
BEGIN:VEVENT
DTSTART;TZID=America/New_York:20191017T180000
DTEND;TZID=America/New_York:20191017T200000
DTSTAMP:20260423T203153
CREATED:20190423T231833Z
LAST-MODIFIED:20190423T231833Z
UID:5907-1571335200-1571342400@www.thecollegefundingcoach.org
SUMMARY:Polo Ridge Elementary School
DESCRIPTION:
URL:https://www.thecollegefundingcoach.org/class/polo-ridge-elementary-school/
LOCATION:Polo Ridge Elementary School\, 11830 Tom Short Rd.\, Charlotte\, NC\, 28277
CATEGORIES:Classes,Workshops
ATTACH;FMTTYPE=image/png:https://www.thecollegefundingcoach.org/wp-content/uploads/2019/04/Polo-Ridge-Elementary-School.png
GEO:35.0468766;-80.7951241
X-APPLE-STRUCTURED-LOCATION;VALUE=URI;X-ADDRESS=Polo Ridge Elementary School 11830 Tom Short Rd. Charlotte NC 28277;X-APPLE-RADIUS=500;X-TITLE=11830 Tom Short Rd.:geo:-80.7951241,35.0468766
END:VEVENT
BEGIN:VEVENT
DTSTART;TZID=America/New_York:20191015T180000
DTEND;TZID=America/New_York:20191015T200000
DTSTAMP:20260423T203153
CREATED:20190502T155442Z
LAST-MODIFIED:20190502T155442Z
UID:5940-1571162400-1571169600@www.thecollegefundingcoach.org
SUMMARY:Ben Lippen School
DESCRIPTION:
URL:https://www.thecollegefundingcoach.org/class/ben-lippen-school-2/
LOCATION:Ben Lippen School *Shortess Chapel at CIU\, 7435 Monticello Rd.\, Columbia\, SC\, 29203
CATEGORIES:Classes,Workshops
ATTACH;FMTTYPE=image/jpeg:https://www.thecollegefundingcoach.org/wp-content/uploads/2019/01/Ben-Lippen-School.jpg
GEO:34.0809962;-81.0710318
X-APPLE-STRUCTURED-LOCATION;VALUE=URI;X-ADDRESS=Ben Lippen School *Shortess Chapel at CIU 7435 Monticello Rd. Columbia SC 29203;X-APPLE-RADIUS=500;X-TITLE=7435 Monticello Rd.:geo:-81.0710318,34.0809962
END:VEVENT
BEGIN:VEVENT
DTSTART;TZID=America/New_York:20191010T180000
DTEND;TZID=America/New_York:20191010T200000
DTSTAMP:20260423T203153
CREATED:20190530T201738Z
LAST-MODIFIED:20190530T201806Z
UID:6187-1570730400-1570737600@www.thecollegefundingcoach.org
SUMMARY:Westminster Catawba Christian School
DESCRIPTION:
URL:https://www.thecollegefundingcoach.org/class/westminster-catawba-christian-school/
LOCATION:Westminster Catawba Christian School\, 2650 India Hook Rd.\, Rock Hill\, SC\, 29732
CATEGORIES:Classes,Workshops
ATTACH;FMTTYPE=image/png:https://www.thecollegefundingcoach.org/wp-content/uploads/2019/05/Westminster-Catawba-Christian-School.png
GEO:34.9789894;-81.022387
X-APPLE-STRUCTURED-LOCATION;VALUE=URI;X-ADDRESS=Westminster Catawba Christian School 2650 India Hook Rd. Rock Hill SC 29732;X-APPLE-RADIUS=500;X-TITLE=2650 India Hook Rd.:geo:-81.022387,34.9789894
END:VEVENT
BEGIN:VEVENT
DTSTART;TZID=America/New_York:20191009T180000
DTEND;TZID=America/New_York:20191009T200000
DTSTAMP:20260423T203153
CREATED:20190430T122045Z
LAST-MODIFIED:20190430T122045Z
UID:5926-1570644000-1570651200@www.thecollegefundingcoach.org
SUMMARY:Walter G. Byers Elementary
DESCRIPTION:
URL:https://www.thecollegefundingcoach.org/class/walter-g-byers-elementary/
LOCATION:Walter G. Byers Elementary\, 1415 Hamilton St.\, Charlotte\, NC\, 28206
CATEGORIES:Classes,Workshops
ATTACH;FMTTYPE=image/png:https://www.thecollegefundingcoach.org/wp-content/uploads/2019/04/Walter-G.-Byers-Elementary.png
GEO:35.2439448;-80.8414549
X-APPLE-STRUCTURED-LOCATION;VALUE=URI;X-ADDRESS=Walter G. Byers Elementary 1415 Hamilton St. Charlotte NC 28206;X-APPLE-RADIUS=500;X-TITLE=1415 Hamilton St.:geo:-80.8414549,35.2439448
END:VEVENT
BEGIN:VEVENT
DTSTART;TZID=America/New_York:20191008T183000
DTEND;TZID=America/New_York:20191008T203000
DTSTAMP:20260423T203153
CREATED:20190621T084925Z
LAST-MODIFIED:20190621T084925Z
UID:6382-1570559400-1570566600@www.thecollegefundingcoach.org
SUMMARY:Stowe Family YMCA
DESCRIPTION:
URL:https://www.thecollegefundingcoach.org/class/stowe-family-ymca/
LOCATION:Stowe Family YMCA\, 196 YMCA Dr.\, Belmont\, North Carolina\, 28012
CATEGORIES:Classes,Workshops
ATTACH;FMTTYPE=image/png:https://www.thecollegefundingcoach.org/wp-content/uploads/2019/05/YMCA.png
GEO:35.2631821;-81.0196492
X-APPLE-STRUCTURED-LOCATION;VALUE=URI;X-ADDRESS=Stowe Family YMCA 196 YMCA Dr. Belmont North Carolina 28012;X-APPLE-RADIUS=500;X-TITLE=196 YMCA Dr.:geo:-81.0196492,35.2631821
END:VEVENT
BEGIN:VEVENT
DTSTART;TZID=America/New_York:20191003T180000
DTEND;TZID=America/New_York:20191003T200000
DTSTAMP:20260423T203153
CREATED:20190710T163148Z
LAST-MODIFIED:20190717T200838Z
UID:6480-1570125600-1570132800@www.thecollegefundingcoach.org
SUMMARY:Northern Guilford Schools
DESCRIPTION:
URL:https://www.thecollegefundingcoach.org/class/northern-guilford-schools/
LOCATION:Northern Guilford High School Auditorium\, 7101 Spencer-Dixon Rd\, Greensboro\, NC\, 27455
CATEGORIES:Classes,Workshops
ATTACH;FMTTYPE=image/png:https://www.thecollegefundingcoach.org/wp-content/uploads/2019/07/Northern-Guilford-Schools.png
GEO:36.208122;-79.8056999
X-APPLE-STRUCTURED-LOCATION;VALUE=URI;X-ADDRESS=Northern Guilford High School Auditorium 7101 Spencer-Dixon Rd Greensboro NC 27455;X-APPLE-RADIUS=500;X-TITLE=7101 Spencer-Dixon Rd:geo:-79.8056999,36.208122
END:VEVENT
BEGIN:VEVENT
DTSTART;TZID=America/New_York:20191002T190000
DTEND;TZID=America/New_York:20191002T210000
DTSTAMP:20260423T203153
CREATED:20190916T185912Z
LAST-MODIFIED:20190927T142612Z
UID:7119-1570042800-1570050000@www.thecollegefundingcoach.org
SUMMARY:Weddington High School
DESCRIPTION:
URL:https://www.thecollegefundingcoach.org/class/weddington-high-school/
LOCATION:Weddington High School\, 4901 Monroe Weddington Road\, Matthews\, NC\, 28104
CATEGORIES:Classes,Workshops
ATTACH;FMTTYPE=image/png:https://www.thecollegefundingcoach.org/wp-content/uploads/2019/09/Weddington-High-School.png
GEO:35.0013626;-80.7254263
X-APPLE-STRUCTURED-LOCATION;VALUE=URI;X-ADDRESS=Weddington High School 4901 Monroe Weddington Road Matthews NC 28104;X-APPLE-RADIUS=500;X-TITLE=4901 Monroe Weddington Road:geo:-80.7254263,35.0013626
END:VEVENT
BEGIN:VEVENT
DTSTART;TZID=America/New_York:20191001T183000
DTEND;TZID=America/New_York:20191001T203000
DTSTAMP:20260423T203153
CREATED:20171129T172746Z
LAST-MODIFIED:20190814T205219Z
UID:3492-1569954600-1569961800@www.thecollegefundingcoach.org
SUMMARY:Greenville Classical Academy
DESCRIPTION:
URL:https://www.thecollegefundingcoach.org/class/greenville-classical-academy/
LOCATION:Greenville Classical Academy\, 2519 Woodruff Rd.\, Simpsonville\, SC\, 29681
CATEGORIES:Classes,Workshops
ATTACH;FMTTYPE=image/png:https://www.thecollegefundingcoach.org/wp-content/uploads/2017/11/Greenville-Classical-Academy.png
GEO:34.8100287;-82.2373203
X-APPLE-STRUCTURED-LOCATION;VALUE=URI;X-ADDRESS=Greenville Classical Academy 2519 Woodruff Rd. Simpsonville SC 29681;X-APPLE-RADIUS=500;X-TITLE=2519 Woodruff Rd.:geo:-82.2373203,34.8100287
END:VEVENT
BEGIN:VEVENT
DTSTART;TZID=America/New_York:20190925T183000
DTEND;TZID=America/New_York:20190925T203000
DTSTAMP:20260423T203153
CREATED:20190807T205326Z
LAST-MODIFIED:20190807T205405Z
UID:6696-1569436200-1569443400@www.thecollegefundingcoach.org
SUMMARY:Westchester Country Day School
DESCRIPTION:
URL:https://www.thecollegefundingcoach.org/class/westchester-country-day-school/
LOCATION:Westchester Country Day School\, 2045 N Old Greensboro Road\, High Point\, NC\, 27265
CATEGORIES:Classes,Workshops
ATTACH;FMTTYPE=image/png:https://www.thecollegefundingcoach.org/wp-content/uploads/2019/08/Westchester-County-Day-School.png
GEO:35.9737194;-80.0886747
X-APPLE-STRUCTURED-LOCATION;VALUE=URI;X-ADDRESS=Westchester Country Day School 2045 N Old Greensboro Road High Point NC 27265;X-APPLE-RADIUS=500;X-TITLE=2045 N Old Greensboro Road:geo:-80.0886747,35.9737194
END:VEVENT
BEGIN:VEVENT
DTSTART;TZID=America/New_York:20190924T090000
DTEND;TZID=America/New_York:20190924T110000
DTSTAMP:20260423T203153
CREATED:20190515T154245Z
LAST-MODIFIED:20190515T154245Z
UID:6050-1569315600-1569322800@www.thecollegefundingcoach.org
SUMMARY:Northeast Middle School
DESCRIPTION:
URL:https://www.thecollegefundingcoach.org/class/northeast-middle-school/
LOCATION:Northeast Middle School\, 5960 Brickstone Dr.\, Charlotte\, NC\, 28227
CATEGORIES:Classes,Workshops
ATTACH;FMTTYPE=image/png:https://www.thecollegefundingcoach.org/wp-content/uploads/2019/05/Northeast-Middle-School.png
GEO:35.198088;-80.691912
X-APPLE-STRUCTURED-LOCATION;VALUE=URI;X-ADDRESS=Northeast Middle School 5960 Brickstone Dr. Charlotte NC 28227;X-APPLE-RADIUS=500;X-TITLE=5960 Brickstone Dr.:geo:-80.691912,35.198088
END:VEVENT
BEGIN:VEVENT
DTSTART;TZID=America/New_York:20190919T183000
DTEND;TZID=America/New_York:20190919T203000
DTSTAMP:20260423T203153
CREATED:20190806T180430Z
LAST-MODIFIED:20190809T204646Z
UID:6675-1568917800-1568925000@www.thecollegefundingcoach.org
SUMMARY:Thales Academy
DESCRIPTION:
URL:https://www.thecollegefundingcoach.org/class/thales-academy/
LOCATION:Thales Academy\, 1201 Granite Falls Blvd.\, Rolesville\, NC\, 27571
CATEGORIES:Classes,Workshops
ATTACH;FMTTYPE=image/png:https://www.thecollegefundingcoach.org/wp-content/uploads/2019/08/Thales-Academy.png
GEO:35.9182906;-78.4704879
X-APPLE-STRUCTURED-LOCATION;VALUE=URI;X-ADDRESS=Thales Academy 1201 Granite Falls Blvd. Rolesville NC 27571;X-APPLE-RADIUS=500;X-TITLE=1201 Granite Falls Blvd.:geo:-78.4704879,35.9182906
END:VEVENT
BEGIN:VEVENT
DTSTART;TZID=America/New_York:20190919T173000
DTEND;TZID=America/New_York:20190919T190000
DTSTAMP:20260423T203153
CREATED:20190403T212114Z
LAST-MODIFIED:20190821T161716Z
UID:5780-1568914200-1568919600@www.thecollegefundingcoach.org
SUMMARY:E.L. Wright Middle School
DESCRIPTION:
URL:https://www.thecollegefundingcoach.org/class/e-l-wright-middle-school/
LOCATION:E.L. Wright Middle School\, 2740 Alpine Rd.\, Columbia\, SC\, 29223
CATEGORIES:Classes,Workshops
ATTACH;FMTTYPE=image/png:https://www.thecollegefundingcoach.org/wp-content/uploads/2019/04/EL-Wright-MS.png
GEO:34.0835066;-80.9258422
X-APPLE-STRUCTURED-LOCATION;VALUE=URI;X-ADDRESS=E.L. Wright Middle School 2740 Alpine Rd. Columbia SC 29223;X-APPLE-RADIUS=500;X-TITLE=2740 Alpine Rd.:geo:-80.9258422,34.0835066
END:VEVENT
BEGIN:VEVENT
DTSTART;TZID=America/New_York:20190912T180000
DTEND;TZID=America/New_York:20190912T193000
DTSTAMP:20260423T203153
CREATED:20190403T211608Z
LAST-MODIFIED:20190821T161509Z
UID:5779-1568311200-1568316600@www.thecollegefundingcoach.org
SUMMARY:Spring Valley High School
DESCRIPTION:
URL:https://www.thecollegefundingcoach.org/class/spring-valley-high-school/
LOCATION:Spring Valley High School\, 120 Sparkleberry Ln.\, Columbia\, SC\, 29229
CATEGORIES:Classes,Workshops
ATTACH;FMTTYPE=image/png:https://www.thecollegefundingcoach.org/wp-content/uploads/2019/04/SPring-Valley.png
GEO:34.111005;-80.882582
X-APPLE-STRUCTURED-LOCATION;VALUE=URI;X-ADDRESS=Spring Valley High School 120 Sparkleberry Ln. Columbia SC 29229;X-APPLE-RADIUS=500;X-TITLE=120 Sparkleberry Ln.:geo:-80.882582,34.111005
END:VEVENT
BEGIN:VEVENT
DTSTART;TZID=America/New_York:20190905T183000
DTEND;TZID=America/New_York:20190905T203000
DTSTAMP:20260423T203153
CREATED:20190618T161328Z
LAST-MODIFIED:20190827T203213Z
UID:6324-1567708200-1567715400@www.thecollegefundingcoach.org
SUMMARY:UCED & Cuthbertson Middle School
DESCRIPTION:
URL:https://www.thecollegefundingcoach.org/class/cuthbertson-middle-school/
LOCATION:Cuthbertson Middle School\, 1520 Cuthbertson Rd.\, Waxhaw\, NC\, 28173
CATEGORIES:Classes,Workshops
ATTACH;FMTTYPE=image/png:https://www.thecollegefundingcoach.org/wp-content/uploads/2019/06/Cuthbertson-Middle-School.png
GEO:34.9739945;-80.7407507
X-APPLE-STRUCTURED-LOCATION;VALUE=URI;X-ADDRESS=Cuthbertson Middle School 1520 Cuthbertson Rd. Waxhaw NC 28173;X-APPLE-RADIUS=500;X-TITLE=1520 Cuthbertson Rd.:geo:-80.7407507,34.9739945
END:VEVENT
BEGIN:VEVENT
DTSTART;TZID=America/New_York:20190618T130000
DTEND;TZID=America/New_York:20190618T150000
DTSTAMP:20260423T203153
CREATED:20190409T154243Z
LAST-MODIFIED:20190409T154243Z
UID:5871-1560862800-1560870000@www.thecollegefundingcoach.org
SUMMARY:Spring Valley High School: Gear Up! Summer Program
DESCRIPTION:
URL:https://www.thecollegefundingcoach.org/class/spring-valley-high-school-gear-up-summer-program/
LOCATION:Spring Valley High School\, 120 Sparkleberry Ln.\, Columbia\, SC\, 29229
CATEGORIES:Classes,Workshops
ATTACH;FMTTYPE=image/png:https://www.thecollegefundingcoach.org/wp-content/uploads/2019/04/Spring-Valley-HS.png
GEO:34.111005;-80.882582
X-APPLE-STRUCTURED-LOCATION;VALUE=URI;X-ADDRESS=Spring Valley High School 120 Sparkleberry Ln. Columbia SC 29229;X-APPLE-RADIUS=500;X-TITLE=120 Sparkleberry Ln.:geo:-80.882582,34.111005
END:VEVENT
BEGIN:VEVENT
DTSTART;TZID=America/New_York:20190529T183000
DTEND;TZID=America/New_York:20190529T203000
DTSTAMP:20260423T203153
CREATED:20190502T182113Z
LAST-MODIFIED:20190502T182113Z
UID:5942-1559154600-1559161800@www.thecollegefundingcoach.org
SUMMARY:Harris YMCA
DESCRIPTION:
URL:https://www.thecollegefundingcoach.org/class/harris-ymca/
LOCATION:Harris YMCA\, 5900 Quail Hollow Rd.\, Charlotte\, NC\, 28210
CATEGORIES:Classes,Workshops
ATTACH;FMTTYPE=image/png:https://www.thecollegefundingcoach.org/wp-content/uploads/2019/05/Harris-YMCA.png
GEO:35.1322012;-80.8396818
X-APPLE-STRUCTURED-LOCATION;VALUE=URI;X-ADDRESS=Harris YMCA 5900 Quail Hollow Rd. Charlotte NC 28210;X-APPLE-RADIUS=500;X-TITLE=5900 Quail Hollow Rd.:geo:-80.8396818,35.1322012
END:VEVENT
END:VCALENDAR