BEGIN:VCALENDAR
VERSION:2.0
PRODID:-//The College Funding Coach - ECPv6.15.17//NONSGML v1.0//EN
CALSCALE:GREGORIAN
METHOD:PUBLISH
X-ORIGINAL-URL:https://www.thecollegefundingcoach.org
X-WR-CALDESC:Events for The College Funding Coach
REFRESH-INTERVAL;VALUE=DURATION:PT1H
X-Robots-Tag:noindex
X-PUBLISHED-TTL:PT1H
BEGIN:VTIMEZONE
TZID:America/Los_Angeles
BEGIN:DAYLIGHT
TZOFFSETFROM:-0800
TZOFFSETTO:-0700
TZNAME:PDT
DTSTART:20190310T100000
END:DAYLIGHT
BEGIN:STANDARD
TZOFFSETFROM:-0700
TZOFFSETTO:-0800
TZNAME:PST
DTSTART:20191103T090000
END:STANDARD
BEGIN:DAYLIGHT
TZOFFSETFROM:-0800
TZOFFSETTO:-0700
TZNAME:PDT
DTSTART:20200308T100000
END:DAYLIGHT
BEGIN:STANDARD
TZOFFSETFROM:-0700
TZOFFSETTO:-0800
TZNAME:PST
DTSTART:20201101T090000
END:STANDARD
BEGIN:DAYLIGHT
TZOFFSETFROM:-0800
TZOFFSETTO:-0700
TZNAME:PDT
DTSTART:20210314T100000
END:DAYLIGHT
BEGIN:STANDARD
TZOFFSETFROM:-0700
TZOFFSETTO:-0800
TZNAME:PST
DTSTART:20211107T090000
END:STANDARD
END:VTIMEZONE
BEGIN:VEVENT
DTSTART;TZID=America/Los_Angeles:20200616T190000
DTEND;TZID=America/Los_Angeles:20200616T200000
DTSTAMP:20260425T081759
CREATED:20200512T133549Z
LAST-MODIFIED:20200616T202435Z
UID:9368-1592334000-1592337600@www.thecollegefundingcoach.org
SUMMARY:Portland Area Webinar
DESCRIPTION:Join us live\, from the comfort of your home.\n\nFor many families\, the high cost of higher education is a daunting proposition. Whether your child is going into college this year\, or is several years from college\, this class is designed to help you figure out HOW to pay for college.Strategies to attend private universities for the same out of pocket cost as in-state schools. \n\nEffective ways to simultaneously save AND pay for college.\nUnique strategies to pay for multiple children attending college at the same time.\nAn insider’s view of the college admissions process.\nHow to recapture out of pocket college costs.\nAvoid jeopardizing your retirement nest egg.\n\nThrough our nationally renowned educational workshop learn how to send your kids to college without going broke!
URL:https://www.thecollegefundingcoach.org/class/portland-area-middle-schools/
LOCATION:Zoom
CATEGORIES:Classes,Webinar,Workshops
ATTACH;FMTTYPE=image/png:https://www.thecollegefundingcoach.org/wp-content/uploads/2020/05/PIGGY_WEBINAR_LKS.png
END:VEVENT
BEGIN:VEVENT
DTSTART;TZID=America/Los_Angeles:20200519T190000
DTEND;TZID=America/Los_Angeles:20200519T200000
DTSTAMP:20260425T081759
CREATED:20200504T150355Z
LAST-MODIFIED:20200506T173438Z
UID:9310-1589914800-1589918400@www.thecollegefundingcoach.org
SUMMARY:Portland Area Webinar: Little-Known Secrets of Paying for College
DESCRIPTION:Join us live\, from the comfort of your home.\n\nFor many families\, the high cost of higher education is a daunting proposition. Whether your child is going into college this year\, or is several years from college\, this class is designed to help you figure out HOW to pay for college.Strategies to attend private universities for the same out of pocket cost as in-state schools. \n\nEffective ways to simultaneously save AND pay for college.\nUnique strategies to pay for multiple children attending college at the same time.\nAn insider’s view of the college admissions process.\nHow to recapture out of pocket college costs.\nAvoid jeopardizing your retirement nest egg.\n\nThrough our nationally renowned educational workshop learn how to send your kids to college without going broke!
URL:https://www.thecollegefundingcoach.org/class/portland-area-webinar/
LOCATION:Zoom
CATEGORIES:Classes,Webinar,Workshops
ATTACH;FMTTYPE=image/png:https://www.thecollegefundingcoach.org/wp-content/uploads/2020/05/PIGGY_WEBINAR_LKS.png
END:VEVENT
END:VCALENDAR