BEGIN:VCALENDAR
VERSION:2.0
PRODID:-//The College Funding Coach - ECPv6.15.17//NONSGML v1.0//EN
CALSCALE:GREGORIAN
METHOD:PUBLISH
X-ORIGINAL-URL:https://www.thecollegefundingcoach.org
X-WR-CALDESC:Events for The College Funding Coach
REFRESH-INTERVAL;VALUE=DURATION:PT1H
X-Robots-Tag:noindex
X-PUBLISHED-TTL:PT1H
BEGIN:VTIMEZONE
TZID:America/New_York
BEGIN:DAYLIGHT
TZOFFSETFROM:-0500
TZOFFSETTO:-0400
TZNAME:EDT
DTSTART:20230312T070000
END:DAYLIGHT
BEGIN:STANDARD
TZOFFSETFROM:-0400
TZOFFSETTO:-0500
TZNAME:EST
DTSTART:20231105T060000
END:STANDARD
BEGIN:DAYLIGHT
TZOFFSETFROM:-0500
TZOFFSETTO:-0400
TZNAME:EDT
DTSTART:20240310T070000
END:DAYLIGHT
BEGIN:STANDARD
TZOFFSETFROM:-0400
TZOFFSETTO:-0500
TZNAME:EST
DTSTART:20241103T060000
END:STANDARD
BEGIN:DAYLIGHT
TZOFFSETFROM:-0500
TZOFFSETTO:-0400
TZNAME:EDT
DTSTART:20250309T070000
END:DAYLIGHT
BEGIN:STANDARD
TZOFFSETFROM:-0400
TZOFFSETTO:-0500
TZNAME:EST
DTSTART:20251102T060000
END:STANDARD
BEGIN:DAYLIGHT
TZOFFSETFROM:-0500
TZOFFSETTO:-0400
TZNAME:EDT
DTSTART:20260308T070000
END:DAYLIGHT
BEGIN:STANDARD
TZOFFSETFROM:-0400
TZOFFSETTO:-0500
TZNAME:EST
DTSTART:20261101T060000
END:STANDARD
END:VTIMEZONE
BEGIN:VEVENT
DTSTART;TZID=America/New_York:20250122T190000
DTEND;TZID=America/New_York:20250122T203000
DTSTAMP:20260420T225930
CREATED:20240322T200027Z
LAST-MODIFIED:20250117T125024Z
UID:17730-1737572400-1737577800@www.thecollegefundingcoach.org
SUMMARY:Landisville Middle School and Centerville Middle School
DESCRIPTION:For many families\, the high cost of higher education is a daunting proposition. Parents lie awake at night trying to figure out how to afford sending their children to college and still have enough of their hard-earned money to retire one day. Some families have children attending college next year and others have 12 years to plan; but the fears of tackling these monumental and rising costs are the same. The College Funding Coach® is here to help families figure out HOW to pay for it! Through our educational workshop\, Little-Known Secrets of Paying for College parents can expect to learn the following: \n\nCollege funding strategies for parents with students who DO and DO NOT qualify for financial aid\nStrategies for parents who are looking to fund their student’s college education without destroying their plans and dreams for retirement\nThe 13 most popular college funding financial vehicles explained and debunked\nHow to implement strategies that may allow students to attend out-of-state or private colleges for a lower cost than attending an in-state public\nWays to maximize and increase financial aid eligibility\n…and so much more
URL:https://www.thecollegefundingcoach.org/class/landisville-middle-school-and-centerville-middle-school/
LOCATION:Zoom – PA\, PA
CATEGORIES:Classes,Webinar,Workshops
ATTACH;FMTTYPE=image/png:https://www.thecollegefundingcoach.org/wp-content/uploads/2020/05/PIGGY_WEBINAR_LKS.png
GEO:41.2033216;-77.1945247
END:VEVENT
BEGIN:VEVENT
DTSTART;TZID=America/New_York:20241106T180000
DTEND;TZID=America/New_York:20241106T193000
DTSTAMP:20260420T225930
CREATED:20241011T180608Z
LAST-MODIFIED:20241011T180844Z
UID:18746-1730916000-1730921400@www.thecollegefundingcoach.org
SUMMARY:Wallenpaupack Area High School
DESCRIPTION:
URL:https://www.thecollegefundingcoach.org/class/wallenpaupack-area-high-school/
LOCATION:Wallenpaupack Area High School\, U.S. 6\, Hawley\, PA\, 18428\, United States
CATEGORIES:Classes,IN-PERSON/ON-SITE WORKSHOP,Workshops
ATTACH;FMTTYPE=image/png:https://www.thecollegefundingcoach.org/wp-content/uploads/2024/10/Wallenpaupack-Area-High-School.png
GEO:41.4551186;-75.1823394
X-APPLE-STRUCTURED-LOCATION;VALUE=URI;X-ADDRESS=Wallenpaupack Area High School U.S. 6 Hawley PA 18428 United States;X-APPLE-RADIUS=500;X-TITLE=U.S. 6:geo:-75.1823394,41.4551186
END:VEVENT
BEGIN:VEVENT
DTSTART;TZID=America/New_York:20241003T180000
DTEND;TZID=America/New_York:20241003T193000
DTSTAMP:20260420T225930
CREATED:20240923T151936Z
LAST-MODIFIED:20240923T151936Z
UID:18609-1727978400-1727983800@www.thecollegefundingcoach.org
SUMMARY:Pocono Mountain High Schools: East/West/Cyber
DESCRIPTION:For many families\, the high cost of higher education is a daunting proposition. Parents lie awake at night trying to figure out how to afford sending their children to college and still have enough of their hard-earned money to retire one day. Some families have children attending college next year and others have 12 years to plan; but the fears of tackling these monumental and rising costs are the same. The College Funding Coach® is here to help families figure out HOW to pay for it! Through our educational workshop\, Little-Known Secrets of Paying for College parents can expect to learn the following: \n\nCollege funding strategies for parents with students who DO and DO NOT qualify for financial aid\nStrategies for parents who are looking to fund their student’s college education without destroying their plans and dreams for retirement\nThe 13 most popular college funding financial vehicles explained and debunked\nHow to implement strategies that may allow students to attend out-of-state or private colleges for a lower cost than attending an in-state public\nWays to maximize and increase financial aid eligibility\n…and so much more
URL:https://www.thecollegefundingcoach.org/class/pocono-mountain-high-schools-east-west-cyber/
LOCATION:Zoom – PA\, PA
CATEGORIES:Classes,Webinar,Workshops
ATTACH;FMTTYPE=image/png:https://www.thecollegefundingcoach.org/wp-content/uploads/2024/09/Pocono-Mountain-High-Schools.png
GEO:41.2033216;-77.1945247
END:VEVENT
BEGIN:VEVENT
DTSTART;TZID=America/New_York:20240429T183000
DTEND;TZID=America/New_York:20240429T200000
DTSTAMP:20260420T225930
CREATED:20240409T153622Z
LAST-MODIFIED:20240409T153622Z
UID:17793-1714415400-1714420800@www.thecollegefundingcoach.org
SUMMARY:Pocono Mountain East High School
DESCRIPTION:For many families\, the high cost of higher education is a daunting proposition. Parents lie awake at night trying to figure out how to afford sending their children to college and still have enough of their hard-earned money to retire one day. Some families have children attending college next year and others have 12 years to plan; but the fears of tackling these monumental and rising costs are the same. The College Funding Coach® is here to help families figure out HOW to pay for it! Through our educational workshop\, Little-Known Secrets of Paying for College parents can expect to learn the following: \n\nCollege funding strategies for parents with students who DO and DO NOT qualify for financial aid\nStrategies for parents who are looking to fund their student’s college education without destroying their plans and dreams for retirement\nThe 13 most popular college funding financial vehicles explained and debunked\nHow to implement strategies that may allow students to attend out-of-state or private colleges for a lower cost than attending an in-state public\nWays to maximize and increase financial aid eligibility\n…and so much more
URL:https://www.thecollegefundingcoach.org/class/pocono-mountain-east-high-school/
LOCATION:Zoom – PA\, PA
CATEGORIES:Classes,Webinar,Workshops
ATTACH;FMTTYPE=image/png:https://www.thecollegefundingcoach.org/wp-content/uploads/2024/04/Pocono-Mountain-East-High-School.png
GEO:41.2033216;-77.1945247
END:VEVENT
BEGIN:VEVENT
DTSTART;TZID=America/New_York:20240425T183000
DTEND;TZID=America/New_York:20240425T200000
DTSTAMP:20260420T225930
CREATED:20240409T153231Z
LAST-MODIFIED:20240409T153231Z
UID:17790-1714069800-1714075200@www.thecollegefundingcoach.org
SUMMARY:Pocono Mountain West High School
DESCRIPTION:For many families\, the high cost of higher education is a daunting proposition. Parents lie awake at night trying to figure out how to afford sending their children to college and still have enough of their hard-earned money to retire one day. Some families have children attending college next year and others have 12 years to plan; but the fears of tackling these monumental and rising costs are the same. The College Funding Coach® is here to help families figure out HOW to pay for it! Through our educational workshop\, Little-Known Secrets of Paying for College parents can expect to learn the following: \n\nCollege funding strategies for parents with students who DO and DO NOT qualify for financial aid\nStrategies for parents who are looking to fund their student’s college education without destroying their plans and dreams for retirement\nThe 13 most popular college funding financial vehicles explained and debunked\nHow to implement strategies that may allow students to attend out-of-state or private colleges for a lower cost than attending an in-state public\nWays to maximize and increase financial aid eligibility\n…and so much more
URL:https://www.thecollegefundingcoach.org/class/pocono-mountain-west-high-school/
LOCATION:Zoom – PA\, PA
CATEGORIES:Classes,Webinar,Workshops
ATTACH;FMTTYPE=image/png:https://www.thecollegefundingcoach.org/wp-content/uploads/2024/04/Pocono-Mountain-West-High-School.png
GEO:41.2033216;-77.1945247
END:VEVENT
BEGIN:VEVENT
DTSTART;TZID=America/New_York:20240307T190000
DTEND;TZID=America/New_York:20240307T203000
DTSTAMP:20260420T225930
CREATED:20240115T211000Z
LAST-MODIFIED:20240226T191057Z
UID:17418-1709838000-1709843400@www.thecollegefundingcoach.org
SUMMARY:A Starting Line
DESCRIPTION:For many families\, the high cost of higher education is a daunting proposition. Parents lie awake at night trying to figure out how to afford sending their children to college and still have enough of their hard-earned money to retire one day. Some families have children attending college next year and others have 12 years to plan; but the fears of tackling these monumental and rising costs are the same. The College Funding Coach® is here to help families figure out HOW to pay for it! Through our educational workshop\, Little-Known Secrets of Paying for College parents can expect to learn the following: \n\nCollege funding strategies for parents with students who DO and DO NOT qualify for financial aid\nStrategies for parents who are looking to fund their student’s college education without destroying their plans and dreams for retirement\nThe 13 most popular college funding financial vehicles explained and debunked\nHow to implement strategies that may allow students to attend out-of-state or private colleges for a lower cost than attending an in-state public\nWays to maximize and increase financial aid eligibility\n…and so much more
URL:https://www.thecollegefundingcoach.org/class/a-starting-line/
LOCATION:Zoom – MA\, MA
CATEGORIES:Classes,Webinar,Workshops
ATTACH;FMTTYPE=image/png:https://www.thecollegefundingcoach.org/wp-content/uploads/2024/01/A-Starting-Line.png
END:VEVENT
END:VCALENDAR