BEGIN:VCALENDAR
VERSION:2.0
PRODID:-//The College Funding Coach - ECPv6.15.17//NONSGML v1.0//EN
CALSCALE:GREGORIAN
METHOD:PUBLISH
X-WR-CALNAME:The College Funding Coach
X-ORIGINAL-URL:https://www.thecollegefundingcoach.org
X-WR-CALDESC:Events for The College Funding Coach
REFRESH-INTERVAL;VALUE=DURATION:PT1H
X-Robots-Tag:noindex
X-PUBLISHED-TTL:PT1H
BEGIN:VTIMEZONE
TZID:America/New_York
BEGIN:DAYLIGHT
TZOFFSETFROM:-0500
TZOFFSETTO:-0400
TZNAME:EDT
DTSTART:20230312T070000
END:DAYLIGHT
BEGIN:STANDARD
TZOFFSETFROM:-0400
TZOFFSETTO:-0500
TZNAME:EST
DTSTART:20231105T060000
END:STANDARD
BEGIN:DAYLIGHT
TZOFFSETFROM:-0500
TZOFFSETTO:-0400
TZNAME:EDT
DTSTART:20240310T070000
END:DAYLIGHT
BEGIN:STANDARD
TZOFFSETFROM:-0400
TZOFFSETTO:-0500
TZNAME:EST
DTSTART:20241103T060000
END:STANDARD
BEGIN:DAYLIGHT
TZOFFSETFROM:-0500
TZOFFSETTO:-0400
TZNAME:EDT
DTSTART:20250309T070000
END:DAYLIGHT
BEGIN:STANDARD
TZOFFSETFROM:-0400
TZOFFSETTO:-0500
TZNAME:EST
DTSTART:20251102T060000
END:STANDARD
BEGIN:DAYLIGHT
TZOFFSETFROM:-0500
TZOFFSETTO:-0400
TZNAME:EDT
DTSTART:20260308T070000
END:DAYLIGHT
BEGIN:STANDARD
TZOFFSETFROM:-0400
TZOFFSETTO:-0500
TZNAME:EST
DTSTART:20261101T060000
END:STANDARD
END:VTIMEZONE
BEGIN:VTIMEZONE
TZID:America/Los_Angeles
BEGIN:DAYLIGHT
TZOFFSETFROM:-0800
TZOFFSETTO:-0700
TZNAME:PDT
DTSTART:20240310T100000
END:DAYLIGHT
BEGIN:STANDARD
TZOFFSETFROM:-0700
TZOFFSETTO:-0800
TZNAME:PST
DTSTART:20241103T090000
END:STANDARD
BEGIN:DAYLIGHT
TZOFFSETFROM:-0800
TZOFFSETTO:-0700
TZNAME:PDT
DTSTART:20250309T100000
END:DAYLIGHT
BEGIN:STANDARD
TZOFFSETFROM:-0700
TZOFFSETTO:-0800
TZNAME:PST
DTSTART:20251102T090000
END:STANDARD
BEGIN:DAYLIGHT
TZOFFSETFROM:-0800
TZOFFSETTO:-0700
TZNAME:PDT
DTSTART:20260308T100000
END:DAYLIGHT
BEGIN:STANDARD
TZOFFSETFROM:-0700
TZOFFSETTO:-0800
TZNAME:PST
DTSTART:20261101T090000
END:STANDARD
END:VTIMEZONE
BEGIN:VEVENT
DTSTART;TZID=America/New_York:20251030T183000
DTEND;TZID=America/New_York:20251030T200000
DTSTAMP:20260420T205914
CREATED:20251016T182255Z
LAST-MODIFIED:20251016T183454Z
UID:21256-1761849000-1761854400@www.thecollegefundingcoach.org
SUMMARY:The Diocese of Scranton Catholic Schools
DESCRIPTION:For many families\, the high cost of higher education is a daunting proposition. Parents lie awake at night trying to figure out how to afford sending their children to college and still have enough of their hard-earned money to retire one day. Some families have children attending college next year and others have 12 years to plan; but the fears of tackling these monumental and rising costs are the same. The College Funding Coach® is here to help families figure out HOW to pay for it! Through our educational workshop\, Little-Known Secrets of Paying for College parents can expect to learn the following: \n\nCollege funding strategies for parents with students who DO and DO NOT qualify for financial aid\nStrategies for parents who are looking to fund their student’s college education without destroying their plans and dreams for retirement\nThe 13 most popular college funding financial vehicles explained and debunked\nHow to implement strategies that may allow students to attend out-of-state or private colleges for a lower cost than attending an in-state public\nWays to maximize and increase financial aid eligibility\n…and so much more
URL:https://www.thecollegefundingcoach.org/class/the-diocese-of-scranton-catholic-schools/
LOCATION:Zoom – PA\, PA
CATEGORIES:Classes,Webinar,Workshops
ATTACH;FMTTYPE=image/png:https://www.thecollegefundingcoach.org/wp-content/uploads/2025/10/The-Diocese-of-Scranton-Catholic-Schools.png
GEO:41.2033216;-77.1945247
END:VEVENT
BEGIN:VEVENT
DTSTART;TZID=America/New_York:20251016T183000
DTEND;TZID=America/New_York:20251016T200000
DTSTAMP:20260420T205914
CREATED:20250902T181327Z
LAST-MODIFIED:20250902T181327Z
UID:20925-1760639400-1760644800@www.thecollegefundingcoach.org
SUMMARY:Wallenpaupack Area High School
DESCRIPTION:
URL:https://www.thecollegefundingcoach.org/class/wallenpaupack-area-high-school-2/
LOCATION:Wallenpaupack Area High School\, U.S. 6\, Hawley\, PA\, 18428\, United States
CATEGORIES:Classes,IN-PERSON/ON-SITE WORKSHOP,Workshops
ATTACH;FMTTYPE=image/png:https://www.thecollegefundingcoach.org/wp-content/uploads/2024/10/Wallenpaupack-Area-High-School.png
GEO:41.4551186;-75.1823394
X-APPLE-STRUCTURED-LOCATION;VALUE=URI;X-ADDRESS=Wallenpaupack Area High School U.S. 6 Hawley PA 18428 United States;X-APPLE-RADIUS=500;X-TITLE=U.S. 6:geo:-75.1823394,41.4551186
END:VEVENT
BEGIN:VEVENT
DTSTART;TZID=America/New_York:20251002T183000
DTEND;TZID=America/New_York:20251002T200000
DTSTAMP:20260420T205914
CREATED:20250908T190012Z
LAST-MODIFIED:20250908T190012Z
UID:21011-1759429800-1759435200@www.thecollegefundingcoach.org
SUMMARY:Pocono Mountain School District
DESCRIPTION:For many families\, the high cost of higher education is a daunting proposition. Parents lie awake at night trying to figure out how to afford sending their children to college and still have enough of their hard-earned money to retire one day. Some families have children attending college next year and others have 12 years to plan; but the fears of tackling these monumental and rising costs are the same. The College Funding Coach® is here to help families figure out HOW to pay for it! Through our educational workshop\, Little-Known Secrets of Paying for College parents can expect to learn the following: \n\nCollege funding strategies for parents with students who DO and DO NOT qualify for financial aid\nStrategies for parents who are looking to fund their student’s college education without destroying their plans and dreams for retirement\nThe 13 most popular college funding financial vehicles explained and debunked\nHow to implement strategies that may allow students to attend out-of-state or private colleges for a lower cost than attending an in-state public\nWays to maximize and increase financial aid eligibility\n…and so much more
URL:https://www.thecollegefundingcoach.org/class/pocono-mountain-school-district/
LOCATION:Zoom – PA\, PA
CATEGORIES:Classes,Webinar,Workshops
ATTACH;FMTTYPE=image/png:https://www.thecollegefundingcoach.org/wp-content/uploads/2021/04/LKS-PLACEHOLDER.png
GEO:41.2033216;-77.1945247
END:VEVENT
BEGIN:VEVENT
DTSTART;TZID=America/New_York:20250925T183000
DTEND;TZID=America/New_York:20250925T200000
DTSTAMP:20260420T205914
CREATED:20250902T175414Z
LAST-MODIFIED:20250904T140352Z
UID:20923-1758825000-1758830400@www.thecollegefundingcoach.org
SUMMARY:Honesdale High School
DESCRIPTION:For many families\, the high cost of higher education is a daunting proposition. Parents lie awake at night trying to figure out how to afford sending their children to college and still have enough of their hard-earned money to retire one day. Some families have children attending college next year and others have 12 years to plan; but the fears of tackling these monumental and rising costs are the same. The College Funding Coach® is here to help families figure out HOW to pay for it! Through our educational workshop\, Little-Known Secrets of Paying for College parents can expect to learn the following: \n\nCollege funding strategies for parents with students who DO and DO NOT qualify for financial aid\nStrategies for parents who are looking to fund their student’s college education without destroying their plans and dreams for retirement\nThe 13 most popular college funding financial vehicles explained and debunked\nHow to implement strategies that may allow students to attend out-of-state or private colleges for a lower cost than attending an in-state public\nWays to maximize and increase financial aid eligibility\n…and so much more
URL:https://www.thecollegefundingcoach.org/class/honesdale-high-school/
LOCATION:Zoom – PA\, PA
CATEGORIES:Classes,Webinar,Workshops
ATTACH;FMTTYPE=image/png:https://www.thecollegefundingcoach.org/wp-content/uploads/2025/09/Honesdale.png
GEO:41.2033216;-77.1945247
END:VEVENT
BEGIN:VEVENT
DTSTART;TZID=America/Los_Angeles:20250925T180000
DTEND;TZID=America/Los_Angeles:20250925T193000
DTSTAMP:20260420T205914
CREATED:20250821T162229Z
LAST-MODIFIED:20250828T112505Z
UID:20819-1758823200-1758828600@www.thecollegefundingcoach.org
SUMMARY:Pinecrest Academy Cadence
DESCRIPTION:For many families\, the high cost of higher education is a daunting proposition. Parents lie awake at night trying to figure out how to afford sending their children to college and still have enough of their hard-earned money to retire one day. Some families have children attending college next year and others have 12 years to plan; but the fears of tackling these monumental and rising costs are the same. The College Funding Coach® is here to help families figure out HOW to pay for it! Through our educational workshop\, Little-Known Secrets of Paying for College parents can expect to learn the following: \n\nCollege funding strategies for parents with students who DO and DO NOT qualify for financial aid\nStrategies for parents who are looking to fund their student’s college education without destroying their plans and dreams for retirement\nThe 13 most popular college funding financial vehicles explained and debunked\nHow to implement strategies that may allow students to attend out-of-state or private colleges for a lower cost than attending an in-state public\nWays to maximize and increase financial aid eligibility\n…and so much more
URL:https://www.thecollegefundingcoach.org/class/pinecrest-academy-cadence/
LOCATION:Zoom – NV\, Nevada\, United States
CATEGORIES:Classes,Webinar,Workshops
ATTACH;FMTTYPE=image/png:https://www.thecollegefundingcoach.org/wp-content/uploads/2025/08/Pinecrest-Academy-Cadence.png
GEO:38.8026097;-116.419389
END:VEVENT
BEGIN:VEVENT
DTSTART;TZID=America/New_York:20250918T190000
DTEND;TZID=America/New_York:20250918T203000
DTSTAMP:20260420T205914
CREATED:20250709T163818Z
LAST-MODIFIED:20250916T163510Z
UID:20496-1758222000-1758227400@www.thecollegefundingcoach.org
SUMMARY:Christchurch School
DESCRIPTION:For many families\, the high cost of higher education is a daunting proposition. Parents lie awake at night trying to figure out how to afford sending their children to college and still have enough of their hard-earned money to retire one day. Some families have children attending college next year and others have 12 years to plan; but the fears of tackling these monumental and rising costs are the same. The College Funding Coach® is here to help families figure out HOW to pay for it! Through our educational workshop\, Little-Known Secrets of Paying for College parents can expect to learn the following: \n\nCollege funding strategies for parents with students who DO and DO NOT qualify for financial aid\nStrategies for parents who are looking to fund their student’s college education without destroying their plans and dreams for retirement\nThe 13 most popular college funding financial vehicles explained and debunked\nHow to implement strategies that may allow students to attend out-of-state or private colleges for a lower cost than attending an in-state public\nWays to maximize and increase financial aid eligibility\n…and so much more
URL:https://www.thecollegefundingcoach.org/class/christchurch-school/
LOCATION:Zoom – VA\, VA
CATEGORIES:Classes,Webinar,Workshops
ATTACH;FMTTYPE=image/png:https://www.thecollegefundingcoach.org/wp-content/uploads/2025/07/Christchurch-School-2025_26-Deals-Actions-Christchurch-School.png
END:VEVENT
BEGIN:VEVENT
DTSTART;TZID=America/New_York:20250916T183000
DTEND;TZID=America/New_York:20250916T203000
DTSTAMP:20260420T205914
CREATED:20250902T173716Z
LAST-MODIFIED:20250902T174024Z
UID:20918-1758047400-1758054600@www.thecollegefundingcoach.org
SUMMARY:Holy Redeemer
DESCRIPTION:
URL:https://www.thecollegefundingcoach.org/class/holy-redeemer/
LOCATION:Holy Redeemer High School – Wilkes Barre\, 159 South Pennsylvania Avenue\, Wilkes-Barre\, PA\, 18701\, United States
CATEGORIES:Classes,IN-PERSON/ON-SITE WORKSHOP,Workshops
ATTACH;FMTTYPE=image/png:https://www.thecollegefundingcoach.org/wp-content/uploads/2025/09/Holy-Redeemer.png
GEO:41.2412218;-75.884802
X-APPLE-STRUCTURED-LOCATION;VALUE=URI;X-ADDRESS=Holy Redeemer High School – Wilkes Barre 159 South Pennsylvania Avenue Wilkes-Barre PA 18701 United States;X-APPLE-RADIUS=500;X-TITLE=159 South Pennsylvania Avenue:geo:-75.884802,41.2412218
END:VEVENT
BEGIN:VEVENT
DTSTART;TZID=America/New_York:20250313T120000
DTEND;TZID=America/New_York:20250313T130000
DTSTAMP:20260420T205914
CREATED:20250304T195345Z
LAST-MODIFIED:20250304T195345Z
UID:19633-1741867200-1741870800@www.thecollegefundingcoach.org
SUMMARY:Lunch & Learn - Little-Known Secrets of Paying for College
DESCRIPTION:For many families\, the high cost of higher education is a daunting proposition. Parents lie awake at night trying to figure out how to afford sending their children to college and still have enough of their hard earned money to be able to retire one day. Some families have children attending college next year and others have 12 years to plan; but the fears of tackling these monumental and rising costs are the same. The College Funding Coach® is here to help families figure out HOW to pay for it! Through our educational workshop\, Little-Known Secrets of Paying for College you will learn: \n\nHow to avoid jeopardizing your retirement nest egg!\nEffective ways to simultaneously save AND pay for college\nStrategies to pay for multiple children attending college at the same time\nHow to recapture out of pocket college costs\nAnd much\, much more!
URL:https://www.thecollegefundingcoach.org/class/lunch-n-learn-lks-313/
LOCATION:Zoom – PA\, PA
CATEGORIES:Classes,Webinar,Workshops
ATTACH;FMTTYPE=image/png:https://www.thecollegefundingcoach.org/wp-content/uploads/2021/04/LKS-PLACEHOLDER.png
GEO:41.2033216;-77.1945247
END:VEVENT
BEGIN:VEVENT
DTSTART;TZID=America/New_York:20250219T190000
DTEND;TZID=America/New_York:20250219T200000
DTSTAMP:20260420T205914
CREATED:20250124T221726Z
LAST-MODIFIED:20250528T135625Z
UID:19324-1739991600-1739995200@www.thecollegefundingcoach.org
SUMMARY:TuitionCents 2025: Deciphering Award Letters and Winning Appeals
DESCRIPTION: 
URL:https://www.thecollegefundingcoach.org/class/tuitioncents-2025-understand-your-award-letter/
LOCATION:Zoom
CATEGORIES:Classes,Webinar,Workshops
ATTACH;FMTTYPE=image/png:https://www.thecollegefundingcoach.org/wp-content/uploads/2025/01/2025-TuitionCents-Photowithgold.png
END:VEVENT
BEGIN:VEVENT
DTSTART;TZID=America/New_York:20250205T190000
DTEND;TZID=America/New_York:20250205T203000
DTSTAMP:20260420T205914
CREATED:20241206T192655Z
LAST-MODIFIED:20250204T001327Z
UID:19027-1738782000-1738787400@www.thecollegefundingcoach.org
SUMMARY:Little-Known Secrets of Paying for College - Special Presentation for IEC Families
DESCRIPTION:For many families\, the high cost of higher education is a daunting proposition. Parents lie awake at night trying to figure out how to afford sending their children to college and still have enough of their hard-earned money to retire one day. Some families have children attending college next year and others have 12 years to plan; but the fears of tackling these monumental and rising costs are the same. The College Funding Coach® is here to help families figure out HOW to pay for it! Through our educational workshop\, Little-Known Secrets of Paying for College parents can expect to learn the following: \n\nCollege funding strategies for parents with students who DO and DO NOT qualify for financial aid\nStrategies for parents who are looking to fund their student’s college education without destroying their plans and dreams for retirement\nThe 13 most popular college funding financial vehicles explained and debunked\nHow to implement strategies that may allow students to attend out-of-state or private colleges for a lower cost than attending an in-state public\nWays to maximize and increase financial aid eligibility\n…and so much more
URL:https://www.thecollegefundingcoach.org/class/iec_families/
LOCATION:Zoom
CATEGORIES:Classes,Webinar,Workshops
ATTACH;FMTTYPE=image/png:https://www.thecollegefundingcoach.org/wp-content/uploads/2020/05/PIGGY_WEBINAR_LKS.png
END:VEVENT
BEGIN:VEVENT
DTSTART;TZID=America/New_York:20250122T190000
DTEND;TZID=America/New_York:20250122T203000
DTSTAMP:20260420T205914
CREATED:20240322T200027Z
LAST-MODIFIED:20250117T125024Z
UID:17730-1737572400-1737577800@www.thecollegefundingcoach.org
SUMMARY:Landisville Middle School and Centerville Middle School
DESCRIPTION:For many families\, the high cost of higher education is a daunting proposition. Parents lie awake at night trying to figure out how to afford sending their children to college and still have enough of their hard-earned money to retire one day. Some families have children attending college next year and others have 12 years to plan; but the fears of tackling these monumental and rising costs are the same. The College Funding Coach® is here to help families figure out HOW to pay for it! Through our educational workshop\, Little-Known Secrets of Paying for College parents can expect to learn the following: \n\nCollege funding strategies for parents with students who DO and DO NOT qualify for financial aid\nStrategies for parents who are looking to fund their student’s college education without destroying their plans and dreams for retirement\nThe 13 most popular college funding financial vehicles explained and debunked\nHow to implement strategies that may allow students to attend out-of-state or private colleges for a lower cost than attending an in-state public\nWays to maximize and increase financial aid eligibility\n…and so much more
URL:https://www.thecollegefundingcoach.org/class/landisville-middle-school-and-centerville-middle-school/
LOCATION:Zoom – PA\, PA
CATEGORIES:Classes,Webinar,Workshops
ATTACH;FMTTYPE=image/png:https://www.thecollegefundingcoach.org/wp-content/uploads/2020/05/PIGGY_WEBINAR_LKS.png
GEO:41.2033216;-77.1945247
END:VEVENT
BEGIN:VEVENT
DTSTART;TZID=America/New_York:20241106T180000
DTEND;TZID=America/New_York:20241106T193000
DTSTAMP:20260420T205914
CREATED:20241011T180608Z
LAST-MODIFIED:20241011T180844Z
UID:18746-1730916000-1730921400@www.thecollegefundingcoach.org
SUMMARY:Wallenpaupack Area High School
DESCRIPTION:
URL:https://www.thecollegefundingcoach.org/class/wallenpaupack-area-high-school/
LOCATION:Wallenpaupack Area High School\, U.S. 6\, Hawley\, PA\, 18428\, United States
CATEGORIES:Classes,IN-PERSON/ON-SITE WORKSHOP,Workshops
ATTACH;FMTTYPE=image/png:https://www.thecollegefundingcoach.org/wp-content/uploads/2024/10/Wallenpaupack-Area-High-School.png
GEO:41.4551186;-75.1823394
X-APPLE-STRUCTURED-LOCATION;VALUE=URI;X-ADDRESS=Wallenpaupack Area High School U.S. 6 Hawley PA 18428 United States;X-APPLE-RADIUS=500;X-TITLE=U.S. 6:geo:-75.1823394,41.4551186
END:VEVENT
BEGIN:VEVENT
DTSTART;TZID=America/New_York:20241003T180000
DTEND;TZID=America/New_York:20241003T193000
DTSTAMP:20260420T205914
CREATED:20240923T151936Z
LAST-MODIFIED:20240923T151936Z
UID:18609-1727978400-1727983800@www.thecollegefundingcoach.org
SUMMARY:Pocono Mountain High Schools: East/West/Cyber
DESCRIPTION:For many families\, the high cost of higher education is a daunting proposition. Parents lie awake at night trying to figure out how to afford sending their children to college and still have enough of their hard-earned money to retire one day. Some families have children attending college next year and others have 12 years to plan; but the fears of tackling these monumental and rising costs are the same. The College Funding Coach® is here to help families figure out HOW to pay for it! Through our educational workshop\, Little-Known Secrets of Paying for College parents can expect to learn the following: \n\nCollege funding strategies for parents with students who DO and DO NOT qualify for financial aid\nStrategies for parents who are looking to fund their student’s college education without destroying their plans and dreams for retirement\nThe 13 most popular college funding financial vehicles explained and debunked\nHow to implement strategies that may allow students to attend out-of-state or private colleges for a lower cost than attending an in-state public\nWays to maximize and increase financial aid eligibility\n…and so much more
URL:https://www.thecollegefundingcoach.org/class/pocono-mountain-high-schools-east-west-cyber/
LOCATION:Zoom – PA\, PA
CATEGORIES:Classes,Webinar,Workshops
ATTACH;FMTTYPE=image/png:https://www.thecollegefundingcoach.org/wp-content/uploads/2024/09/Pocono-Mountain-High-Schools.png
GEO:41.2033216;-77.1945247
END:VEVENT
BEGIN:VEVENT
DTSTART;TZID=America/New_York:20240429T183000
DTEND;TZID=America/New_York:20240429T200000
DTSTAMP:20260420T205914
CREATED:20240409T153622Z
LAST-MODIFIED:20240409T153622Z
UID:17793-1714415400-1714420800@www.thecollegefundingcoach.org
SUMMARY:Pocono Mountain East High School
DESCRIPTION:For many families\, the high cost of higher education is a daunting proposition. Parents lie awake at night trying to figure out how to afford sending their children to college and still have enough of their hard-earned money to retire one day. Some families have children attending college next year and others have 12 years to plan; but the fears of tackling these monumental and rising costs are the same. The College Funding Coach® is here to help families figure out HOW to pay for it! Through our educational workshop\, Little-Known Secrets of Paying for College parents can expect to learn the following: \n\nCollege funding strategies for parents with students who DO and DO NOT qualify for financial aid\nStrategies for parents who are looking to fund their student’s college education without destroying their plans and dreams for retirement\nThe 13 most popular college funding financial vehicles explained and debunked\nHow to implement strategies that may allow students to attend out-of-state or private colleges for a lower cost than attending an in-state public\nWays to maximize and increase financial aid eligibility\n…and so much more
URL:https://www.thecollegefundingcoach.org/class/pocono-mountain-east-high-school/
LOCATION:Zoom – PA\, PA
CATEGORIES:Classes,Webinar,Workshops
ATTACH;FMTTYPE=image/png:https://www.thecollegefundingcoach.org/wp-content/uploads/2024/04/Pocono-Mountain-East-High-School.png
GEO:41.2033216;-77.1945247
END:VEVENT
BEGIN:VEVENT
DTSTART;TZID=America/New_York:20240425T183000
DTEND;TZID=America/New_York:20240425T200000
DTSTAMP:20260420T205914
CREATED:20240409T153231Z
LAST-MODIFIED:20240409T153231Z
UID:17790-1714069800-1714075200@www.thecollegefundingcoach.org
SUMMARY:Pocono Mountain West High School
DESCRIPTION:For many families\, the high cost of higher education is a daunting proposition. Parents lie awake at night trying to figure out how to afford sending their children to college and still have enough of their hard-earned money to retire one day. Some families have children attending college next year and others have 12 years to plan; but the fears of tackling these monumental and rising costs are the same. The College Funding Coach® is here to help families figure out HOW to pay for it! Through our educational workshop\, Little-Known Secrets of Paying for College parents can expect to learn the following: \n\nCollege funding strategies for parents with students who DO and DO NOT qualify for financial aid\nStrategies for parents who are looking to fund their student’s college education without destroying their plans and dreams for retirement\nThe 13 most popular college funding financial vehicles explained and debunked\nHow to implement strategies that may allow students to attend out-of-state or private colleges for a lower cost than attending an in-state public\nWays to maximize and increase financial aid eligibility\n…and so much more
URL:https://www.thecollegefundingcoach.org/class/pocono-mountain-west-high-school/
LOCATION:Zoom – PA\, PA
CATEGORIES:Classes,Webinar,Workshops
ATTACH;FMTTYPE=image/png:https://www.thecollegefundingcoach.org/wp-content/uploads/2024/04/Pocono-Mountain-West-High-School.png
GEO:41.2033216;-77.1945247
END:VEVENT
BEGIN:VEVENT
DTSTART;TZID=America/New_York:20240307T190000
DTEND;TZID=America/New_York:20240307T203000
DTSTAMP:20260420T205914
CREATED:20240115T211000Z
LAST-MODIFIED:20240226T191057Z
UID:17418-1709838000-1709843400@www.thecollegefundingcoach.org
SUMMARY:A Starting Line
DESCRIPTION:For many families\, the high cost of higher education is a daunting proposition. Parents lie awake at night trying to figure out how to afford sending their children to college and still have enough of their hard-earned money to retire one day. Some families have children attending college next year and others have 12 years to plan; but the fears of tackling these monumental and rising costs are the same. The College Funding Coach® is here to help families figure out HOW to pay for it! Through our educational workshop\, Little-Known Secrets of Paying for College parents can expect to learn the following: \n\nCollege funding strategies for parents with students who DO and DO NOT qualify for financial aid\nStrategies for parents who are looking to fund their student’s college education without destroying their plans and dreams for retirement\nThe 13 most popular college funding financial vehicles explained and debunked\nHow to implement strategies that may allow students to attend out-of-state or private colleges for a lower cost than attending an in-state public\nWays to maximize and increase financial aid eligibility\n…and so much more
URL:https://www.thecollegefundingcoach.org/class/a-starting-line/
LOCATION:Zoom – MA\, MA
CATEGORIES:Classes,Webinar,Workshops
ATTACH;FMTTYPE=image/png:https://www.thecollegefundingcoach.org/wp-content/uploads/2024/01/A-Starting-Line.png
END:VEVENT
END:VCALENDAR