BEGIN:VCALENDAR
VERSION:2.0
PRODID:-//The College Funding Coach - ECPv6.15.17//NONSGML v1.0//EN
CALSCALE:GREGORIAN
METHOD:PUBLISH
X-WR-CALNAME:The College Funding Coach
X-ORIGINAL-URL:https://www.thecollegefundingcoach.org
X-WR-CALDESC:Events for The College Funding Coach
REFRESH-INTERVAL;VALUE=DURATION:PT1H
X-Robots-Tag:noindex
X-PUBLISHED-TTL:PT1H
BEGIN:VTIMEZONE
TZID:America/New_York
BEGIN:DAYLIGHT
TZOFFSETFROM:-0500
TZOFFSETTO:-0400
TZNAME:EDT
DTSTART:20170312T070000
END:DAYLIGHT
BEGIN:STANDARD
TZOFFSETFROM:-0400
TZOFFSETTO:-0500
TZNAME:EST
DTSTART:20171105T060000
END:STANDARD
BEGIN:DAYLIGHT
TZOFFSETFROM:-0500
TZOFFSETTO:-0400
TZNAME:EDT
DTSTART:20180311T070000
END:DAYLIGHT
BEGIN:STANDARD
TZOFFSETFROM:-0400
TZOFFSETTO:-0500
TZNAME:EST
DTSTART:20181104T060000
END:STANDARD
BEGIN:DAYLIGHT
TZOFFSETFROM:-0500
TZOFFSETTO:-0400
TZNAME:EDT
DTSTART:20190310T070000
END:DAYLIGHT
BEGIN:STANDARD
TZOFFSETFROM:-0400
TZOFFSETTO:-0500
TZNAME:EST
DTSTART:20191103T060000
END:STANDARD
BEGIN:DAYLIGHT
TZOFFSETFROM:-0500
TZOFFSETTO:-0400
TZNAME:EDT
DTSTART:20200308T070000
END:DAYLIGHT
BEGIN:STANDARD
TZOFFSETFROM:-0400
TZOFFSETTO:-0500
TZNAME:EST
DTSTART:20201101T060000
END:STANDARD
END:VTIMEZONE
BEGIN:VEVENT
DTSTART;TZID=America/New_York:20190424T190000
DTEND;TZID=America/New_York:20190424T210000
DTSTAMP:20260425T113102
CREATED:20190311T122237Z
LAST-MODIFIED:20190404T161619Z
UID:5694-1556132400-1556139600@www.thecollegefundingcoach.org
SUMMARY:Wakefield School
DESCRIPTION: 
URL:https://www.thecollegefundingcoach.org/class/wakefield-school/
LOCATION:Wakefield School\, 4439 Old Tavern Road\, The Plains\, VA\, 20198
CATEGORIES:Classes,Workshops
ATTACH;FMTTYPE=image/jpeg:https://www.thecollegefundingcoach.org/wp-content/uploads/2019/03/Wakefield-Black-logo.jpg
GEO:38.8556575;-77.7755424
X-APPLE-STRUCTURED-LOCATION;VALUE=URI;X-ADDRESS=Wakefield School 4439 Old Tavern Road The Plains VA 20198;X-APPLE-RADIUS=500;X-TITLE=4439 Old Tavern Road:geo:-77.7755424,38.8556575
END:VEVENT
BEGIN:VEVENT
DTSTART;TZID=America/New_York:20181023T190000
DTEND;TZID=America/New_York:20181023T210000
DTSTAMP:20260425T113102
CREATED:20180924T145335Z
LAST-MODIFIED:20180924T145335Z
UID:5589-1540321200-1540328400@www.thecollegefundingcoach.org
SUMMARY:The Hill School: Little-Known Secrets of Paying for College
DESCRIPTION:
URL:https://www.thecollegefundingcoach.org/class/the-hill-school-little-known-secrets-of-paying-for-college-2-2/
CATEGORIES:Classes,Workshops
END:VEVENT
BEGIN:VEVENT
DTSTART;TZID=America/New_York:20180418T190000
DTEND;TZID=America/New_York:20180418T210000
DTSTAMP:20260425T113102
CREATED:20180228T185008Z
LAST-MODIFIED:20180228T185008Z
UID:3707-1524078000-1524085200@www.thecollegefundingcoach.org
SUMMARY:Wakefield School: Little-Known Secrets of Paying for College
DESCRIPTION:
URL:https://www.thecollegefundingcoach.org/class/wakefield-school-little-known-secrets-of-paying-for-college/
LOCATION:Wakefield School\, 4439 Old Tavern Road\, The Plains\, VA\, 20198
CATEGORIES:Classes,Workshops
GEO:38.8556575;-77.7755424
X-APPLE-STRUCTURED-LOCATION;VALUE=URI;X-ADDRESS=Wakefield School 4439 Old Tavern Road The Plains VA 20198;X-APPLE-RADIUS=500;X-TITLE=4439 Old Tavern Road:geo:-77.7755424,38.8556575
END:VEVENT
BEGIN:VEVENT
DTSTART;TZID=America/New_York:20180418T190000
DTEND;TZID=America/New_York:20180418T210000
DTSTAMP:20260425T113102
CREATED:20180228T185008Z
LAST-MODIFIED:20180228T185008Z
UID:4620-1524078000-1524085200@www.thecollegefundingcoach.org
SUMMARY:Wakefield School: Little-Known Secrets of Paying for College
DESCRIPTION:
URL:https://www.thecollegefundingcoach.org/class/wakefield-school-little-known-secrets-of-paying-for-college-2/
LOCATION:Wakefield School\, 4439 Old Tavern Road\, The Plains\, VA\, 20198
CATEGORIES:Classes,Workshops
GEO:38.8556575;-77.7755424
X-APPLE-STRUCTURED-LOCATION;VALUE=URI;X-ADDRESS=Wakefield School 4439 Old Tavern Road The Plains VA 20198;X-APPLE-RADIUS=500;X-TITLE=4439 Old Tavern Road:geo:-77.7755424,38.8556575
END:VEVENT
BEGIN:VEVENT
DTSTART;TZID=America/New_York:20180418T190000
DTEND;TZID=America/New_York:20180418T210000
DTSTAMP:20260425T113102
CREATED:20180228T185008Z
LAST-MODIFIED:20180228T185008Z
UID:5457-1524078000-1524085200@www.thecollegefundingcoach.org
SUMMARY:Wakefield School: Little-Known Secrets of Paying for College
DESCRIPTION:
URL:https://www.thecollegefundingcoach.org/class/wakefield-school-little-known-secrets-of-paying-for-college-3/
LOCATION:Wakefield School\, 4439 Old Tavern Road\, The Plains\, VA\, 20198
CATEGORIES:Classes,Workshops
GEO:38.8556575;-77.7755424
X-APPLE-STRUCTURED-LOCATION;VALUE=URI;X-ADDRESS=Wakefield School 4439 Old Tavern Road The Plains VA 20198;X-APPLE-RADIUS=500;X-TITLE=4439 Old Tavern Road:geo:-77.7755424,38.8556575
END:VEVENT
END:VCALENDAR