BEGIN:VCALENDAR
VERSION:2.0
PRODID:-//The College Funding Coach - ECPv6.15.17//NONSGML v1.0//EN
CALSCALE:GREGORIAN
METHOD:PUBLISH
X-WR-CALNAME:The College Funding Coach
X-ORIGINAL-URL:https://www.thecollegefundingcoach.org
X-WR-CALDESC:Events for The College Funding Coach
REFRESH-INTERVAL;VALUE=DURATION:PT1H
X-Robots-Tag:noindex
X-PUBLISHED-TTL:PT1H
BEGIN:VTIMEZONE
TZID:America/Phoenix
BEGIN:STANDARD
TZOFFSETFROM:-0700
TZOFFSETTO:-0700
TZNAME:MST
DTSTART:20210101T000000
END:STANDARD
END:VTIMEZONE
BEGIN:VTIMEZONE
TZID:America/New_York
BEGIN:DAYLIGHT
TZOFFSETFROM:-0500
TZOFFSETTO:-0400
TZNAME:EDT
DTSTART:20210314T070000
END:DAYLIGHT
BEGIN:STANDARD
TZOFFSETFROM:-0400
TZOFFSETTO:-0500
TZNAME:EST
DTSTART:20211107T060000
END:STANDARD
BEGIN:DAYLIGHT
TZOFFSETFROM:-0500
TZOFFSETTO:-0400
TZNAME:EDT
DTSTART:20220313T070000
END:DAYLIGHT
BEGIN:STANDARD
TZOFFSETFROM:-0400
TZOFFSETTO:-0500
TZNAME:EST
DTSTART:20221106T060000
END:STANDARD
BEGIN:DAYLIGHT
TZOFFSETFROM:-0500
TZOFFSETTO:-0400
TZNAME:EDT
DTSTART:20230312T070000
END:DAYLIGHT
BEGIN:STANDARD
TZOFFSETFROM:-0400
TZOFFSETTO:-0500
TZNAME:EST
DTSTART:20231105T060000
END:STANDARD
END:VTIMEZONE
BEGIN:VEVENT
DTSTART;TZID=America/Phoenix:20221101T183000
DTEND;TZID=America/Phoenix:20221101T200000
DTSTAMP:20260421T180142
CREATED:20220921T183114Z
LAST-MODIFIED:20221012T211234Z
UID:15024-1667327400-1667332800@www.thecollegefundingcoach.org
SUMMARY:Williams Field & Higley High School
DESCRIPTION:
URL:https://www.thecollegefundingcoach.org/class/williams-field-high-school/
LOCATION:Williams Field High School\, 2076 S Higley Rd\, Gilbert\, AZ\, 85295\, United States
CATEGORIES:Classes,IN-PERSON/ON-SITE WORKSHOP,Workshops
ATTACH;FMTTYPE=image/png:https://www.thecollegefundingcoach.org/wp-content/uploads/2022/09/Williams-Field-High-School.png
GEO:33.3142206;-111.7219207
X-APPLE-STRUCTURED-LOCATION;VALUE=URI;X-ADDRESS=Williams Field High School 2076 S Higley Rd Gilbert AZ 85295 United States;X-APPLE-RADIUS=500;X-TITLE=2076 S Higley Rd:geo:-111.7219207,33.3142206
END:VEVENT
BEGIN:VEVENT
DTSTART;VALUE=DATE:20221102
DTEND;VALUE=DATE:20221105
DTSTAMP:20260421T180142
CREATED:20221025T201519Z
LAST-MODIFIED:20221031T151117Z
UID:15237-1667347200-1667606399@www.thecollegefundingcoach.org
SUMMARY:NCSCA Annual Conference
DESCRIPTION:North Carolina School Counselor Association (NCSCA)  |  9650 Strickland Rd. Suite 103-125 |  Raleigh\, NC 27615 \nFor NCSCA questions\, please email Andrea Wallace\, Association Manager \n     \n \n\n\n\n\nNCSCA is a state division of the American School Counselor Association. \n\n\n\n\nNorth Carolina School Counselor Association (NCSCA) has been approved by NBCC as an Approved Continuing Education Provider\, ACEP No. 6314.\nPrograms that do not qualify for credit are clearly identified. NCSCA is solely responsible for all aspects of the programs. \n\n\n\n\nCopyright © 2022 North Carolina School Counselor Association. All Rights Reserved.
URL:https://www.thecollegefundingcoach.org/class/ncsca-annual-conference/
LOCATION:NCSCA Annual Conference
CATEGORIES:Classes,Conference,Workshops
ATTACH;FMTTYPE=image/png:https://www.thecollegefundingcoach.org/wp-content/uploads/2022/10/NCSCA-Annual-Conference.png
END:VEVENT
BEGIN:VEVENT
DTSTART;TZID=America/New_York:20221102T173000
DTEND;TZID=America/New_York:20221102T193000
DTSTAMP:20260421T180142
CREATED:20220927T133741Z
LAST-MODIFIED:20220927T133741Z
UID:15062-1667410200-1667417400@www.thecollegefundingcoach.org
SUMMARY:Danville High School
DESCRIPTION:
URL:https://www.thecollegefundingcoach.org/class/danville-high-school/
LOCATION:Danville High School
CATEGORIES:Classes,IN-PERSON/ON-SITE WORKSHOP,Workshops
ATTACH;FMTTYPE=image/png:https://www.thecollegefundingcoach.org/wp-content/uploads/2022/09/Danville-High-School.png
END:VEVENT
BEGIN:VEVENT
DTSTART;TZID=America/New_York:20221103T173000
DTEND;TZID=America/New_York:20221103T193000
DTSTAMP:20260421T180142
CREATED:20220920T180344Z
LAST-MODIFIED:20220920T180344Z
UID:15014-1667496600-1667503800@www.thecollegefundingcoach.org
SUMMARY:Henry County High School
DESCRIPTION:
URL:https://www.thecollegefundingcoach.org/class/henry-county-high-school-2/
LOCATION:Henry County High School
CATEGORIES:Classes,IN-PERSON/ON-SITE WORKSHOP,Workshops
ATTACH;FMTTYPE=image/png:https://www.thecollegefundingcoach.org/wp-content/uploads/2022/09/Henry-County-High-School.png
END:VEVENT
END:VCALENDAR