BEGIN:VCALENDAR
VERSION:2.0
PRODID:-//The College Funding Coach - ECPv6.15.17//NONSGML v1.0//EN
CALSCALE:GREGORIAN
METHOD:PUBLISH
X-ORIGINAL-URL:https://www.thecollegefundingcoach.org
X-WR-CALDESC:Events for The College Funding Coach
REFRESH-INTERVAL;VALUE=DURATION:PT1H
X-Robots-Tag:noindex
X-PUBLISHED-TTL:PT1H
BEGIN:VTIMEZONE
TZID:America/North_Dakota/Center
BEGIN:DAYLIGHT
TZOFFSETFROM:-0600
TZOFFSETTO:-0500
TZNAME:CDT
DTSTART:20210314T080000
END:DAYLIGHT
BEGIN:STANDARD
TZOFFSETFROM:-0500
TZOFFSETTO:-0600
TZNAME:CST
DTSTART:20211107T070000
END:STANDARD
BEGIN:DAYLIGHT
TZOFFSETFROM:-0600
TZOFFSETTO:-0500
TZNAME:CDT
DTSTART:20220313T080000
END:DAYLIGHT
BEGIN:STANDARD
TZOFFSETFROM:-0500
TZOFFSETTO:-0600
TZNAME:CST
DTSTART:20221106T070000
END:STANDARD
BEGIN:DAYLIGHT
TZOFFSETFROM:-0600
TZOFFSETTO:-0500
TZNAME:CDT
DTSTART:20230312T080000
END:DAYLIGHT
BEGIN:STANDARD
TZOFFSETFROM:-0500
TZOFFSETTO:-0600
TZNAME:CST
DTSTART:20231105T070000
END:STANDARD
END:VTIMEZONE
BEGIN:VTIMEZONE
TZID:America/Denver
BEGIN:DAYLIGHT
TZOFFSETFROM:-0700
TZOFFSETTO:-0600
TZNAME:MDT
DTSTART:20210314T090000
END:DAYLIGHT
BEGIN:STANDARD
TZOFFSETFROM:-0600
TZOFFSETTO:-0700
TZNAME:MST
DTSTART:20211107T080000
END:STANDARD
BEGIN:DAYLIGHT
TZOFFSETFROM:-0700
TZOFFSETTO:-0600
TZNAME:MDT
DTSTART:20220313T090000
END:DAYLIGHT
BEGIN:STANDARD
TZOFFSETFROM:-0600
TZOFFSETTO:-0700
TZNAME:MST
DTSTART:20221106T080000
END:STANDARD
BEGIN:DAYLIGHT
TZOFFSETFROM:-0700
TZOFFSETTO:-0600
TZNAME:MDT
DTSTART:20230312T090000
END:DAYLIGHT
BEGIN:STANDARD
TZOFFSETFROM:-0600
TZOFFSETTO:-0700
TZNAME:MST
DTSTART:20231105T080000
END:STANDARD
END:VTIMEZONE
BEGIN:VTIMEZONE
TZID:America/New_York
BEGIN:DAYLIGHT
TZOFFSETFROM:-0500
TZOFFSETTO:-0400
TZNAME:EDT
DTSTART:20210314T070000
END:DAYLIGHT
BEGIN:STANDARD
TZOFFSETFROM:-0400
TZOFFSETTO:-0500
TZNAME:EST
DTSTART:20211107T060000
END:STANDARD
BEGIN:DAYLIGHT
TZOFFSETFROM:-0500
TZOFFSETTO:-0400
TZNAME:EDT
DTSTART:20220313T070000
END:DAYLIGHT
BEGIN:STANDARD
TZOFFSETFROM:-0400
TZOFFSETTO:-0500
TZNAME:EST
DTSTART:20221106T060000
END:STANDARD
BEGIN:DAYLIGHT
TZOFFSETFROM:-0500
TZOFFSETTO:-0400
TZNAME:EDT
DTSTART:20230312T070000
END:DAYLIGHT
BEGIN:STANDARD
TZOFFSETFROM:-0400
TZOFFSETTO:-0500
TZNAME:EST
DTSTART:20231105T060000
END:STANDARD
END:VTIMEZONE
BEGIN:VEVENT
DTSTART;TZID=America/North_Dakota/Center:20221003T113000
DTEND;TZID=America/North_Dakota/Center:20221003T123000
DTSTAMP:20260422T192203
CREATED:20220922T184945Z
LAST-MODIFIED:20220928T205249Z
UID:15039-1664796600-1664800200@www.thecollegefundingcoach.org
SUMMARY:Wichita High School East
DESCRIPTION:
URL:https://www.thecollegefundingcoach.org/class/wichita-high-school-east-2/
LOCATION:Wichita High School East
CATEGORIES:Classes,IN-PERSON/ON-SITE WORKSHOP,Workshops
ATTACH;FMTTYPE=image/png:https://www.thecollegefundingcoach.org/wp-content/uploads/2022/09/Wichita-High-School-East.png
END:VEVENT
BEGIN:VEVENT
DTSTART;TZID=America/Denver:20221003T180000
DTEND;TZID=America/Denver:20221003T193000
DTSTAMP:20260422T192203
CREATED:20220523T165315Z
LAST-MODIFIED:20220909T204428Z
UID:14034-1664820000-1664825400@www.thecollegefundingcoach.org
SUMMARY:Green Mountain High School and Bear Creek
DESCRIPTION:You are invited to a Zoom webinar. \n \nAfter registering\, you will receive a confirmation email containing information about joining the webinar. \n 
URL:https://www.thecollegefundingcoach.org/class/green-mountain-high-school-3/
LOCATION:Green Mountain High School
CATEGORIES:Classes,IN-PERSON/ON-SITE WORKSHOP,Webinar,Workshops
ATTACH;FMTTYPE=image/png:https://www.thecollegefundingcoach.org/wp-content/uploads/2020/10/Green-Mountain-High-School.png
END:VEVENT
BEGIN:VEVENT
DTSTART;TZID=America/New_York:20221003T183000
DTEND;TZID=America/New_York:20221003T200000
DTSTAMP:20260422T192203
CREATED:20220902T142327Z
LAST-MODIFIED:20220928T132901Z
UID:14747-1664821800-1664827200@www.thecollegefundingcoach.org
SUMMARY:Deep Run High School
DESCRIPTION:
URL:https://www.thecollegefundingcoach.org/class/deep-run-high-school-4/
LOCATION:Deep Run High School\, 4801 Twin Hickory Road\, Glen Allen\, VA\, 23059\, United States
CATEGORIES:Classes,IN-PERSON/ON-SITE WORKSHOP,Workshops
ATTACH;FMTTYPE=image/png:https://www.thecollegefundingcoach.org/wp-content/uploads/2022/09/Deep-Run-High-School-2.png
GEO:37.6753904;-77.5997989
X-APPLE-STRUCTURED-LOCATION;VALUE=URI;X-ADDRESS=Deep Run High School 4801 Twin Hickory Road Glen Allen VA 23059 United States;X-APPLE-RADIUS=500;X-TITLE=4801 Twin Hickory Road:geo:-77.5997989,37.6753904
END:VEVENT
BEGIN:VEVENT
DTSTART;TZID=America/New_York:20221003T190000
DTEND;TZID=America/New_York:20221003T203000
DTSTAMP:20260422T192203
CREATED:20220725T170214Z
LAST-MODIFIED:20220909T204437Z
UID:14420-1664823600-1664829000@www.thecollegefundingcoach.org
SUMMARY:Wakefield School
DESCRIPTION:For many families\, the high cost of higher education is a daunting proposition. Parents lie awake at night trying to figure out how to afford sending their children to college and still have enough of their hard earned money to be able to retire one day. Some families have children attending college next year and others have 12 years to plan; but the fears of tackling these monumental and rising costs are the same. The College Funding Coach® is here to help families figure out HOW to pay for it! Through our educational workshop\, Little-Known Secrets of Paying for College you will learn: \n\nHow to avoid jeopardizing your retirement nest egg!\nEffective ways to simultaneously save AND pay for college\nStrategies to pay for multiple children attending college at the same time\nHow to recapture out of pocket college costs\nAnd much\, much more!
URL:https://www.thecollegefundingcoach.org/class/wakefield-school-5/
LOCATION:Zoom
CATEGORIES:Classes,Webinar,Workshops
ATTACH;FMTTYPE=image/jpeg:https://www.thecollegefundingcoach.org/wp-content/uploads/2020/09/Wakefield-Black-logo.jpg
END:VEVENT
BEGIN:VEVENT
DTSTART;TZID=America/Denver:20221004T180000
DTEND;TZID=America/Denver:20221004T193000
DTSTAMP:20260422T192203
CREATED:20220523T170423Z
LAST-MODIFIED:20220922T124113Z
UID:14038-1664906400-1664911800@www.thecollegefundingcoach.org
SUMMARY:Mountain View High School
DESCRIPTION:For many families\, the high cost of higher education is a daunting proposition. Parents lie awake at night trying to figure out how to afford sending their children to college and still have enough of their hard earned money to be able to retire one day. Some families have children attending college next year and others have 12 years to plan; but the fears of tackling these monumental and rising costs are the same. The College Funding Coach® is here to help families figure out HOW to pay for it! Through our educational workshop\, Little-Known Secrets of Paying for College you will learn: \n\nHow to avoid jeopardizing your retirement nest egg!\nEffective ways to simultaneously save AND pay for college\nStrategies to pay for multiple children attending college at the same time\nHow to recapture out of pocket college costs\nAnd much\, much more!
URL:https://www.thecollegefundingcoach.org/class/thompson-valley-school-district/
LOCATION:Zoom
CATEGORIES:Classes,Webinar,Workshops
ATTACH;FMTTYPE=image/png:https://www.thecollegefundingcoach.org/wp-content/uploads/2019/02/MVHS-Logo-Mountain-Lion-Abstract-Transparentt-210x100.png
END:VEVENT
BEGIN:VEVENT
DTSTART;TZID=America/New_York:20221004T180000
DTEND;TZID=America/New_York:20221004T200000
DTSTAMP:20260422T192203
CREATED:20220830T142827Z
LAST-MODIFIED:20220909T204611Z
UID:14707-1664906400-1664913600@www.thecollegefundingcoach.org
SUMMARY:Freedom High School\, Potomac High School\, and Gar-Field High School
DESCRIPTION:
URL:https://www.thecollegefundingcoach.org/class/freedom-high-school-potomac-high-school-and-gar-field-high-school/
LOCATION:Freedom High School\, 15201 Neabsco Mills Rd.\, Woodbridge\, VA\, 22191\, United States
CATEGORIES:Classes,IN-PERSON/ON-SITE WORKSHOP,Workshops
ATTACH;FMTTYPE=image/png:https://www.thecollegefundingcoach.org/wp-content/uploads/2021/02/Freedom-High-School.png
GEO:38.6215541;-77.2877119
X-APPLE-STRUCTURED-LOCATION;VALUE=URI;X-ADDRESS=Freedom High School 15201 Neabsco Mills Rd. Woodbridge VA 22191 United States;X-APPLE-RADIUS=500;X-TITLE=15201 Neabsco Mills Rd.:geo:-77.2877119,38.6215541
END:VEVENT
BEGIN:VEVENT
DTSTART;TZID=America/North_Dakota/Center:20221004T190000
DTEND;TZID=America/North_Dakota/Center:20221004T200000
DTSTAMP:20260422T192203
CREATED:20220909T175053Z
LAST-MODIFIED:20220909T204616Z
UID:14806-1664910000-1664913600@www.thecollegefundingcoach.org
SUMMARY:Prince of Peace Christian School (Private)
DESCRIPTION:For many families\, the high cost of higher education is a daunting proposition. Parents lie awake at night trying to figure out how to afford sending their children to college and still have enough of their hard earned money to be able to retire one day. Some families have children attending college next year and others have 12 years to plan; but the fears of tackling these monumental and rising costs are the same. The College Funding Coach® is here to help families figure out HOW to pay for it! Through our educational workshop\, Little-Known Secrets of Paying for College you will learn: \n\nHow to avoid jeopardizing your retirement nest egg!\nEffective ways to simultaneously save AND pay for college\nStrategies to pay for multiple children attending college at the same time\nHow to recapture out of pocket college costs\nAnd much\, much more!
URL:https://www.thecollegefundingcoach.org/class/prince-of-peace-christian-school-private/
LOCATION:Zoom
CATEGORIES:Classes,Webinar,Workshops
ATTACH;FMTTYPE=image/png:https://www.thecollegefundingcoach.org/wp-content/uploads/2020/03/Prince-of-Peace-Christian-Schools.png
END:VEVENT
BEGIN:VEVENT
DTSTART;TZID=America/New_York:20221004T190000
DTEND;TZID=America/New_York:20221004T203000
DTSTAMP:20260422T192203
CREATED:20220509T180309Z
LAST-MODIFIED:20221004T122822Z
UID:13978-1664910000-1664915400@www.thecollegefundingcoach.org
SUMMARY:Trinity School at Meadow View
DESCRIPTION:
URL:https://www.thecollegefundingcoach.org/class/trinity-school-at-meadow-view/
LOCATION:Trinity School at Meadow View
CATEGORIES:Classes,IN-PERSON/ON-SITE WORKSHOP,Workshops
ATTACH;FMTTYPE=image/png:https://www.thecollegefundingcoach.org/wp-content/uploads/2022/05/Trinity-School-at-Meadow-View-1.png
END:VEVENT
BEGIN:VEVENT
DTSTART;TZID=America/North_Dakota/Center:20221005T143000
DTEND;TZID=America/North_Dakota/Center:20221005T151000
DTSTAMP:20260422T192203
CREATED:20220811T211906Z
LAST-MODIFIED:20221003T220618Z
UID:14531-1664980200-1664982600@www.thecollegefundingcoach.org
SUMMARY:Wichita West High School
DESCRIPTION:
URL:https://www.thecollegefundingcoach.org/class/west-high-school/
LOCATION:West High School
CATEGORIES:Classes,IN-PERSON/ON-SITE WORKSHOP,Workshops
ATTACH;FMTTYPE=image/png:https://www.thecollegefundingcoach.org/wp-content/uploads/2022/08/Wichita-HS-East.png
END:VEVENT
BEGIN:VEVENT
DTSTART;TZID=America/New_York:20221005T190000
DTEND;TZID=America/New_York:20221005T200000
DTSTAMP:20260422T192203
CREATED:20220830T173705Z
LAST-MODIFIED:20221006T193013Z
UID:14709-1664996400-1665000000@www.thecollegefundingcoach.org
SUMMARY:How to Talk to Your Kids About Money
DESCRIPTION:This live event has concluded. You can access the recording here. \n— \nEquipped with more than two decades of financial planning experience and 11 years of coaching experience\, Tom Henske is on a mission to help parents encourage their kids to develop financial literacy. \nTom wants to eliminate the prevailing narrative that money is a taboo topic in the household. Currently\, 70% of parents are reluctant to talk to their kids about money. \nSure\, it’s uncomfortable\, but we talk to our kids about tons of other uncomfortable topics to prepare them for adulthood. Why not help them develop a healthy relationship before it’s too late? \nTom has developed a casual and fun program to inspire both parents and kids to learn and develop better money habits. In this webinar\, Tom will explain why and how you can help your kids avoid unnecessary challenges and stress in the future. \n 
URL:https://www.thecollegefundingcoach.org/class/how-to-talk-to-your-kids-about-money/
LOCATION:Zoom
CATEGORIES:Classes,Webinar,Workshops
ATTACH;FMTTYPE=image/png:https://www.thecollegefundingcoach.org/wp-content/uploads/2022/08/totalcents.png
END:VEVENT
BEGIN:VEVENT
DTSTART;TZID=America/North_Dakota/Center:20221005T190000
DTEND;TZID=America/North_Dakota/Center:20221005T200000
DTSTAMP:20260422T192203
CREATED:20220901T174148Z
LAST-MODIFIED:20220909T204637Z
UID:14736-1664996400-1665000000@www.thecollegefundingcoach.org
SUMMARY:Wichita Northeast FAFSA w/College Funding Coach
DESCRIPTION:
URL:https://www.thecollegefundingcoach.org/class/wichita-northeast-fafsa-w-college-funding-coach/
LOCATION:Northeast Magnet High School
CATEGORIES:Classes,IN-PERSON/ON-SITE WORKSHOP,Workshops
ATTACH;FMTTYPE=image/png:https://www.thecollegefundingcoach.org/wp-content/uploads/2022/09/NORTHEAST-MAGNET-HIGH-SCHOOL.png
END:VEVENT
BEGIN:VEVENT
DTSTART;TZID=America/New_York:20221005T190000
DTEND;TZID=America/New_York:20221005T203000
DTSTAMP:20260422T192203
CREATED:20220315T163727Z
LAST-MODIFIED:20220909T204629Z
UID:13718-1664996400-1665001800@www.thecollegefundingcoach.org
SUMMARY:Bishop O'Connell High School
DESCRIPTION:For many families\, the high cost of higher education is a daunting proposition. Parents lie awake at night trying to figure out how to afford sending their children to college and still have enough of their hard earned money to be able to retire one day. Some families have children attending college next year and others have 12 years to plan; but the fears of tackling these monumental and rising costs are the same. The College Funding Coach® is here to help families figure out HOW to pay for it! Through our educational workshop\, Little-Known Secrets of Paying for College you will learn: \n\nHow to avoid jeopardizing your retirement nest egg!\nEffective ways to simultaneously save AND pay for college\nStrategies to pay for multiple children attending college at the same time\nHow to recapture out of pocket college costs\nAnd much\, much more!
URL:https://www.thecollegefundingcoach.org/class/bishop-oconnell-high-school-3/
LOCATION:Zoom
CATEGORIES:Classes,Webinar,Workshops
ATTACH;FMTTYPE=image/png:https://www.thecollegefundingcoach.org/wp-content/uploads/2019/08/Bishop-OConnell-High-School.png
END:VEVENT
BEGIN:VEVENT
DTSTART;TZID=America/New_York:20221006T180000
DTEND;TZID=America/New_York:20221006T200000
DTSTAMP:20260422T192203
CREATED:20220712T161034Z
LAST-MODIFIED:20220909T204642Z
UID:14262-1665079200-1665086400@www.thecollegefundingcoach.org
SUMMARY:Cardinal Newman School
DESCRIPTION:
URL:https://www.thecollegefundingcoach.org/class/cardinal-newman-school-2/
LOCATION:Cardinal Newman School
CATEGORIES:Classes,IN-PERSON/ON-SITE WORKSHOP,Workshops
ATTACH;FMTTYPE=image/png:https://www.thecollegefundingcoach.org/wp-content/uploads/2022/02/Cardinal-Newman-School.png
END:VEVENT
BEGIN:VEVENT
DTSTART;TZID=America/New_York:20221006T190000
DTEND;TZID=America/New_York:20221006T200000
DTSTAMP:20260422T192203
CREATED:20220811T161833Z
LAST-MODIFIED:20220909T204745Z
UID:14526-1665082800-1665086400@www.thecollegefundingcoach.org
SUMMARY:Northeast FAFSA Night
DESCRIPTION:
URL:https://www.thecollegefundingcoach.org/class/northeast-fasfa-night/
LOCATION:Northeast Magnet High School
CATEGORIES:Classes,IN-PERSON/ON-SITE WORKSHOP,Workshops
ATTACH;FMTTYPE=image/jpeg:https://www.thecollegefundingcoach.org/wp-content/uploads/2020/09/PIGGY-PIGGY-scaled.jpg
END:VEVENT
BEGIN:VEVENT
DTSTART;TZID=America/New_York:20221006T190000
DTEND;TZID=America/New_York:20221006T203000
DTSTAMP:20260422T192203
CREATED:20220811T160653Z
LAST-MODIFIED:20220909T204647Z
UID:14524-1665082800-1665088200@www.thecollegefundingcoach.org
SUMMARY:Dematha Catholic High School
DESCRIPTION:
URL:https://www.thecollegefundingcoach.org/class/dematha-catholic-high-school-5/
LOCATION:DeMatha Catholic High School\, 4313 Madison St\, Hyattsville\, MD\, 20781
CATEGORIES:Classes,IN-PERSON/ON-SITE WORKSHOP,Workshops
ATTACH;FMTTYPE=image/png:https://www.thecollegefundingcoach.org/wp-content/uploads/2019/05/DeMatha-Catholic-High-School.png
GEO:38.958484;-76.941703
X-APPLE-STRUCTURED-LOCATION;VALUE=URI;X-ADDRESS=DeMatha Catholic High School 4313 Madison St Hyattsville MD 20781;X-APPLE-RADIUS=500;X-TITLE=4313 Madison St:geo:-76.941703,38.958484
END:VEVENT
BEGIN:VEVENT
DTSTART;TZID=America/New_York:20221006T190000
DTEND;TZID=America/New_York:20221006T203000
DTSTAMP:20260422T192203
CREATED:20220825T163641Z
LAST-MODIFIED:20220909T204750Z
UID:14668-1665082800-1665088200@www.thecollegefundingcoach.org
SUMMARY:Saint John Paul the Great Catholic High School
DESCRIPTION:For many families\, the high cost of higher education is a daunting proposition. Parents lie awake at night trying to figure out how to afford sending their children to college and still have enough of their hard earned money to be able to retire one day. Some families have children attending college next year and others have 12 years to plan; but the fears of tackling these monumental and rising costs are the same. The College Funding Coach® is here to help families figure out HOW to pay for it! Through our educational workshop\, Little-Known Secrets of Paying for College you will learn: \n\nHow to avoid jeopardizing your retirement nest egg!\nEffective ways to simultaneously save AND pay for college\nStrategies to pay for multiple children attending college at the same time\nHow to recapture out of pocket college costs\nAnd much\, much more!
URL:https://www.thecollegefundingcoach.org/class/saint-john-paul-the-great-catholic-high-school/
LOCATION:Zoom
CATEGORIES:Classes,Webinar,Workshops
ATTACH;FMTTYPE=image/png:https://www.thecollegefundingcoach.org/wp-content/uploads/2022/08/Saint-John-Paul-the-Great-Catholic-High-School.png
END:VEVENT
END:VCALENDAR