BEGIN:VCALENDAR
VERSION:2.0
PRODID:-//The College Funding Coach - ECPv6.15.17//NONSGML v1.0//EN
CALSCALE:GREGORIAN
METHOD:PUBLISH
X-ORIGINAL-URL:https://www.thecollegefundingcoach.org
X-WR-CALDESC:Events for The College Funding Coach
REFRESH-INTERVAL;VALUE=DURATION:PT1H
X-Robots-Tag:noindex
X-PUBLISHED-TTL:PT1H
BEGIN:VTIMEZONE
TZID:America/New_York
BEGIN:DAYLIGHT
TZOFFSETFROM:-0500
TZOFFSETTO:-0400
TZNAME:EDT
DTSTART:20190310T070000
END:DAYLIGHT
BEGIN:STANDARD
TZOFFSETFROM:-0400
TZOFFSETTO:-0500
TZNAME:EST
DTSTART:20191103T060000
END:STANDARD
BEGIN:DAYLIGHT
TZOFFSETFROM:-0500
TZOFFSETTO:-0400
TZNAME:EDT
DTSTART:20200308T070000
END:DAYLIGHT
BEGIN:STANDARD
TZOFFSETFROM:-0400
TZOFFSETTO:-0500
TZNAME:EST
DTSTART:20201101T060000
END:STANDARD
BEGIN:DAYLIGHT
TZOFFSETFROM:-0500
TZOFFSETTO:-0400
TZNAME:EDT
DTSTART:20210314T070000
END:DAYLIGHT
BEGIN:STANDARD
TZOFFSETFROM:-0400
TZOFFSETTO:-0500
TZNAME:EST
DTSTART:20211107T060000
END:STANDARD
END:VTIMEZONE
BEGIN:VEVENT
DTSTART;TZID=America/New_York:20200218T183000
DTEND;TZID=America/New_York:20200218T203000
DTSTAMP:20260421T203826
CREATED:20191209T142410Z
LAST-MODIFIED:20191209T142410Z
UID:8051-1582050600-1582057800@www.thecollegefundingcoach.org
SUMMARY:Lee-Davis High School
DESCRIPTION:
URL:https://www.thecollegefundingcoach.org/class/lee-davis-high-school-3/
LOCATION:Lee-Davis High School\, 7052 Mechanicsville Turnpike\, Mechanicsville\, VA\, 23111\, United States
CATEGORIES:Classes,Workshops
ATTACH;FMTTYPE=image/png:https://www.thecollegefundingcoach.org/wp-content/uploads/2019/08/Lee-Davis-High-School.png
GEO:37.6127931;-77.3403709
X-APPLE-STRUCTURED-LOCATION;VALUE=URI;X-ADDRESS=Lee-Davis High School 7052 Mechanicsville Turnpike Mechanicsville VA 23111 United States;X-APPLE-RADIUS=500;X-TITLE=7052 Mechanicsville Turnpike:geo:-77.3403709,37.6127931
END:VEVENT
BEGIN:VEVENT
DTSTART;TZID=America/New_York:20200218T190000
DTEND;TZID=America/New_York:20200218T210000
DTSTAMP:20260421T203826
CREATED:20200205T130445Z
LAST-MODIFIED:20200205T130445Z
UID:8511-1582052400-1582059600@www.thecollegefundingcoach.org
SUMMARY:Walter Johnson High School
DESCRIPTION:
URL:https://www.thecollegefundingcoach.org/class/walter-johnson-high-school-2/
LOCATION:Walter Johnson High School\, 6400 Rock Spring Dr.\, Bethesda\, MD\, 20814\, United States
CATEGORIES:Classes,Workshops
ATTACH;FMTTYPE=image/png:https://www.thecollegefundingcoach.org/wp-content/uploads/2019/09/Walter-Johnson-High-School.png
GEO:39.0261037;-77.1297906
X-APPLE-STRUCTURED-LOCATION;VALUE=URI;X-ADDRESS=Walter Johnson High School 6400 Rock Spring Dr. Bethesda MD 20814 United States;X-APPLE-RADIUS=500;X-TITLE=6400 Rock Spring Dr.:geo:-77.1297906,39.0261037
END:VEVENT
BEGIN:VEVENT
DTSTART;TZID=America/New_York:20200219T183000
DTEND;TZID=America/New_York:20200219T200000
DTSTAMP:20260421T203826
CREATED:20200129T014303Z
LAST-MODIFIED:20200129T014303Z
UID:8441-1582137000-1582142400@www.thecollegefundingcoach.org
SUMMARY:Watchung Hills Winter Sports Teams
DESCRIPTION:
URL:https://www.thecollegefundingcoach.org/class/watchung-hills-winter-sports-teams/
LOCATION:Watchung Hills Winter Sports Teams\, 184 Liberty Corner Rd Warren\, New Jersey 07059
CATEGORIES:Classes,Workshops
ATTACH;FMTTYPE=image/png:https://www.thecollegefundingcoach.org/wp-content/uploads/2020/01/Watchung-Hills-Winter-Sports-Teams.png
GEO:40.6479036;-74.5717035
X-APPLE-STRUCTURED-LOCATION;VALUE=URI;X-ADDRESS=Watchung Hills Winter Sports Teams 184 Liberty Corner Rd Warren New Jersey 07059;X-APPLE-RADIUS=500;X-TITLE=184 Liberty Corner Rd Warren\, New Jersey 07059:geo:-74.5717035,40.6479036
END:VEVENT
BEGIN:VEVENT
DTSTART;TZID=America/New_York:20200219T183000
DTEND;TZID=America/New_York:20200219T203000
DTSTAMP:20260421T203826
CREATED:20200209T163816Z
LAST-MODIFIED:20200209T163816Z
UID:8542-1582137000-1582144200@www.thecollegefundingcoach.org
SUMMARY:Archmere Academy
DESCRIPTION:
URL:https://www.thecollegefundingcoach.org/class/archmere-academy-2/
LOCATION:Archmere Academy\, 3600 Philadelphia Pike\, Claymont\, DE\, 19703
CATEGORIES:Classes,Workshops
ATTACH;FMTTYPE=image/jpeg:https://www.thecollegefundingcoach.org/wp-content/uploads/2019/03/Archmere-Academy.jpg
GEO:39.8023699;-75.4539289
X-APPLE-STRUCTURED-LOCATION;VALUE=URI;X-ADDRESS=Archmere Academy 3600 Philadelphia Pike Claymont DE 19703;X-APPLE-RADIUS=500;X-TITLE=3600 Philadelphia Pike:geo:-75.4539289,39.8023699
END:VEVENT
BEGIN:VEVENT
DTSTART;TZID=America/New_York:20200220T180000
DTEND;TZID=America/New_York:20200220T200000
DTSTAMP:20260421T203826
CREATED:20191209T143445Z
LAST-MODIFIED:20191209T203347Z
UID:8055-1582221600-1582228800@www.thecollegefundingcoach.org
SUMMARY:Patrick Henry High School
DESCRIPTION:
URL:https://www.thecollegefundingcoach.org/class/patrick-henry-high-school-2/
LOCATION:Patrick Henry High School\, 12449 W Patrick Henry Rd\, Hanover\, VA\, 23005\, United States
CATEGORIES:Classes,Workshops
ATTACH;FMTTYPE=image/png:https://www.thecollegefundingcoach.org/wp-content/uploads/2019/12/Patrick-Henry-High-School.png
GEO:37.7860933;-77.5317866
X-APPLE-STRUCTURED-LOCATION;VALUE=URI;X-ADDRESS=Patrick Henry High School 12449 W Patrick Henry Rd Hanover VA 23005 United States;X-APPLE-RADIUS=500;X-TITLE=12449 W Patrick Henry Rd:geo:-77.5317866,37.7860933
END:VEVENT
BEGIN:VEVENT
DTSTART;TZID=America/New_York:20200220T183000
DTEND;TZID=America/New_York:20200220T203000
DTSTAMP:20260421T203826
CREATED:20190903T210730Z
LAST-MODIFIED:20190903T210730Z
UID:6997-1582223400-1582230600@www.thecollegefundingcoach.org
SUMMARY:Cheltenham High School
DESCRIPTION:
URL:https://www.thecollegefundingcoach.org/class/cheltenham-high-school/
LOCATION:Cheltenham High School\, 500 Rices Mill Rd.\, Wyncote\, PA\, 19095
CATEGORIES:Classes,Workshops
ATTACH;FMTTYPE=image/png:https://www.thecollegefundingcoach.org/wp-content/uploads/2019/09/Cheltenham-High-School.png
GEO:40.0864938;-75.1596507
X-APPLE-STRUCTURED-LOCATION;VALUE=URI;X-ADDRESS=Cheltenham High School 500 Rices Mill Rd. Wyncote PA 19095;X-APPLE-RADIUS=500;X-TITLE=500 Rices Mill Rd.:geo:-75.1596507,40.0864938
END:VEVENT
END:VCALENDAR