BEGIN:VCALENDAR
VERSION:2.0
PRODID:-//The College Funding Coach - ECPv6.15.17//NONSGML v1.0//EN
CALSCALE:GREGORIAN
METHOD:PUBLISH
X-ORIGINAL-URL:https://www.thecollegefundingcoach.org
X-WR-CALDESC:Events for The College Funding Coach
REFRESH-INTERVAL;VALUE=DURATION:PT1H
X-Robots-Tag:noindex
X-PUBLISHED-TTL:PT1H
BEGIN:VTIMEZONE
TZID:America/New_York
BEGIN:DAYLIGHT
TZOFFSETFROM:-0500
TZOFFSETTO:-0400
TZNAME:EDT
DTSTART:20180311T070000
END:DAYLIGHT
BEGIN:STANDARD
TZOFFSETFROM:-0400
TZOFFSETTO:-0500
TZNAME:EST
DTSTART:20181104T060000
END:STANDARD
BEGIN:DAYLIGHT
TZOFFSETFROM:-0500
TZOFFSETTO:-0400
TZNAME:EDT
DTSTART:20190310T070000
END:DAYLIGHT
BEGIN:STANDARD
TZOFFSETFROM:-0400
TZOFFSETTO:-0500
TZNAME:EST
DTSTART:20191103T060000
END:STANDARD
BEGIN:DAYLIGHT
TZOFFSETFROM:-0500
TZOFFSETTO:-0400
TZNAME:EDT
DTSTART:20200308T070000
END:DAYLIGHT
BEGIN:STANDARD
TZOFFSETFROM:-0400
TZOFFSETTO:-0500
TZNAME:EST
DTSTART:20201101T060000
END:STANDARD
END:VTIMEZONE
BEGIN:VEVENT
DTSTART;TZID=America/New_York:20191105T180000
DTEND;TZID=America/New_York:20191105T193000
DTSTAMP:20260421T151600
CREATED:20190516T123731Z
LAST-MODIFIED:20190516T123731Z
UID:6075-1572976800-1572982200@www.thecollegefundingcoach.org
SUMMARY:Centennial Middle School
DESCRIPTION:
URL:https://www.thecollegefundingcoach.org/class/centennial-middle-school/
LOCATION:Centennial Middle School\, 2205 Norwood Ave.\, Boulder\, CO\, 80304
CATEGORIES:Classes,Workshops
ATTACH;FMTTYPE=image/png:https://www.thecollegefundingcoach.org/wp-content/uploads/2019/05/Centennial-Middle-School.png
GEO:40.0448825;-105.2681771
X-APPLE-STRUCTURED-LOCATION;VALUE=URI;X-ADDRESS=Centennial Middle School 2205 Norwood Ave. Boulder CO 80304;X-APPLE-RADIUS=500;X-TITLE=2205 Norwood Ave.:geo:-105.2681771,40.0448825
END:VEVENT
BEGIN:VEVENT
DTSTART;TZID=America/New_York:20191105T180000
DTEND;TZID=America/New_York:20191105T200000
DTSTAMP:20260421T151600
CREATED:20190923T144336Z
LAST-MODIFIED:20190923T144412Z
UID:7161-1572976800-1572984000@www.thecollegefundingcoach.org
SUMMARY:Laurens District 55 Schools
DESCRIPTION:
URL:https://www.thecollegefundingcoach.org/class/laurens-district-55-schools/
LOCATION:Laurens District 55 Schools\, Laurens District 55 High School - Lecture Theatre\, Laurens\, SC\, 29360
CATEGORIES:Classes,Workshops
ATTACH;FMTTYPE=image/png:https://www.thecollegefundingcoach.org/wp-content/uploads/2019/09/Laurens-District-55-Schools.png
GEO:34.5011937;-82.067273
X-APPLE-STRUCTURED-LOCATION;VALUE=URI;X-ADDRESS=Laurens District 55 Schools Laurens District 55 High School - Lecture Theatre Laurens SC 29360;X-APPLE-RADIUS=500;X-TITLE=Laurens District 55 High School - Lecture Theatre:geo:-82.067273,34.5011937
END:VEVENT
BEGIN:VEVENT
DTSTART;TZID=America/New_York:20191105T183000
DTEND;TZID=America/New_York:20191105T203000
DTSTAMP:20260421T151600
CREATED:20190924T173323Z
LAST-MODIFIED:20190924T173323Z
UID:7211-1572978600-1572985800@www.thecollegefundingcoach.org
SUMMARY:Mount Vernon High School
DESCRIPTION:
URL:https://www.thecollegefundingcoach.org/class/mount-vernon-high-school/
LOCATION:Mount Vernon High School\,  8515 Old Mount Vernon Rd\, Alexandria\, VA\, 22309\, United States
CATEGORIES:Classes,Workshops
ATTACH;FMTTYPE=image/png:https://www.thecollegefundingcoach.org/wp-content/uploads/2019/09/Mount-Vernon-High-School.png
GEO:38.726943;-77.092313
X-APPLE-STRUCTURED-LOCATION;VALUE=URI;X-ADDRESS=Mount Vernon High School  8515 Old Mount Vernon Rd Alexandria VA 22309 United States;X-APPLE-RADIUS=500;X-TITLE=8515 Old Mount Vernon Rd:geo:-77.092313,38.726943
END:VEVENT
BEGIN:VEVENT
DTSTART;TZID=America/New_York:20191105T190000
DTEND;TZID=America/New_York:20191105T210000
DTSTAMP:20260421T151600
CREATED:20190904T133202Z
LAST-MODIFIED:20190918T175615Z
UID:7001-1572980400-1572987600@www.thecollegefundingcoach.org
SUMMARY:Vienna Community Center
DESCRIPTION:
URL:https://www.thecollegefundingcoach.org/class/town-of-vienna/
LOCATION:Vienna Community Center\, 120 Cherry St.\, SE\, Vienna\, VA\, 22180
CATEGORIES:Classes,Workshops
ATTACH;FMTTYPE=image/png:https://www.thecollegefundingcoach.org/wp-content/uploads/2019/09/Town-of-Vienna.png
GEO:38.9008845;-77.2605407
X-APPLE-STRUCTURED-LOCATION;VALUE=URI;X-ADDRESS=Vienna Community Center 120 Cherry St. SE Vienna VA 22180;X-APPLE-RADIUS=500;X-TITLE=120 Cherry St.\, SE:geo:-77.2605407,38.9008845
END:VEVENT
BEGIN:VEVENT
DTSTART;TZID=America/New_York:20191105T190000
DTEND;TZID=America/New_York:20191105T210000
DTSTAMP:20260421T151600
CREATED:20190911T140856Z
LAST-MODIFIED:20191029T213019Z
UID:7050-1572980400-1572987600@www.thecollegefundingcoach.org
SUMMARY:Our Savior Lutheran School
DESCRIPTION:“Arlington Public Schools does not sponsor or endorse the individual or group providing this material\, or any message contained herein. [Las Escuelas Públicas de Arlington no patrocinan o respaldan al individuo o grupo que provee este material\, ni asumen responsabilidad por su contenido.].”
URL:https://www.thecollegefundingcoach.org/class/our-savior-lutheran-school/
LOCATION:Our Savior Lutheran School\, 825 S Taylor St.\, Arlington\, Virginia\, 22204
CATEGORIES:Classes,Workshops
ATTACH;FMTTYPE=image/png:https://www.thecollegefundingcoach.org/wp-content/uploads/2019/09/Our-Savior-Lutheran-School.png
GEO:38.8605138;-77.1041709
X-APPLE-STRUCTURED-LOCATION;VALUE=URI;X-ADDRESS=Our Savior Lutheran School 825 S Taylor St. Arlington Virginia 22204;X-APPLE-RADIUS=500;X-TITLE=825 S Taylor St.:geo:-77.1041709,38.8605138
END:VEVENT
BEGIN:VEVENT
DTSTART;TZID=America/New_York:20191106T121500
DTEND;TZID=America/New_York:20191106T134500
DTSTAMP:20260421T151600
CREATED:20191021T195004Z
LAST-MODIFIED:20191021T205549Z
UID:7543-1573042500-1573047900@www.thecollegefundingcoach.org
SUMMARY:Plastics Industry Association
DESCRIPTION:
URL:https://www.thecollegefundingcoach.org/class/plastics-industry-association/
LOCATION:Plastics Industry Association\, 1425 K Street NW\, Suite 500\, Washington\, D.C.\, 20005
CATEGORIES:Classes,Workshops
ATTACH;FMTTYPE=image/png:https://www.thecollegefundingcoach.org/wp-content/uploads/2019/10/Plastics-Industry-Association.png
GEO:38.9029647;-77.032968
X-APPLE-STRUCTURED-LOCATION;VALUE=URI;X-ADDRESS=Plastics Industry Association 1425 K Street NW Suite 500 Washington D.C. 20005;X-APPLE-RADIUS=500;X-TITLE=1425 K Street NW\, Suite 500:geo:-77.032968,38.9029647
END:VEVENT
BEGIN:VEVENT
DTSTART;TZID=America/New_York:20191106T180000
DTEND;TZID=America/New_York:20191106T200000
DTSTAMP:20260421T151600
CREATED:20190813T135658Z
LAST-MODIFIED:20190917T154403Z
UID:6776-1573063200-1573070400@www.thecollegefundingcoach.org
SUMMARY:Tampa Preparatory School
DESCRIPTION:
URL:https://www.thecollegefundingcoach.org/class/tampa-preparatory-school-2/
LOCATION:Tampa Preparatory School\, 727 West Cass Street\, Tampa\, FL\, 33606
CATEGORIES:Classes,Workshops
ATTACH;FMTTYPE=image/png:https://www.thecollegefundingcoach.org/wp-content/uploads/2019/08/Tampa-Preparatory-School.png
GEO:27.951202;-82.4669569
X-APPLE-STRUCTURED-LOCATION;VALUE=URI;X-ADDRESS=Tampa Preparatory School 727 West Cass Street Tampa FL 33606;X-APPLE-RADIUS=500;X-TITLE=727 West Cass Street:geo:-82.4669569,27.951202
END:VEVENT
BEGIN:VEVENT
DTSTART;TZID=America/New_York:20191106T180000
DTEND;TZID=America/New_York:20191106T200000
DTSTAMP:20260421T151600
CREATED:20190926T173917Z
LAST-MODIFIED:20190926T173917Z
UID:7231-1573063200-1573070400@www.thecollegefundingcoach.org
SUMMARY:Thales Academy - Apex JH/HS
DESCRIPTION:
URL:https://www.thecollegefundingcoach.org/class/thales-academy-apex-jh-hs/
LOCATION:Thales Academy – Apex JH/HS\, 1300 N Salem St\, Apex\, NC\, 27502
CATEGORIES:Classes,Workshops
ATTACH;FMTTYPE=image/png:https://www.thecollegefundingcoach.org/wp-content/uploads/2019/09/Thales-Academy-Apex-JHHS.png
GEO:35.744958;-78.8490129
X-APPLE-STRUCTURED-LOCATION;VALUE=URI;X-ADDRESS=Thales Academy – Apex JH/HS 1300 N Salem St Apex NC 27502;X-APPLE-RADIUS=500;X-TITLE=1300 N Salem St:geo:-78.8490129,35.744958
END:VEVENT
BEGIN:VEVENT
DTSTART;TZID=America/New_York:20191106T183000
DTEND;TZID=America/New_York:20191106T200000
DTSTAMP:20260421T151600
CREATED:20190912T123428Z
LAST-MODIFIED:20190912T123428Z
UID:7066-1573065000-1573070400@www.thecollegefundingcoach.org
SUMMARY:Antioch High School
DESCRIPTION:
URL:https://www.thecollegefundingcoach.org/class/antioch-high-school-2/
LOCATION:Antioch High School\, 700 West 18th Street (Career Center)\, Antioch\, CA\, 94509
CATEGORIES:Classes,Workshops
ATTACH;FMTTYPE=image/png:https://www.thecollegefundingcoach.org/wp-content/uploads/2019/09/Antioch-High-School.png
GEO:38.005316;-121.815771
X-APPLE-STRUCTURED-LOCATION;VALUE=URI;X-ADDRESS=Antioch High School 700 West 18th Street (Career Center) Antioch CA 94509;X-APPLE-RADIUS=500;X-TITLE=700 West 18th Street (Career Center):geo:-121.815771,38.005316
END:VEVENT
BEGIN:VEVENT
DTSTART;TZID=America/New_York:20191106T183000
DTEND;TZID=America/New_York:20191106T203000
DTSTAMP:20260421T151600
CREATED:20191010T150217Z
LAST-MODIFIED:20191010T150217Z
UID:7324-1573065000-1573072200@www.thecollegefundingcoach.org
SUMMARY:Monacan High School
DESCRIPTION:
URL:https://www.thecollegefundingcoach.org/class/monacan-high-school/
LOCATION:Monacan High School\, 11501 Smoketree Dr \, North Chesterfield\, VA\, 23236\, United States
CATEGORIES:Classes,Workshops
ATTACH;FMTTYPE=image/png:https://www.thecollegefundingcoach.org/wp-content/uploads/2019/10/Monacan-High-School.png
GEO:37.4808785;-77.614166
X-APPLE-STRUCTURED-LOCATION;VALUE=URI;X-ADDRESS=Monacan High School 11501 Smoketree Dr  North Chesterfield VA 23236 United States;X-APPLE-RADIUS=500;X-TITLE=11501 Smoketree Dr:geo:-77.614166,37.4808785
END:VEVENT
BEGIN:VEVENT
DTSTART;TZID=America/New_York:20191106T190000
DTEND;TZID=America/New_York:20191106T210000
DTSTAMP:20260421T151600
CREATED:20190724T184258Z
LAST-MODIFIED:20190724T184258Z
UID:6610-1573066800-1573074000@www.thecollegefundingcoach.org
SUMMARY:Bishop Ireton High School
DESCRIPTION:
URL:https://www.thecollegefundingcoach.org/class/bishop-ireton-high-school/
LOCATION:Bishop Ireton High School\, 201 Cambridge Road\, Alexandria\, VA\, 22314
CATEGORIES:Classes,Workshops
ATTACH;FMTTYPE=image/png:https://www.thecollegefundingcoach.org/wp-content/uploads/2019/07/Bishop-Ireton-High-School.png
GEO:38.8090974;-77.080924
X-APPLE-STRUCTURED-LOCATION;VALUE=URI;X-ADDRESS=Bishop Ireton High School 201 Cambridge Road Alexandria VA 22314;X-APPLE-RADIUS=500;X-TITLE=201 Cambridge Road:geo:-77.080924,38.8090974
END:VEVENT
BEGIN:VEVENT
DTSTART;TZID=America/New_York:20191107T180000
DTEND;TZID=America/New_York:20191107T200000
DTSTAMP:20260421T151600
CREATED:20190910T161416Z
LAST-MODIFIED:20190912T153506Z
UID:7046-1573149600-1573156800@www.thecollegefundingcoach.org
SUMMARY:United Christian Academy
DESCRIPTION:
URL:https://www.thecollegefundingcoach.org/class/united-christian-academy-2/
LOCATION:United Christian Academy\, 225 Crusader Court\, Stanardsville\, Virginia\, 22973
CATEGORIES:Classes,Workshops
ATTACH;FMTTYPE=image/png:https://www.thecollegefundingcoach.org/wp-content/uploads/2019/09/United-Christian-Academy.png
GEO:38.2740811;-78.4122284
X-APPLE-STRUCTURED-LOCATION;VALUE=URI;X-ADDRESS=United Christian Academy 225 Crusader Court Stanardsville Virginia 22973;X-APPLE-RADIUS=500;X-TITLE=225 Crusader Court:geo:-78.4122284,38.2740811
END:VEVENT
BEGIN:VEVENT
DTSTART;TZID=America/New_York:20191107T183000
DTEND;TZID=America/New_York:20191107T203000
DTSTAMP:20260421T151600
CREATED:20190917T160149Z
LAST-MODIFIED:20190917T160149Z
UID:7137-1573151400-1573158600@www.thecollegefundingcoach.org
SUMMARY:JR Tucker High School
DESCRIPTION:
URL:https://www.thecollegefundingcoach.org/class/jr-tucker-high-school/
LOCATION:JR Tucker High School\, 2910 N Parham Road\, Henrico\, VA\, 23294
CATEGORIES:Classes,Workshops
ATTACH;FMTTYPE=image/png:https://www.thecollegefundingcoach.org/wp-content/uploads/2019/09/JR-Tucker-High-School.png
GEO:37.6293253;-77.5468951
X-APPLE-STRUCTURED-LOCATION;VALUE=URI;X-ADDRESS=JR Tucker High School 2910 N Parham Road Henrico VA 23294;X-APPLE-RADIUS=500;X-TITLE=2910 N Parham Road:geo:-77.5468951,37.6293253
END:VEVENT
END:VCALENDAR