BEGIN:VCALENDAR
VERSION:2.0
PRODID:-//The College Funding Coach - ECPv6.15.17//NONSGML v1.0//EN
CALSCALE:GREGORIAN
METHOD:PUBLISH
X-ORIGINAL-URL:https://www.thecollegefundingcoach.org
X-WR-CALDESC:Events for The College Funding Coach
REFRESH-INTERVAL;VALUE=DURATION:PT1H
X-Robots-Tag:noindex
X-PUBLISHED-TTL:PT1H
BEGIN:VTIMEZONE
TZID:America/New_York
BEGIN:DAYLIGHT
TZOFFSETFROM:-0500
TZOFFSETTO:-0400
TZNAME:EDT
DTSTART:20180311T070000
END:DAYLIGHT
BEGIN:STANDARD
TZOFFSETFROM:-0400
TZOFFSETTO:-0500
TZNAME:EST
DTSTART:20181104T060000
END:STANDARD
BEGIN:DAYLIGHT
TZOFFSETFROM:-0500
TZOFFSETTO:-0400
TZNAME:EDT
DTSTART:20190310T070000
END:DAYLIGHT
BEGIN:STANDARD
TZOFFSETFROM:-0400
TZOFFSETTO:-0500
TZNAME:EST
DTSTART:20191103T060000
END:STANDARD
BEGIN:DAYLIGHT
TZOFFSETFROM:-0500
TZOFFSETTO:-0400
TZNAME:EDT
DTSTART:20200308T070000
END:DAYLIGHT
BEGIN:STANDARD
TZOFFSETFROM:-0400
TZOFFSETTO:-0500
TZNAME:EST
DTSTART:20201101T060000
END:STANDARD
END:VTIMEZONE
BEGIN:VEVENT
DTSTART;TZID=America/New_York:20190826T183000
DTEND;TZID=America/New_York:20190826T203000
DTSTAMP:20260422T191931
CREATED:20190306T192730Z
LAST-MODIFIED:20190404T202736Z
UID:5692-1566844200-1566851400@www.thecollegefundingcoach.org
SUMMARY:Levine Middle College
DESCRIPTION: 
URL:https://www.thecollegefundingcoach.org/class/levine-middle-college/
LOCATION:Levine Middle College\, 2728 Campus Ridge Rd.\, Matthews\, NC\, 28105
CATEGORIES:Classes,Workshops
ATTACH;FMTTYPE=image/jpeg:https://www.thecollegefundingcoach.org/wp-content/uploads/2019/03/Levine-MC.jpg
GEO:35.1053253;-80.6921867
X-APPLE-STRUCTURED-LOCATION;VALUE=URI;X-ADDRESS=Levine Middle College 2728 Campus Ridge Rd. Matthews NC 28105;X-APPLE-RADIUS=500;X-TITLE=2728 Campus Ridge Rd.:geo:-80.6921867,35.1053253
END:VEVENT
END:VCALENDAR