BEGIN:VCALENDAR
VERSION:2.0
PRODID:-//The College Funding Coach - ECPv6.15.17//NONSGML v1.0//EN
CALSCALE:GREGORIAN
METHOD:PUBLISH
X-WR-CALNAME:The College Funding Coach
X-ORIGINAL-URL:https://www.thecollegefundingcoach.org
X-WR-CALDESC:Events for The College Funding Coach
REFRESH-INTERVAL;VALUE=DURATION:PT1H
X-Robots-Tag:noindex
X-PUBLISHED-TTL:PT1H
BEGIN:VTIMEZONE
TZID:America/New_York
BEGIN:DAYLIGHT
TZOFFSETFROM:-0500
TZOFFSETTO:-0400
TZNAME:EDT
DTSTART:20180311T070000
END:DAYLIGHT
BEGIN:STANDARD
TZOFFSETFROM:-0400
TZOFFSETTO:-0500
TZNAME:EST
DTSTART:20181104T060000
END:STANDARD
BEGIN:DAYLIGHT
TZOFFSETFROM:-0500
TZOFFSETTO:-0400
TZNAME:EDT
DTSTART:20190310T070000
END:DAYLIGHT
BEGIN:STANDARD
TZOFFSETFROM:-0400
TZOFFSETTO:-0500
TZNAME:EST
DTSTART:20191103T060000
END:STANDARD
BEGIN:DAYLIGHT
TZOFFSETFROM:-0500
TZOFFSETTO:-0400
TZNAME:EDT
DTSTART:20200308T070000
END:DAYLIGHT
BEGIN:STANDARD
TZOFFSETFROM:-0400
TZOFFSETTO:-0500
TZNAME:EST
DTSTART:20201101T060000
END:STANDARD
END:VTIMEZONE
BEGIN:VEVENT
DTSTART;TZID=America/New_York:20190522T180000
DTEND;TZID=America/New_York:20190522T200000
DTSTAMP:20260422T184950
CREATED:20190327T135531Z
LAST-MODIFIED:20190404T202334Z
UID:5710-1558548000-1558555200@www.thecollegefundingcoach.org
SUMMARY:Jay M. Robinson Middle School
DESCRIPTION: 
URL:https://www.thecollegefundingcoach.org/class/jay-m-robinson-middle-school/
LOCATION:Jay M. Robinson Middle School\, 5925 Ballantyne Commons Pkwy\, Charlotte\, NC\, 28277
CATEGORIES:Classes,Workshops
ATTACH;FMTTYPE=image/jpeg:https://www.thecollegefundingcoach.org/wp-content/uploads/2019/03/Jay-M-Robinson.jpg
GEO:35.0629311;-80.7832881
X-APPLE-STRUCTURED-LOCATION;VALUE=URI;X-ADDRESS=Jay M. Robinson Middle School 5925 Ballantyne Commons Pkwy Charlotte NC 28277;X-APPLE-RADIUS=500;X-TITLE=5925 Ballantyne Commons Pkwy:geo:-80.7832881,35.0629311
END:VEVENT
END:VCALENDAR