BEGIN:VCALENDAR
VERSION:2.0
PRODID:-//The College Funding Coach - ECPv6.15.17//NONSGML v1.0//EN
CALSCALE:GREGORIAN
METHOD:PUBLISH
X-WR-CALNAME:The College Funding Coach
X-ORIGINAL-URL:https://www.thecollegefundingcoach.org
X-WR-CALDESC:Events for The College Funding Coach
REFRESH-INTERVAL;VALUE=DURATION:PT1H
X-Robots-Tag:noindex
X-PUBLISHED-TTL:PT1H
BEGIN:VTIMEZONE
TZID:America/New_York
BEGIN:DAYLIGHT
TZOFFSETFROM:-0500
TZOFFSETTO:-0400
TZNAME:EDT
DTSTART:20170312T070000
END:DAYLIGHT
BEGIN:STANDARD
TZOFFSETFROM:-0400
TZOFFSETTO:-0500
TZNAME:EST
DTSTART:20171105T060000
END:STANDARD
BEGIN:DAYLIGHT
TZOFFSETFROM:-0500
TZOFFSETTO:-0400
TZNAME:EDT
DTSTART:20180311T070000
END:DAYLIGHT
BEGIN:STANDARD
TZOFFSETFROM:-0400
TZOFFSETTO:-0500
TZNAME:EST
DTSTART:20181104T060000
END:STANDARD
BEGIN:DAYLIGHT
TZOFFSETFROM:-0500
TZOFFSETTO:-0400
TZNAME:EDT
DTSTART:20190310T070000
END:DAYLIGHT
BEGIN:STANDARD
TZOFFSETFROM:-0400
TZOFFSETTO:-0500
TZNAME:EST
DTSTART:20191103T060000
END:STANDARD
END:VTIMEZONE
BEGIN:VEVENT
DTSTART;TZID=America/New_York:20180918T190000
DTEND;TZID=America/New_York:20180918T210000
DTSTAMP:20260423T072654
CREATED:20180807T200249Z
LAST-MODIFIED:20180807T200249Z
UID:5515-1537297200-1537304400@www.thecollegefundingcoach.org
SUMMARY:Bergen Tech High School Paramus: Little-Known Secrets of Paying for College
DESCRIPTION:
URL:https://www.thecollegefundingcoach.org/class/bergen-tech-high-school-paramus-little-known-secrets-of-paying-for-college-2/
LOCATION:Bergen Tech High School Paramus\, 275 Pascack Rd.\, Paramus\, NJ\, 07652
CATEGORIES:Classes,Workshops
GEO:40.959419;-74.0589237
X-APPLE-STRUCTURED-LOCATION;VALUE=URI;X-ADDRESS=Bergen Tech High School Paramus 275 Pascack Rd. Paramus NJ 07652;X-APPLE-RADIUS=500;X-TITLE=275 Pascack Rd.:geo:-74.0589237,40.959419
END:VEVENT
BEGIN:VEVENT
DTSTART;TZID=America/New_York:20180919T180000
DTEND;TZID=America/New_York:20180919T200000
DTSTAMP:20260423T072654
CREATED:20180813T131608Z
LAST-MODIFIED:20180813T131608Z
UID:3925-1537380000-1537387200@www.thecollegefundingcoach.org
SUMMARY:2000 Market St.\, Philadelphia\, PA 19103: Little-Known Secrets of Paying for College
DESCRIPTION:
URL:https://www.thecollegefundingcoach.org/class/2000-market-st-philadelphia-pa-19103-little-known-secrets-of-paying-for-college/
LOCATION:2000 Market St.\, Philadelphia\, PA 19103
CATEGORIES:Classes,Workshops
END:VEVENT
BEGIN:VEVENT
DTSTART;TZID=America/New_York:20180919T180000
DTEND;TZID=America/New_York:20180919T200000
DTSTAMP:20260423T072654
CREATED:20180813T131608Z
LAST-MODIFIED:20180813T131608Z
UID:5537-1537380000-1537387200@www.thecollegefundingcoach.org
SUMMARY:2000 Market St.\, Philadelphia\, PA 19103: Little-Known Secrets of Paying for College
DESCRIPTION:
URL:https://www.thecollegefundingcoach.org/class/2000-market-st-philadelphia-pa-19103-little-known-secrets-of-paying-for-college-4/
LOCATION:2000 Market St.\, Philadelphia\, PA 19103
CATEGORIES:Classes,Workshops
END:VEVENT
BEGIN:VEVENT
DTSTART;TZID=America/New_York:20180919T183000
DTEND;TZID=America/New_York:20180919T203000
DTSTAMP:20260423T072654
CREATED:20180813T204022Z
LAST-MODIFIED:20180813T204022Z
UID:3935-1537381800-1537389000@www.thecollegefundingcoach.org
SUMMARY:Norfolk Christian Schools: Little-Known Secrets of Paying for College
DESCRIPTION:
URL:https://www.thecollegefundingcoach.org/class/norfolk-christian-schools-little-known-secrets-of-paying-for-college/
LOCATION:Norfolk Christian Schools\, 255 Thole Street\, Norfolk\, VA\, 23505
CATEGORIES:Classes,Workshops
GEO:36.9044188;-76.2712643
X-APPLE-STRUCTURED-LOCATION;VALUE=URI;X-ADDRESS=Norfolk Christian Schools 255 Thole Street Norfolk VA 23505;X-APPLE-RADIUS=500;X-TITLE=255 Thole Street:geo:-76.2712643,36.9044188
END:VEVENT
BEGIN:VEVENT
DTSTART;TZID=America/New_York:20180919T183000
DTEND;TZID=America/New_York:20180919T203000
DTSTAMP:20260423T072654
CREATED:20180813T204022Z
LAST-MODIFIED:20180813T204022Z
UID:5542-1537381800-1537389000@www.thecollegefundingcoach.org
SUMMARY:Norfolk Christian Schools: Little-Known Secrets of Paying for College
DESCRIPTION:
URL:https://www.thecollegefundingcoach.org/class/norfolk-christian-schools-little-known-secrets-of-paying-for-college-2/
LOCATION:Norfolk Christian Schools\, 255 Thole Street\, Norfolk\, VA\, 23505
CATEGORIES:Classes,Workshops
GEO:36.9044188;-76.2712643
X-APPLE-STRUCTURED-LOCATION;VALUE=URI;X-ADDRESS=Norfolk Christian Schools 255 Thole Street Norfolk VA 23505;X-APPLE-RADIUS=500;X-TITLE=255 Thole Street:geo:-76.2712643,36.9044188
END:VEVENT
BEGIN:VEVENT
DTSTART;TZID=America/New_York:20180920T070000
DTEND;TZID=America/New_York:20180920T210000
DTSTAMP:20260423T072654
CREATED:20180917T191344Z
LAST-MODIFIED:20180917T191344Z
UID:5581-1537426800-1537477200@www.thecollegefundingcoach.org
SUMMARY:Stanley Middle School: Little-Known Secrets of Paying for College
DESCRIPTION:The College Funding Coach® is here to help families figure out HOW to pay for it! Through our educational workshop\, Little Known Secrets of Paying for College you will learn:\n\n\n\n 	\n\nHow to avoid jeopardizing your retirement nest egg!\n\n\n 	\n\nEffective ways to simultaneously save AND pay for college\n\n\n 	\n\nStrategies to pay for multiple children attending college at the same time\n\n\n 	\n\nHow to recapture out of pocket college costs\n\n\n 	\n\nAnd much\, much more!\n\n\n\n\n\nPLEASE RSVP AT 925.328.1515 OR ASMRC.ORG/AF/COLLEGEWORKSHOPLAFAYETTE]]>
URL:https://www.thecollegefundingcoach.org/class/stanley-middle-school-little-known-secrets-of-paying-for-college-2/
LOCATION:headshot_ashton
CATEGORIES:Classes,Workshops
END:VEVENT
BEGIN:VEVENT
DTSTART;TZID=America/New_York:20180920T070000
DTEND;TZID=America/New_York:20180920T210000
DTSTAMP:20260423T072654
CREATED:20180917T191344Z
LAST-MODIFIED:20180917T191344Z
UID:4748-1537426800-1537477200@www.thecollegefundingcoach.org
SUMMARY:Stanley Middle School: Little-Known Secrets of Paying for College
DESCRIPTION:For many families\, the high cost of higher education is a daunting proposition. Parents lie awake at night trying to figure out how to afford sending 1\, 2\, 3 or more children to college and still have enough of their hard earned money to be able to retire. Some families have children attending college next year and others have 12 years to plan; but the fears of tackling these monumental and rising costs are the same. The College Funding Coach® is here to help families figure out HOW to pay for it! Through our educational workshop\, Little Known Secrets of Paying for College you will learn: \n\nHow to avoid jeopardizing your retirement nest egg!\nEffective ways to simultaneously save AND pay for college\nStrategies to pay for multiple children attending college at the same time\nHow to recapture out of pocket college costs\nAnd much\, much more!\n\nPLEASE RSVP AT 925.328.1515 OR ASMRC.ORG/AF/COLLEGEWORKSHOPLAFAYETTE
URL:https://www.thecollegefundingcoach.org/class/stanley-middle-school-little-known-secrets-of-paying-for-college/
LOCATION:headshot_ashton
CATEGORIES:Classes,Workshops
END:VEVENT
BEGIN:VEVENT
DTSTART;TZID=America/New_York:20180920T180000
DTEND;TZID=America/New_York:20180920T200000
DTSTAMP:20260423T072654
CREATED:20180719T192327Z
LAST-MODIFIED:20180719T192327Z
UID:3845-1537466400-1537473600@www.thecollegefundingcoach.org
SUMMARY:Columbus East High School: Little-Known Secrets of Paying for College
DESCRIPTION:
URL:https://www.thecollegefundingcoach.org/class/columbus-east-high-school-little-known-secrets-of-paying-for-college/
LOCATION:Columbus East High School – Auditorium\, 230 S Marr Rd.\, Columbus\, IN\, 47201
CATEGORIES:Classes,Workshops
GEO:39.1951678;-85.8861986
X-APPLE-STRUCTURED-LOCATION;VALUE=URI;X-ADDRESS=Columbus East High School – Auditorium 230 S Marr Rd. Columbus IN 47201;X-APPLE-RADIUS=500;X-TITLE=230 S Marr Rd.:geo:-85.8861986,39.1951678
END:VEVENT
BEGIN:VEVENT
DTSTART;TZID=America/New_York:20180920T180000
DTEND;TZID=America/New_York:20180920T200000
DTSTAMP:20260423T072654
CREATED:20180719T192327Z
LAST-MODIFIED:20180719T192327Z
UID:5500-1537466400-1537473600@www.thecollegefundingcoach.org
SUMMARY:Columbus East High School: Little-Known Secrets of Paying for College
DESCRIPTION:
URL:https://www.thecollegefundingcoach.org/class/columbus-east-high-school-little-known-secrets-of-paying-for-college-2/
LOCATION:Columbus East High School – Auditorium\, 230 S Marr Rd.\, Columbus\, IN\, 47201
CATEGORIES:Classes,Workshops
GEO:39.1951678;-85.8861986
X-APPLE-STRUCTURED-LOCATION;VALUE=URI;X-ADDRESS=Columbus East High School – Auditorium 230 S Marr Rd. Columbus IN 47201;X-APPLE-RADIUS=500;X-TITLE=230 S Marr Rd.:geo:-85.8861986,39.1951678
END:VEVENT
BEGIN:VEVENT
DTSTART;TZID=America/New_York:20180920T194500
DTEND;TZID=America/New_York:20180920T210000
DTSTAMP:20260423T072654
CREATED:20180607T214217Z
LAST-MODIFIED:20180607T214217Z
UID:5493-1537472700-1537477200@www.thecollegefundingcoach.org
SUMMARY:Loudoun School for the Gifted: Little-Known Secrets of Paying for College
DESCRIPTION:
URL:https://www.thecollegefundingcoach.org/class/loudoun-school-for-the-gifted-little-known-secrets-of-paying-for-college-2/
LOCATION:Loudoun School for the Gifted\, 44675 Cape Ct\, Ashburn\, VA\, 20147\, United States
CATEGORIES:Classes,Workshops
GEO:39.0176801;-77.4551809
X-APPLE-STRUCTURED-LOCATION;VALUE=URI;X-ADDRESS=Loudoun School for the Gifted 44675 Cape Ct Ashburn VA 20147 United States;X-APPLE-RADIUS=500;X-TITLE=44675 Cape Ct:geo:-77.4551809,39.0176801
END:VEVENT
BEGIN:VEVENT
DTSTART;TZID=America/New_York:20180920T194500
DTEND;TZID=America/New_York:20180920T210000
DTSTAMP:20260423T072654
CREATED:20180607T214217Z
LAST-MODIFIED:20180607T214217Z
UID:3821-1537472700-1537477200@www.thecollegefundingcoach.org
SUMMARY:Loudoun School for the Gifted: Little-Known Secrets of Paying for College
DESCRIPTION:
URL:https://www.thecollegefundingcoach.org/class/loudoun-school-for-the-gifted-little-known-secrets-of-paying-for-college/
LOCATION:Loudoun School for the Gifted\, 44675 Cape Ct\, Ashburn\, VA\, 20147\, United States
CATEGORIES:Classes,Workshops
GEO:39.0176801;-77.4551809
X-APPLE-STRUCTURED-LOCATION;VALUE=URI;X-ADDRESS=Loudoun School for the Gifted 44675 Cape Ct Ashburn VA 20147 United States;X-APPLE-RADIUS=500;X-TITLE=44675 Cape Ct:geo:-77.4551809,39.0176801
END:VEVENT
END:VCALENDAR