BEGIN:VCALENDAR
VERSION:2.0
PRODID:-//The College Funding Coach - ECPv6.15.17//NONSGML v1.0//EN
CALSCALE:GREGORIAN
METHOD:PUBLISH
X-WR-CALNAME:The College Funding Coach
X-ORIGINAL-URL:https://www.thecollegefundingcoach.org
X-WR-CALDESC:Events for The College Funding Coach
REFRESH-INTERVAL;VALUE=DURATION:PT1H
X-Robots-Tag:noindex
X-PUBLISHED-TTL:PT1H
BEGIN:VTIMEZONE
TZID:America/New_York
BEGIN:DAYLIGHT
TZOFFSETFROM:-0500
TZOFFSETTO:-0400
TZNAME:EDT
DTSTART:20170312T070000
END:DAYLIGHT
BEGIN:STANDARD
TZOFFSETFROM:-0400
TZOFFSETTO:-0500
TZNAME:EST
DTSTART:20171105T060000
END:STANDARD
BEGIN:DAYLIGHT
TZOFFSETFROM:-0500
TZOFFSETTO:-0400
TZNAME:EDT
DTSTART:20180311T070000
END:DAYLIGHT
BEGIN:STANDARD
TZOFFSETFROM:-0400
TZOFFSETTO:-0500
TZNAME:EST
DTSTART:20181104T060000
END:STANDARD
BEGIN:DAYLIGHT
TZOFFSETFROM:-0500
TZOFFSETTO:-0400
TZNAME:EDT
DTSTART:20190310T070000
END:DAYLIGHT
BEGIN:STANDARD
TZOFFSETFROM:-0400
TZOFFSETTO:-0500
TZNAME:EST
DTSTART:20191103T060000
END:STANDARD
END:VTIMEZONE
BEGIN:VEVENT
DTSTART;TZID=America/New_York:20180501T180000
DTEND;TZID=America/New_York:20180501T200000
DTSTAMP:20260422T163817
CREATED:20171031T133748Z
LAST-MODIFIED:20171031T133748Z
UID:5352-1525197600-1525204800@www.thecollegefundingcoach.org
SUMMARY:Springfield High School: Little-Known Secrets of Paying for College
DESCRIPTION:For many families\, the high cost of higher education is a daunting proposition. Parents lie awake at night trying to figure out how to afford sending their children to college and still have enough of their hard earned money to be able to retire one day. Some families have children attending college next year and others have 12 years to plan; but the fears of tackling these monumental and rising costs are the same. The College Funding Coach® is here to help families figure out HOW to pay for it! Through our educational workshop\, Little-Known Secrets of Paying for College you will learn:\n\n\n\n 	\n\nHow to avoid jeopardizing your retirement nest egg!\n\n\n 	\n\nEffective ways to simultaneously save AND pay for college\n\n\n 	\n\nStrategies to pay for multiple children attending college at the same time\n\n\n 	\n\nHow to recapture out of pocket college costs\n\n\n 	\n\nAnd much\, much more!\n\n\n\n\n]]>
URL:https://www.thecollegefundingcoach.org/class/springfield-high-school-little-known-secrets-of-paying-for-college-3/
LOCATION:Springfield High School\, 49 W Leamy Ave.\, Springfield\, PA\, 19064
CATEGORIES:Classes,Workshops
GEO:39.9283829;-75.337002
X-APPLE-STRUCTURED-LOCATION;VALUE=URI;X-ADDRESS=Springfield High School 49 W Leamy Ave. Springfield PA 19064;X-APPLE-RADIUS=500;X-TITLE=49 W Leamy Ave.:geo:-75.337002,39.9283829
END:VEVENT
BEGIN:VEVENT
DTSTART;TZID=America/New_York:20180501T183000
DTEND;TZID=America/New_York:20180501T203000
DTSTAMP:20260422T163818
CREATED:20180314T125932Z
LAST-MODIFIED:20180314T125932Z
UID:3734-1525199400-1525206600@www.thecollegefundingcoach.org
SUMMARY:Southern Lehigh Public Library: Little-Known Secrets of Paying for College
DESCRIPTION:
URL:https://www.thecollegefundingcoach.org/class/southern-lehigh-public-library-little-known-secrets-of-paying-for-college/
LOCATION:Southern Lehigh Public Library\, 3200 Preston Lane\, Center Valley\, PA\, 18034
CATEGORIES:Classes,Workshops
GEO:40.536038;-75.388676
X-APPLE-STRUCTURED-LOCATION;VALUE=URI;X-ADDRESS=Southern Lehigh Public Library 3200 Preston Lane Center Valley PA 18034;X-APPLE-RADIUS=500;X-TITLE=3200 Preston Lane:geo:-75.388676,40.536038
END:VEVENT
BEGIN:VEVENT
DTSTART;TZID=America/New_York:20180501T183000
DTEND;TZID=America/New_York:20180501T203000
DTSTAMP:20260422T163818
CREATED:20180314T125932Z
LAST-MODIFIED:20180314T125932Z
UID:4628-1525199400-1525206600@www.thecollegefundingcoach.org
SUMMARY:Southern Lehigh Public Library: Little-Known Secrets of Paying for College
DESCRIPTION:
URL:https://www.thecollegefundingcoach.org/class/southern-lehigh-public-library-little-known-secrets-of-paying-for-college-2/
LOCATION:Southern Lehigh Public Library\, 3200 Preston Lane\, Center Valley\, PA\, 18034
CATEGORIES:Classes,Workshops
GEO:40.536038;-75.388676
X-APPLE-STRUCTURED-LOCATION;VALUE=URI;X-ADDRESS=Southern Lehigh Public Library 3200 Preston Lane Center Valley PA 18034;X-APPLE-RADIUS=500;X-TITLE=3200 Preston Lane:geo:-75.388676,40.536038
END:VEVENT
BEGIN:VEVENT
DTSTART;TZID=America/New_York:20180501T183000
DTEND;TZID=America/New_York:20180501T203000
DTSTAMP:20260422T163818
CREATED:20180314T125932Z
LAST-MODIFIED:20180314T125932Z
UID:5465-1525199400-1525206600@www.thecollegefundingcoach.org
SUMMARY:Southern Lehigh Public Library: Little-Known Secrets of Paying for College
DESCRIPTION:
URL:https://www.thecollegefundingcoach.org/class/southern-lehigh-public-library-little-known-secrets-of-paying-for-college-3/
LOCATION:Southern Lehigh Public Library\, 3200 Preston Lane\, Center Valley\, PA\, 18034
CATEGORIES:Classes,Workshops
GEO:40.536038;-75.388676
X-APPLE-STRUCTURED-LOCATION;VALUE=URI;X-ADDRESS=Southern Lehigh Public Library 3200 Preston Lane Center Valley PA 18034;X-APPLE-RADIUS=500;X-TITLE=3200 Preston Lane:geo:-75.388676,40.536038
END:VEVENT
BEGIN:VEVENT
DTSTART;TZID=America/New_York:20180502T183000
DTEND;TZID=America/New_York:20180502T200000
DTSTAMP:20260422T163818
CREATED:20171106T191934Z
LAST-MODIFIED:20171106T191934Z
UID:3462-1525285800-1525291200@www.thecollegefundingcoach.org
SUMMARY:Trailside Middle School: Little-Known Secrets of Paying for College
DESCRIPTION:For many families\, the high cost of higher education is a daunting proposition. Parents lie awake at night trying to figure out how to afford sending their children to college and still have enough of their hard earned money to be able to retire one day. Some families have children attending college next year and others have 12 years to plan; but the fears of tackling these monumental and rising costs are the same. The College Funding Coach® is here to help families figure out HOW to pay for it! Through our educational workshop\, Little-Known Secrets of Paying for College you will learn: \n\nHow to avoid jeopardizing your retirement nest egg!\nEffective ways to simultaneously save AND pay for college\nStrategies to pay for multiple children attending college at the same time\nHow to recapture out of pocket college costs\nAnd much\, much more!
URL:https://www.thecollegefundingcoach.org/class/trailside-middle-school-little-known-secrets-of-paying-for-college-2/
LOCATION:Trailside Middle School\, 20325 Claiborne Parkway\, Ashburn\, VA\, 20147\, United States
CATEGORIES:Classes,Workshops
GEO:39.0554119;-77.5025695
X-APPLE-STRUCTURED-LOCATION;VALUE=URI;X-ADDRESS=Trailside Middle School 20325 Claiborne Parkway Ashburn VA 20147 United States;X-APPLE-RADIUS=500;X-TITLE=20325 Claiborne Parkway:geo:-77.5025695,39.0554119
END:VEVENT
BEGIN:VEVENT
DTSTART;TZID=America/New_York:20180502T183000
DTEND;TZID=America/New_York:20180502T200000
DTSTAMP:20260422T163818
CREATED:20171106T191934Z
LAST-MODIFIED:20171106T191934Z
UID:4521-1525285800-1525291200@www.thecollegefundingcoach.org
SUMMARY:Trailside Middle School: Little-Known Secrets of Paying for College
DESCRIPTION:For many families\, the high cost of higher education is a daunting proposition. Parents lie awake at night trying to figure out how to afford sending their children to college and still have enough of their hard earned money to be able to retire one day. Some families have children attending college next year and others have 12 years to plan; but the fears of tackling these monumental and rising costs are the same. The College Funding Coach® is here to help families figure out HOW to pay for it! Through our educational workshop\, Little-Known Secrets of Paying for College you will learn: \n\nHow to avoid jeopardizing your retirement nest egg!\nEffective ways to simultaneously save AND pay for college\nStrategies to pay for multiple children attending college at the same time\nHow to recapture out of pocket college costs\nAnd much\, much more!
URL:https://www.thecollegefundingcoach.org/class/trailside-middle-school-little-known-secrets-of-paying-for-college-2-2/
LOCATION:Trailside Middle School\, 20325 Claiborne Parkway\, Ashburn\, VA\, 20147\, United States
CATEGORIES:Classes,Workshops
GEO:39.0554119;-77.5025695
X-APPLE-STRUCTURED-LOCATION;VALUE=URI;X-ADDRESS=Trailside Middle School 20325 Claiborne Parkway Ashburn VA 20147 United States;X-APPLE-RADIUS=500;X-TITLE=20325 Claiborne Parkway:geo:-77.5025695,39.0554119
END:VEVENT
BEGIN:VEVENT
DTSTART;TZID=America/New_York:20180502T183000
DTEND;TZID=America/New_York:20180502T200000
DTSTAMP:20260422T163818
CREATED:20171106T191934Z
LAST-MODIFIED:20171106T191934Z
UID:5358-1525285800-1525291200@www.thecollegefundingcoach.org
SUMMARY:Trailside Middle School: Little-Known Secrets of Paying for College
DESCRIPTION:For many families\, the high cost of higher education is a daunting proposition. Parents lie awake at night trying to figure out how to afford sending their children to college and still have enough of their hard earned money to be able to retire one day. Some families have children attending college next year and others have 12 years to plan; but the fears of tackling these monumental and rising costs are the same. The College Funding Coach® is here to help families figure out HOW to pay for it! Through our educational workshop\, Little-Known Secrets of Paying for College you will learn:\n\n\n\n 	\n\nHow to avoid jeopardizing your retirement nest egg!\n\n\n 	\n\nEffective ways to simultaneously save AND pay for college\n\n\n 	\n\nStrategies to pay for multiple children attending college at the same time\n\n\n 	\n\nHow to recapture out of pocket college costs\n\n\n 	\n\nAnd much\, much more!\n\n\n\n\n]]>
URL:https://www.thecollegefundingcoach.org/class/trailside-middle-school-little-known-secrets-of-paying-for-college-2-3/
LOCATION:Trailside Middle School\, 20325 Claiborne Parkway\, Ashburn\, VA\, 20147\, United States
CATEGORIES:Classes,Workshops
GEO:39.0554119;-77.5025695
X-APPLE-STRUCTURED-LOCATION;VALUE=URI;X-ADDRESS=Trailside Middle School 20325 Claiborne Parkway Ashburn VA 20147 United States;X-APPLE-RADIUS=500;X-TITLE=20325 Claiborne Parkway:geo:-77.5025695,39.0554119
END:VEVENT
END:VCALENDAR