BEGIN:VCALENDAR
VERSION:2.0
PRODID:-//The College Funding Coach - ECPv6.15.17//NONSGML v1.0//EN
CALSCALE:GREGORIAN
METHOD:PUBLISH
X-WR-CALNAME:The College Funding Coach
X-ORIGINAL-URL:https://www.thecollegefundingcoach.org
X-WR-CALDESC:Events for The College Funding Coach
REFRESH-INTERVAL;VALUE=DURATION:PT1H
X-Robots-Tag:noindex
X-PUBLISHED-TTL:PT1H
BEGIN:VTIMEZONE
TZID:America/New_York
BEGIN:DAYLIGHT
TZOFFSETFROM:-0500
TZOFFSETTO:-0400
TZNAME:EDT
DTSTART:20170312T070000
END:DAYLIGHT
BEGIN:STANDARD
TZOFFSETFROM:-0400
TZOFFSETTO:-0500
TZNAME:EST
DTSTART:20171105T060000
END:STANDARD
BEGIN:DAYLIGHT
TZOFFSETFROM:-0500
TZOFFSETTO:-0400
TZNAME:EDT
DTSTART:20180311T070000
END:DAYLIGHT
BEGIN:STANDARD
TZOFFSETFROM:-0400
TZOFFSETTO:-0500
TZNAME:EST
DTSTART:20181104T060000
END:STANDARD
BEGIN:DAYLIGHT
TZOFFSETFROM:-0500
TZOFFSETTO:-0400
TZNAME:EDT
DTSTART:20190310T070000
END:DAYLIGHT
BEGIN:STANDARD
TZOFFSETFROM:-0400
TZOFFSETTO:-0500
TZNAME:EST
DTSTART:20191103T060000
END:STANDARD
END:VTIMEZONE
BEGIN:VEVENT
DTSTART;TZID=America/New_York:20180412T180000
DTEND;TZID=America/New_York:20180412T194500
DTSTAMP:20260421T131714
CREATED:20180404T185609Z
LAST-MODIFIED:20180404T185609Z
UID:5477-1523556000-1523562300@www.thecollegefundingcoach.org
SUMMARY:Walnut Creek Library: Little-Known Secrets of Paying for College
DESCRIPTION:For many families\, the high cost of higher education is a daunting proposition. Parents lie awake at night trying to figure out how to afford sending 1\, 2\, 3 or more children to college and still have enough of their hard earned money to be able to retire. Some families have children attending college next year and others have 12 years to plan; but the fears of tackling these monumental and rising costs are the same. The College Funding Coach® is here to help families figure out HOW to pay for it! Through our educational workshop\, Little Known Secrets of Paying for College you will learn:\n\n\n\n 	\n\nHow to avoid jeopardizing your retirement nest egg!\n\n\n 	\n\nEffective ways to simultaneously save AND pay for college\n\n\n 	\n\nStrategies to pay for multiple children attending college at the same time\n\n\n 	\n\nHow to recapture out of pocket college costs\n\n\n 	\n\nAnd much\, much more!\n\n\n\n\n]]>
URL:https://www.thecollegefundingcoach.org/class/walnut-creek-library-little-known-secrets-of-paying-for-college-3/
LOCATION:Walnut Creek Library\, 1644 N Broadway\, Walnut Creek\, CA\, 94596
CATEGORIES:Classes,Workshops
GEO:37.9013158;-122.0602628
X-APPLE-STRUCTURED-LOCATION;VALUE=URI;X-ADDRESS=Walnut Creek Library 1644 N Broadway Walnut Creek CA 94596;X-APPLE-RADIUS=500;X-TITLE=1644 N Broadway:geo:-122.0602628,37.9013158
END:VEVENT
BEGIN:VEVENT
DTSTART;TZID=America/New_York:20180414T100000
DTEND;TZID=America/New_York:20180414T120000
DTSTAMP:20260421T131714
CREATED:20180124T213256Z
LAST-MODIFIED:20180124T213256Z
UID:4567-1523700000-1523707200@www.thecollegefundingcoach.org
SUMMARY:Emmaus Public Library: Little Known Secrets of Paying for College
DESCRIPTION:
URL:https://www.thecollegefundingcoach.org/class/emmaus-public-library-little-known-secrets-of-paying-for-college-2/
LOCATION:Emmaus Public Library\, 11 East Main Street\, Emmaus\, PA\, 18049
CATEGORIES:Classes,Workshops
GEO:40.5412001;-75.4868087
X-APPLE-STRUCTURED-LOCATION;VALUE=URI;X-ADDRESS=Emmaus Public Library 11 East Main Street Emmaus PA 18049;X-APPLE-RADIUS=500;X-TITLE=11 East Main Street:geo:-75.4868087,40.5412001
END:VEVENT
BEGIN:VEVENT
DTSTART;TZID=America/New_York:20180414T100000
DTEND;TZID=America/New_York:20180414T120000
DTSTAMP:20260421T131714
CREATED:20180124T213256Z
LAST-MODIFIED:20180124T213256Z
UID:5404-1523700000-1523707200@www.thecollegefundingcoach.org
SUMMARY:Emmaus Public Library: Little Known Secrets of Paying for College
DESCRIPTION:
URL:https://www.thecollegefundingcoach.org/class/emmaus-public-library-little-known-secrets-of-paying-for-college-3/
LOCATION:Emmaus Public Library\, 11 East Main Street\, Emmaus\, PA\, 18049
CATEGORIES:Classes,Workshops
GEO:40.5412001;-75.4868087
X-APPLE-STRUCTURED-LOCATION;VALUE=URI;X-ADDRESS=Emmaus Public Library 11 East Main Street Emmaus PA 18049;X-APPLE-RADIUS=500;X-TITLE=11 East Main Street:geo:-75.4868087,40.5412001
END:VEVENT
BEGIN:VEVENT
DTSTART;TZID=America/New_York:20180414T100000
DTEND;TZID=America/New_York:20180414T120000
DTSTAMP:20260421T131714
CREATED:20180124T213256Z
LAST-MODIFIED:20180124T213256Z
UID:3594-1523700000-1523707200@www.thecollegefundingcoach.org
SUMMARY:Emmaus Public Library: Little Known Secrets of Paying for College
DESCRIPTION:
URL:https://www.thecollegefundingcoach.org/class/emmaus-public-library-little-known-secrets-of-paying-for-college/
LOCATION:Emmaus Public Library\, 11 East Main Street\, Emmaus\, PA\, 18049
CATEGORIES:Classes,Workshops
GEO:40.5412001;-75.4868087
X-APPLE-STRUCTURED-LOCATION;VALUE=URI;X-ADDRESS=Emmaus Public Library 11 East Main Street Emmaus PA 18049;X-APPLE-RADIUS=500;X-TITLE=11 East Main Street:geo:-75.4868087,40.5412001
END:VEVENT
BEGIN:VEVENT
DTSTART;TZID=America/New_York:20180416T130000
DTEND;TZID=America/New_York:20180416T150000
DTSTAMP:20260421T131714
CREATED:20180124T175538Z
LAST-MODIFIED:20180124T175538Z
UID:3589-1523883600-1523890800@www.thecollegefundingcoach.org
SUMMARY:FDA: Little-Known Secrets of Paying for College
DESCRIPTION:For many families\, the high cost of higher education is a daunting proposition. Parents lie awake at night trying to figure out how to afford sending their children to college and still have enough of their hard earned money to be able to retire one day. Some families have children attending college next year and others have 12 years to plan; but the fears of tackling these monumental and rising costs are the same. The College Funding Coach® is here to help families figure out HOW to pay for it! Through our educational workshop\, Little Known Secrets of Paying for College you will learn: \n\nHow to avoid jeopardizing your retirement nest egg!\nEffective ways to simultaneously save AND pay for college\nStrategies to pay for multiple children attending college at the same time\nHow to recapture out of pocket college costs\nAnd much\, much more!
URL:https://www.thecollegefundingcoach.org/class/fda-little-known-secrets-of-paying-for-college/
LOCATION:FDA White Oak Campus\, FDA White Oak Campus Building 2: Room 2047W\, Silver Spring\, MD\, 20993\, United States
CATEGORIES:Classes,Workshops
GEO:39.036424;-76.9826954
X-APPLE-STRUCTURED-LOCATION;VALUE=URI;X-ADDRESS=FDA White Oak Campus FDA White Oak Campus Building 2: Room 2047W Silver Spring MD 20993 United States;X-APPLE-RADIUS=500;X-TITLE=FDA White Oak Campus Building 2: Room 2047W:geo:-76.9826954,39.036424
END:VEVENT
BEGIN:VEVENT
DTSTART;TZID=America/New_York:20180416T130000
DTEND;TZID=America/New_York:20180416T150000
DTSTAMP:20260421T131714
CREATED:20180124T175538Z
LAST-MODIFIED:20180124T175538Z
UID:4564-1523883600-1523890800@www.thecollegefundingcoach.org
SUMMARY:FDA: Little-Known Secrets of Paying for College
DESCRIPTION:For many families\, the high cost of higher education is a daunting proposition. Parents lie awake at night trying to figure out how to afford sending their children to college and still have enough of their hard earned money to be able to retire one day. Some families have children attending college next year and others have 12 years to plan; but the fears of tackling these monumental and rising costs are the same. The College Funding Coach® is here to help families figure out HOW to pay for it! Through our educational workshop\, Little Known Secrets of Paying for College you will learn: \n\nHow to avoid jeopardizing your retirement nest egg!\nEffective ways to simultaneously save AND pay for college\nStrategies to pay for multiple children attending college at the same time\nHow to recapture out of pocket college costs\nAnd much\, much more!
URL:https://www.thecollegefundingcoach.org/class/fda-little-known-secrets-of-paying-for-college-5/
LOCATION:FDA White Oak Campus\, FDA White Oak Campus Building 2: Room 2047W\, Silver Spring\, MD\, 20993\, United States
CATEGORIES:Classes,Workshops
GEO:39.036424;-76.9826954
X-APPLE-STRUCTURED-LOCATION;VALUE=URI;X-ADDRESS=FDA White Oak Campus FDA White Oak Campus Building 2: Room 2047W Silver Spring MD 20993 United States;X-APPLE-RADIUS=500;X-TITLE=FDA White Oak Campus Building 2: Room 2047W:geo:-76.9826954,39.036424
END:VEVENT
BEGIN:VEVENT
DTSTART;TZID=America/New_York:20180416T130000
DTEND;TZID=America/New_York:20180416T150000
DTSTAMP:20260421T131714
CREATED:20180124T175538Z
LAST-MODIFIED:20180124T175538Z
UID:5401-1523883600-1523890800@www.thecollegefundingcoach.org
SUMMARY:FDA: Little-Known Secrets of Paying for College
DESCRIPTION:For many families\, the high cost of higher education is a daunting proposition. Parents lie awake at night trying to figure out how to afford sending their children to college and still have enough of their hard earned money to be able to retire one day. Some families have children attending college next year and others have 12 years to plan; but the fears of tackling these monumental and rising costs are the same. The College Funding Coach® is here to help families figure out HOW to pay for it! Through our educational workshop\, Little Known Secrets of Paying for College you will learn:\n\n\n\n 	\n\nHow to avoid jeopardizing your retirement nest egg!\n\n\n 	\n\nEffective ways to simultaneously save AND pay for college\n\n\n 	\n\nStrategies to pay for multiple children attending college at the same time\n\n\n 	\n\nHow to recapture out of pocket college costs\n\n\n 	\n\nAnd much\, much more!\n\n\n\n\n]]>
URL:https://www.thecollegefundingcoach.org/class/fda-little-known-secrets-of-paying-for-college-6/
LOCATION:FDA White Oak Campus\, FDA White Oak Campus Building 2: Room 2047W\, Silver Spring\, MD\, 20993\, United States
CATEGORIES:Classes,Workshops
GEO:39.036424;-76.9826954
X-APPLE-STRUCTURED-LOCATION;VALUE=URI;X-ADDRESS=FDA White Oak Campus FDA White Oak Campus Building 2: Room 2047W Silver Spring MD 20993 United States;X-APPLE-RADIUS=500;X-TITLE=FDA White Oak Campus Building 2: Room 2047W:geo:-76.9826954,39.036424
END:VEVENT
BEGIN:VEVENT
DTSTART;TZID=America/New_York:20180416T180000
DTEND;TZID=America/New_York:20180416T200000
DTSTAMP:20260421T131714
CREATED:20180323T144108Z
LAST-MODIFIED:20180323T144108Z
UID:3748-1523901600-1523908800@www.thecollegefundingcoach.org
SUMMARY:New Hope-Solebury High School: Little-Known Secrets of Paying for College: College Admissions Night
DESCRIPTION:
URL:https://www.thecollegefundingcoach.org/class/new-hope-solebury-high-school-little-known-secrets-of-paying-for-college-college-admissions-night/
LOCATION:New Hope-Solebury High School\, 182 W. Bridge Street\, New Hope\, PA\, 18938
CATEGORIES:Classes,Workshops
GEO:40.3666375;-74.9590752
X-APPLE-STRUCTURED-LOCATION;VALUE=URI;X-ADDRESS=New Hope-Solebury High School 182 W. Bridge Street New Hope PA 18938;X-APPLE-RADIUS=500;X-TITLE=182 W. Bridge Street:geo:-74.9590752,40.3666375
END:VEVENT
BEGIN:VEVENT
DTSTART;TZID=America/New_York:20180416T180000
DTEND;TZID=America/New_York:20180416T200000
DTSTAMP:20260421T131714
CREATED:20180323T144108Z
LAST-MODIFIED:20180323T144108Z
UID:4634-1523901600-1523908800@www.thecollegefundingcoach.org
SUMMARY:New Hope-Solebury High School: Little-Known Secrets of Paying for College: College Admissions Night
DESCRIPTION:
URL:https://www.thecollegefundingcoach.org/class/new-hope-solebury-high-school-little-known-secrets-of-paying-for-college-college-admissions-night-2/
LOCATION:New Hope-Solebury High School\, 182 W. Bridge Street\, New Hope\, PA\, 18938
CATEGORIES:Classes,Workshops
GEO:40.3666375;-74.9590752
X-APPLE-STRUCTURED-LOCATION;VALUE=URI;X-ADDRESS=New Hope-Solebury High School 182 W. Bridge Street New Hope PA 18938;X-APPLE-RADIUS=500;X-TITLE=182 W. Bridge Street:geo:-74.9590752,40.3666375
END:VEVENT
BEGIN:VEVENT
DTSTART;TZID=America/New_York:20180416T180000
DTEND;TZID=America/New_York:20180416T200000
DTSTAMP:20260421T131714
CREATED:20180323T144108Z
LAST-MODIFIED:20180323T144108Z
UID:5471-1523901600-1523908800@www.thecollegefundingcoach.org
SUMMARY:New Hope-Solebury High School: Little-Known Secrets of Paying for College: College Admissions Night
DESCRIPTION:
URL:https://www.thecollegefundingcoach.org/class/new-hope-solebury-high-school-little-known-secrets-of-paying-for-college-college-admissions-night-3/
LOCATION:New Hope-Solebury High School\, 182 W. Bridge Street\, New Hope\, PA\, 18938
CATEGORIES:Classes,Workshops
GEO:40.3666375;-74.9590752
X-APPLE-STRUCTURED-LOCATION;VALUE=URI;X-ADDRESS=New Hope-Solebury High School 182 W. Bridge Street New Hope PA 18938;X-APPLE-RADIUS=500;X-TITLE=182 W. Bridge Street:geo:-74.9590752,40.3666375
END:VEVENT
BEGIN:VEVENT
DTSTART;TZID=America/New_York:20180416T183000
DTEND;TZID=America/New_York:20180416T203000
DTSTAMP:20260421T131714
CREATED:20180213T152549Z
LAST-MODIFIED:20180213T152549Z
UID:3683-1523903400-1523910600@www.thecollegefundingcoach.org
SUMMARY:Ben Lippen School: Little-Known Secrets of Paying for College
DESCRIPTION:
URL:https://www.thecollegefundingcoach.org/class/ben-lippen-school-little-known-secrets-of-paying-for-college/
LOCATION:Hoke Auditorium at CIU\, 7435 Monticello Rd.\, Columbia\, SC\, 29203
CATEGORIES:Classes,Workshops
GEO:34.07601;-81.0749931
X-APPLE-STRUCTURED-LOCATION;VALUE=URI;X-ADDRESS=Hoke Auditorium at CIU 7435 Monticello Rd. Columbia SC 29203;X-APPLE-RADIUS=500;X-TITLE=7435 Monticello Rd.:geo:-81.0749931,34.07601
END:VEVENT
BEGIN:VEVENT
DTSTART;TZID=America/New_York:20180416T183000
DTEND;TZID=America/New_York:20180416T203000
DTSTAMP:20260421T131714
CREATED:20180213T152549Z
LAST-MODIFIED:20180213T152549Z
UID:4612-1523903400-1523910600@www.thecollegefundingcoach.org
SUMMARY:Ben Lippen School: Little-Known Secrets of Paying for College
DESCRIPTION:
URL:https://www.thecollegefundingcoach.org/class/ben-lippen-school-little-known-secrets-of-paying-for-college-2/
LOCATION:Hoke Auditorium at CIU\, 7435 Monticello Rd.\, Columbia\, SC\, 29203
CATEGORIES:Classes,Workshops
GEO:34.07601;-81.0749931
X-APPLE-STRUCTURED-LOCATION;VALUE=URI;X-ADDRESS=Hoke Auditorium at CIU 7435 Monticello Rd. Columbia SC 29203;X-APPLE-RADIUS=500;X-TITLE=7435 Monticello Rd.:geo:-81.0749931,34.07601
END:VEVENT
BEGIN:VEVENT
DTSTART;TZID=America/New_York:20180416T183000
DTEND;TZID=America/New_York:20180416T203000
DTSTAMP:20260421T131714
CREATED:20180213T152549Z
LAST-MODIFIED:20180213T152549Z
UID:5449-1523903400-1523910600@www.thecollegefundingcoach.org
SUMMARY:Ben Lippen School: Little-Known Secrets of Paying for College
DESCRIPTION:
URL:https://www.thecollegefundingcoach.org/class/ben-lippen-school-little-known-secrets-of-paying-for-college-3/
LOCATION:Hoke Auditorium at CIU\, 7435 Monticello Rd.\, Columbia\, SC\, 29203
CATEGORIES:Classes,Workshops
GEO:34.07601;-81.0749931
X-APPLE-STRUCTURED-LOCATION;VALUE=URI;X-ADDRESS=Hoke Auditorium at CIU 7435 Monticello Rd. Columbia SC 29203;X-APPLE-RADIUS=500;X-TITLE=7435 Monticello Rd.:geo:-81.0749931,34.07601
END:VEVENT
END:VCALENDAR