BEGIN:VCALENDAR
VERSION:2.0
PRODID:-//The College Funding Coach - ECPv6.15.17//NONSGML v1.0//EN
CALSCALE:GREGORIAN
METHOD:PUBLISH
X-WR-CALNAME:The College Funding Coach
X-ORIGINAL-URL:https://www.thecollegefundingcoach.org
X-WR-CALDESC:Events for The College Funding Coach
REFRESH-INTERVAL;VALUE=DURATION:PT1H
X-Robots-Tag:noindex
X-PUBLISHED-TTL:PT1H
BEGIN:VTIMEZONE
TZID:America/New_York
BEGIN:DAYLIGHT
TZOFFSETFROM:-0500
TZOFFSETTO:-0400
TZNAME:EDT
DTSTART:20170312T070000
END:DAYLIGHT
BEGIN:STANDARD
TZOFFSETFROM:-0400
TZOFFSETTO:-0500
TZNAME:EST
DTSTART:20171105T060000
END:STANDARD
BEGIN:DAYLIGHT
TZOFFSETFROM:-0500
TZOFFSETTO:-0400
TZNAME:EDT
DTSTART:20180311T070000
END:DAYLIGHT
BEGIN:STANDARD
TZOFFSETFROM:-0400
TZOFFSETTO:-0500
TZNAME:EST
DTSTART:20181104T060000
END:STANDARD
BEGIN:DAYLIGHT
TZOFFSETFROM:-0500
TZOFFSETTO:-0400
TZNAME:EDT
DTSTART:20190310T070000
END:DAYLIGHT
BEGIN:STANDARD
TZOFFSETFROM:-0400
TZOFFSETTO:-0500
TZNAME:EST
DTSTART:20191103T060000
END:STANDARD
END:VTIMEZONE
BEGIN:VEVENT
DTSTART;TZID=America/New_York:20180314T180000
DTEND;TZID=America/New_York:20180314T200000
DTSTAMP:20260420T045733
CREATED:20180215T165245Z
LAST-MODIFIED:20180215T165245Z
UID:4613-1521050400-1521057600@www.thecollegefundingcoach.org
SUMMARY:Dozier Libbey Medical High School: Little-Known Secrets of Paying for College
DESCRIPTION:
URL:https://www.thecollegefundingcoach.org/class/dozier-libbey-medical-high-school-little-known-secrets-of-paying-for-college-2-2/
LOCATION:Dozier Libbey Medical High School\, 4900 Sand Creek Rd.\, Antioch\, CA\, 94531
CATEGORIES:Classes,Workshops
GEO:37.948389;-121.7684394
X-APPLE-STRUCTURED-LOCATION;VALUE=URI;X-ADDRESS=Dozier Libbey Medical High School 4900 Sand Creek Rd. Antioch CA 94531;X-APPLE-RADIUS=500;X-TITLE=4900 Sand Creek Rd.:geo:-121.7684394,37.948389
END:VEVENT
BEGIN:VEVENT
DTSTART;TZID=America/New_York:20180314T180000
DTEND;TZID=America/New_York:20180314T200000
DTSTAMP:20260420T045733
CREATED:20180215T165245Z
LAST-MODIFIED:20180215T165245Z
UID:5450-1521050400-1521057600@www.thecollegefundingcoach.org
SUMMARY:Dozier Libbey Medical High School: Little-Known Secrets of Paying for College
DESCRIPTION:
URL:https://www.thecollegefundingcoach.org/class/dozier-libbey-medical-high-school-little-known-secrets-of-paying-for-college-2-3/
LOCATION:Dozier Libbey Medical High School\, 4900 Sand Creek Rd.\, Antioch\, CA\, 94531
CATEGORIES:Classes,Workshops
GEO:37.948389;-121.7684394
X-APPLE-STRUCTURED-LOCATION;VALUE=URI;X-ADDRESS=Dozier Libbey Medical High School 4900 Sand Creek Rd. Antioch CA 94531;X-APPLE-RADIUS=500;X-TITLE=4900 Sand Creek Rd.:geo:-121.7684394,37.948389
END:VEVENT
BEGIN:VEVENT
DTSTART;TZID=America/New_York:20180314T183000
DTEND;TZID=America/New_York:20180314T203000
DTSTAMP:20260420T045733
CREATED:20170303T130625Z
LAST-MODIFIED:20170303T130625Z
UID:3050-1521052200-1521059400@www.thecollegefundingcoach.org
SUMMARY:Gwynedd Mercy Academy: Little-Known Secrets of Paying for College
DESCRIPTION:  \n  \nFor many families\, the high cost of higher education is a daunting proposition. Parents lie awake at night trying to figure out how to afford sending 1\, 2\, 3 or more children to college and still have enough of their hard earned money to be able to retire. Some families have children attending college next year and others have 12 years to plan; but the fears of tackling these monumental and rising costs are the same. The College Funding Coach® is here to help families figure out HOW to pay for it! Through our educational workshop\, Little Known Secrets of Paying for College you will learn: \n\nHow to avoid jeopardizing your retirement nest egg!\nEffective ways to simultaneously save AND pay for college\nStrategies to pay for multiple children attending college at the same time\nHow to recapture out of pocket college costs\nAnd much\, much more!\n\n 
URL:https://www.thecollegefundingcoach.org/class/gwynedd-mercy-academy-little-known-secrets-of-paying-for-college/
LOCATION:Gwynedd Mercy Academy High School\, 1345 Sumneytown Pike\, Gwynedd Valley\, PA\, 19437\, United States
CATEGORIES:Classes,Workshops
GEO:40.1981161;-75.2416198
X-APPLE-STRUCTURED-LOCATION;VALUE=URI;X-ADDRESS=Gwynedd Mercy Academy High School 1345 Sumneytown Pike Gwynedd Valley PA 19437 United States;X-APPLE-RADIUS=500;X-TITLE=1345 Sumneytown Pike:geo:-75.2416198,40.1981161
END:VEVENT
BEGIN:VEVENT
DTSTART;TZID=America/New_York:20180314T183000
DTEND;TZID=America/New_York:20180314T203000
DTSTAMP:20260420T045733
CREATED:20170303T130625Z
LAST-MODIFIED:20170303T130625Z
UID:4393-1521052200-1521059400@www.thecollegefundingcoach.org
SUMMARY:Gwynedd Mercy Academy: Little-Known Secrets of Paying for College
DESCRIPTION:  \n  \nFor many families\, the high cost of higher education is a daunting proposition. Parents lie awake at night trying to figure out how to afford sending 1\, 2\, 3 or more children to college and still have enough of their hard earned money to be able to retire. Some families have children attending college next year and others have 12 years to plan; but the fears of tackling these monumental and rising costs are the same. The College Funding Coach® is here to help families figure out HOW to pay for it! Through our educational workshop\, Little Known Secrets of Paying for College you will learn: \n\nHow to avoid jeopardizing your retirement nest egg!\nEffective ways to simultaneously save AND pay for college\nStrategies to pay for multiple children attending college at the same time\nHow to recapture out of pocket college costs\nAnd much\, much more!\n\n 
URL:https://www.thecollegefundingcoach.org/class/gwynedd-mercy-academy-little-known-secrets-of-paying-for-college-2/
LOCATION:Gwynedd Mercy Academy High School\, 1345 Sumneytown Pike\, Gwynedd Valley\, PA\, 19437\, United States
CATEGORIES:Classes,Workshops
GEO:40.1981161;-75.2416198
X-APPLE-STRUCTURED-LOCATION;VALUE=URI;X-ADDRESS=Gwynedd Mercy Academy High School 1345 Sumneytown Pike Gwynedd Valley PA 19437 United States;X-APPLE-RADIUS=500;X-TITLE=1345 Sumneytown Pike:geo:-75.2416198,40.1981161
END:VEVENT
BEGIN:VEVENT
DTSTART;TZID=America/New_York:20180314T183000
DTEND;TZID=America/New_York:20180314T203000
DTSTAMP:20260420T045733
CREATED:20170303T130625Z
LAST-MODIFIED:20170303T130625Z
UID:5230-1521052200-1521059400@www.thecollegefundingcoach.org
SUMMARY:Gwynedd Mercy Academy: Little-Known Secrets of Paying for College
DESCRIPTION: \n\n \n\nFor many families\, the high cost of higher education is a daunting proposition. Parents lie awake at night trying to figure out how to afford sending 1\, 2\, 3 or more children to college and still have enough of their hard earned money to be able to retire. Some families have children attending college next year and others have 12 years to plan; but the fears of tackling these monumental and rising costs are the same. The College Funding Coach® is here to help families figure out HOW to pay for it! Through our educational workshop\, Little Known Secrets of Paying for College you will learn:\n\n\n\n 	\n\nHow to avoid jeopardizing your retirement nest egg!\n\n\n 	\n\nEffective ways to simultaneously save AND pay for college\n\n\n 	\n\nStrategies to pay for multiple children attending college at the same time\n\n\n 	\n\nHow to recapture out of pocket college costs\n\n\n 	\n\nAnd much\, much more!\n\n\n\n\n\n ]]>
URL:https://www.thecollegefundingcoach.org/class/gwynedd-mercy-academy-little-known-secrets-of-paying-for-college-3/
LOCATION:Gwynedd Mercy Academy High School\, 1345 Sumneytown Pike\, Gwynedd Valley\, PA\, 19437\, United States
CATEGORIES:Classes,Workshops
GEO:40.1981161;-75.2416198
X-APPLE-STRUCTURED-LOCATION;VALUE=URI;X-ADDRESS=Gwynedd Mercy Academy High School 1345 Sumneytown Pike Gwynedd Valley PA 19437 United States;X-APPLE-RADIUS=500;X-TITLE=1345 Sumneytown Pike:geo:-75.2416198,40.1981161
END:VEVENT
BEGIN:VEVENT
DTSTART;TZID=America/New_York:20180314T190000
DTEND;TZID=America/New_York:20180314T203000
DTSTAMP:20260420T045733
CREATED:20171128T180624Z
LAST-MODIFIED:20171128T180624Z
UID:3487-1521054000-1521059400@www.thecollegefundingcoach.org
SUMMARY:Stone Hill Middle School: Little-Known Secrets of Paying for College
DESCRIPTION:  \n  \nFor many families\, the high cost of higher education is a daunting proposition. Parents lie awake at night trying to figure out how to afford sending their children to college and still have enough of their hard earned money to be able to retire one day. Some families have children attending college next year and others have 12 years to plan; but the fears of tackling these monumental and rising costs are the same. The College Funding Coach® is here to help families figure out HOW to pay for it! Through our educational workshop\, Little-Known Secrets of Paying for College you will learn: \n\nHow to avoid jeopardizing your retirement nest egg!\nEffective ways to simultaneously save AND pay for college\nStrategies to pay for multiple children attending college at the same time\nHow to recapture out of pocket college costs\nAnd much\, much more!
URL:https://www.thecollegefundingcoach.org/class/stone-hill-middle-school-little-known-secrets-of-paying-for-college/
LOCATION:Stone Hill Middle School\, 23415 Evergreen Ridge Drive \, Ashburn\, VA\, 20148\, United States
CATEGORIES:Classes,Workshops
GEO:38.970202;-77.512173
X-APPLE-STRUCTURED-LOCATION;VALUE=URI;X-ADDRESS=Stone Hill Middle School 23415 Evergreen Ridge Drive  Ashburn VA 20148 United States;X-APPLE-RADIUS=500;X-TITLE=23415 Evergreen Ridge Drive:geo:-77.512173,38.970202
END:VEVENT
BEGIN:VEVENT
DTSTART;TZID=America/New_York:20180314T190000
DTEND;TZID=America/New_York:20180314T203000
DTSTAMP:20260420T045733
CREATED:20171128T180624Z
LAST-MODIFIED:20171128T180624Z
UID:4528-1521054000-1521059400@www.thecollegefundingcoach.org
SUMMARY:Stone Hill Middle School: Little-Known Secrets of Paying for College
DESCRIPTION:  \n  \nFor many families\, the high cost of higher education is a daunting proposition. Parents lie awake at night trying to figure out how to afford sending their children to college and still have enough of their hard earned money to be able to retire one day. Some families have children attending college next year and others have 12 years to plan; but the fears of tackling these monumental and rising costs are the same. The College Funding Coach® is here to help families figure out HOW to pay for it! Through our educational workshop\, Little-Known Secrets of Paying for College you will learn: \n\nHow to avoid jeopardizing your retirement nest egg!\nEffective ways to simultaneously save AND pay for college\nStrategies to pay for multiple children attending college at the same time\nHow to recapture out of pocket college costs\nAnd much\, much more!
URL:https://www.thecollegefundingcoach.org/class/stone-hill-middle-school-little-known-secrets-of-paying-for-college-2/
LOCATION:Stone Hill Middle School\, 23415 Evergreen Ridge Drive \, Ashburn\, VA\, 20148\, United States
CATEGORIES:Classes,Workshops
GEO:38.970202;-77.512173
X-APPLE-STRUCTURED-LOCATION;VALUE=URI;X-ADDRESS=Stone Hill Middle School 23415 Evergreen Ridge Drive  Ashburn VA 20148 United States;X-APPLE-RADIUS=500;X-TITLE=23415 Evergreen Ridge Drive:geo:-77.512173,38.970202
END:VEVENT
BEGIN:VEVENT
DTSTART;TZID=America/New_York:20180314T190000
DTEND;TZID=America/New_York:20180314T203000
DTSTAMP:20260420T045733
CREATED:20171128T180624Z
LAST-MODIFIED:20171128T180624Z
UID:5365-1521054000-1521059400@www.thecollegefundingcoach.org
SUMMARY:Stone Hill Middle School: Little-Known Secrets of Paying for College
DESCRIPTION: \n\n \n\nFor many families\, the high cost of higher education is a daunting proposition. Parents lie awake at night trying to figure out how to afford sending their children to college and still have enough of their hard earned money to be able to retire one day. Some families have children attending college next year and others have 12 years to plan; but the fears of tackling these monumental and rising costs are the same. The College Funding Coach® is here to help families figure out HOW to pay for it! Through our educational workshop\, Little-Known Secrets of Paying for College you will learn:\n\n\n\n 	\n\nHow to avoid jeopardizing your retirement nest egg!\n\n\n 	\n\nEffective ways to simultaneously save AND pay for college\n\n\n 	\n\nStrategies to pay for multiple children attending college at the same time\n\n\n 	\n\nHow to recapture out of pocket college costs\n\n\n 	\n\nAnd much\, much more!\n\n\n\n\n]]>
URL:https://www.thecollegefundingcoach.org/class/stone-hill-middle-school-little-known-secrets-of-paying-for-college-3/
LOCATION:Stone Hill Middle School\, 23415 Evergreen Ridge Drive \, Ashburn\, VA\, 20148\, United States
CATEGORIES:Classes,Workshops
GEO:38.970202;-77.512173
X-APPLE-STRUCTURED-LOCATION;VALUE=URI;X-ADDRESS=Stone Hill Middle School 23415 Evergreen Ridge Drive  Ashburn VA 20148 United States;X-APPLE-RADIUS=500;X-TITLE=23415 Evergreen Ridge Drive:geo:-77.512173,38.970202
END:VEVENT
END:VCALENDAR