BEGIN:VCALENDAR
VERSION:2.0
PRODID:-//The College Funding Coach - ECPv6.15.17//NONSGML v1.0//EN
CALSCALE:GREGORIAN
METHOD:PUBLISH
X-WR-CALNAME:The College Funding Coach
X-ORIGINAL-URL:https://www.thecollegefundingcoach.org
X-WR-CALDESC:Events for The College Funding Coach
REFRESH-INTERVAL;VALUE=DURATION:PT1H
X-Robots-Tag:noindex
X-PUBLISHED-TTL:PT1H
BEGIN:VTIMEZONE
TZID:America/New_York
BEGIN:DAYLIGHT
TZOFFSETFROM:-0500
TZOFFSETTO:-0400
TZNAME:EDT
DTSTART:20170312T070000
END:DAYLIGHT
BEGIN:STANDARD
TZOFFSETFROM:-0400
TZOFFSETTO:-0500
TZNAME:EST
DTSTART:20171105T060000
END:STANDARD
BEGIN:DAYLIGHT
TZOFFSETFROM:-0500
TZOFFSETTO:-0400
TZNAME:EDT
DTSTART:20180311T070000
END:DAYLIGHT
BEGIN:STANDARD
TZOFFSETFROM:-0400
TZOFFSETTO:-0500
TZNAME:EST
DTSTART:20181104T060000
END:STANDARD
BEGIN:DAYLIGHT
TZOFFSETFROM:-0500
TZOFFSETTO:-0400
TZNAME:EDT
DTSTART:20190310T070000
END:DAYLIGHT
BEGIN:STANDARD
TZOFFSETFROM:-0400
TZOFFSETTO:-0500
TZNAME:EST
DTSTART:20191103T060000
END:STANDARD
END:VTIMEZONE
BEGIN:VEVENT
DTSTART;TZID=America/New_York:20180222T190000
DTEND;TZID=America/New_York:20180222T210000
DTSTAMP:20260420T042458
CREATED:20180118T211248Z
LAST-MODIFIED:20180118T211248Z
UID:5393-1519326000-1519333200@www.thecollegefundingcoach.org
SUMMARY:Good Shepherd School: Little-Known Secrets of Paying for College
DESCRIPTION:
URL:https://www.thecollegefundingcoach.org/class/good-shepherd-school-little-known-secrets-of-paying-for-college-3-3/
LOCATION:Good Shepherd School\, 3400 Market Street\, Camp Hill\, PA\, 17011
CATEGORIES:Classes,Workshops
GEO:40.2396146;-76.9408044
X-APPLE-STRUCTURED-LOCATION;VALUE=URI;X-ADDRESS=Good Shepherd School 3400 Market Street Camp Hill PA 17011;X-APPLE-RADIUS=500;X-TITLE=3400 Market Street:geo:-76.9408044,40.2396146
END:VEVENT
END:VCALENDAR