BEGIN:VCALENDAR
VERSION:2.0
PRODID:-//The College Funding Coach - ECPv6.15.17//NONSGML v1.0//EN
CALSCALE:GREGORIAN
METHOD:PUBLISH
X-WR-CALNAME:The College Funding Coach
X-ORIGINAL-URL:https://www.thecollegefundingcoach.org
X-WR-CALDESC:Events for The College Funding Coach
REFRESH-INTERVAL;VALUE=DURATION:PT1H
X-Robots-Tag:noindex
X-PUBLISHED-TTL:PT1H
BEGIN:VTIMEZONE
TZID:America/New_York
BEGIN:DAYLIGHT
TZOFFSETFROM:-0500
TZOFFSETTO:-0400
TZNAME:EDT
DTSTART:20170312T070000
END:DAYLIGHT
BEGIN:STANDARD
TZOFFSETFROM:-0400
TZOFFSETTO:-0500
TZNAME:EST
DTSTART:20171105T060000
END:STANDARD
BEGIN:DAYLIGHT
TZOFFSETFROM:-0500
TZOFFSETTO:-0400
TZNAME:EDT
DTSTART:20180311T070000
END:DAYLIGHT
BEGIN:STANDARD
TZOFFSETFROM:-0400
TZOFFSETTO:-0500
TZNAME:EST
DTSTART:20181104T060000
END:STANDARD
BEGIN:DAYLIGHT
TZOFFSETFROM:-0500
TZOFFSETTO:-0400
TZNAME:EDT
DTSTART:20190310T070000
END:DAYLIGHT
BEGIN:STANDARD
TZOFFSETFROM:-0400
TZOFFSETTO:-0500
TZNAME:EST
DTSTART:20191103T060000
END:STANDARD
END:VTIMEZONE
BEGIN:VEVENT
DTSTART;TZID=America/New_York:20180221T183000
DTEND;TZID=America/New_York:20180221T203000
DTSTAMP:20260421T105221
CREATED:20171130T174559Z
LAST-MODIFIED:20171130T174559Z
UID:4531-1519237800-1519245000@www.thecollegefundingcoach.org
SUMMARY:Langston Hughes Middle School: Little-Known Secrets of Paying for College
DESCRIPTION:For many families\, the high cost of higher education is a daunting proposition. Parents lie awake at night trying to figure out how to afford sending their children to college and still have enough of their hard earned money to be able to retire one day. Some families have children attending college next year and others have 12 years to plan; but the fears of tackling these monumental and rising costs are the same. The College Funding Coach® is here to help families figure out HOW to pay for it! Through our educational workshop\, Little-Known Secrets of Paying for College you will learn: \nHow to avoid jeopardizing your retirement nest egg!\nEffective ways to simultaneously save AND pay for college\nStrategies to pay for multiple children attending college at the same time\nHow to recapture out of pocket college costs\nAnd much\, much more!
URL:https://www.thecollegefundingcoach.org/class/langston-hughes-middle-school-little-known-secrets-of-paying-for-college-2-2/
LOCATION:Langston Hughes Middle School\, 11401 Ridge Heights Road\, Reston\, VA\, 20191\, United States
CATEGORIES:Classes,Workshops
GEO:38.935232;-77.338365
X-APPLE-STRUCTURED-LOCATION;VALUE=URI;X-ADDRESS=Langston Hughes Middle School 11401 Ridge Heights Road Reston VA 20191 United States;X-APPLE-RADIUS=500;X-TITLE=11401 Ridge Heights Road:geo:-77.338365,38.935232
END:VEVENT
BEGIN:VEVENT
DTSTART;TZID=America/New_York:20180221T183000
DTEND;TZID=America/New_York:20180221T203000
DTSTAMP:20260421T105221
CREATED:20171130T174559Z
LAST-MODIFIED:20171130T174559Z
UID:5368-1519237800-1519245000@www.thecollegefundingcoach.org
SUMMARY:Langston Hughes Middle School: Little-Known Secrets of Paying for College
DESCRIPTION:For many families\, the high cost of higher education is a daunting proposition. Parents lie awake at night trying to figure out how to afford sending their children to college and still have enough of their hard earned money to be able to retire one day. Some families have children attending college next year and others have 12 years to plan; but the fears of tackling these monumental and rising costs are the same. The College Funding Coach® is here to help families figure out HOW to pay for it! Through our educational workshop\, Little-Known Secrets of Paying for College you will learn:\n\nHow to avoid jeopardizing your retirement nest egg!\nEffective ways to simultaneously save AND pay for college\nStrategies to pay for multiple children attending college at the same time\nHow to recapture out of pocket college costs\nAnd much\, much more!]]>
URL:https://www.thecollegefundingcoach.org/class/langston-hughes-middle-school-little-known-secrets-of-paying-for-college-2-3/
LOCATION:Langston Hughes Middle School\, 11401 Ridge Heights Road\, Reston\, VA\, 20191\, United States
CATEGORIES:Classes,Workshops
GEO:38.935232;-77.338365
X-APPLE-STRUCTURED-LOCATION;VALUE=URI;X-ADDRESS=Langston Hughes Middle School 11401 Ridge Heights Road Reston VA 20191 United States;X-APPLE-RADIUS=500;X-TITLE=11401 Ridge Heights Road:geo:-77.338365,38.935232
END:VEVENT
END:VCALENDAR