BEGIN:VCALENDAR
VERSION:2.0
PRODID:-//The College Funding Coach - ECPv6.15.17//NONSGML v1.0//EN
CALSCALE:GREGORIAN
METHOD:PUBLISH
X-WR-CALNAME:The College Funding Coach
X-ORIGINAL-URL:https://www.thecollegefundingcoach.org
X-WR-CALDESC:Events for The College Funding Coach
REFRESH-INTERVAL;VALUE=DURATION:PT1H
X-Robots-Tag:noindex
X-PUBLISHED-TTL:PT1H
BEGIN:VTIMEZONE
TZID:America/New_York
BEGIN:DAYLIGHT
TZOFFSETFROM:-0500
TZOFFSETTO:-0400
TZNAME:EDT
DTSTART:20170312T070000
END:DAYLIGHT
BEGIN:STANDARD
TZOFFSETFROM:-0400
TZOFFSETTO:-0500
TZNAME:EST
DTSTART:20171105T060000
END:STANDARD
BEGIN:DAYLIGHT
TZOFFSETFROM:-0500
TZOFFSETTO:-0400
TZNAME:EDT
DTSTART:20180311T070000
END:DAYLIGHT
BEGIN:STANDARD
TZOFFSETFROM:-0400
TZOFFSETTO:-0500
TZNAME:EST
DTSTART:20181104T060000
END:STANDARD
BEGIN:DAYLIGHT
TZOFFSETFROM:-0500
TZOFFSETTO:-0400
TZNAME:EDT
DTSTART:20190310T070000
END:DAYLIGHT
BEGIN:STANDARD
TZOFFSETFROM:-0400
TZOFFSETTO:-0500
TZNAME:EST
DTSTART:20191103T060000
END:STANDARD
END:VTIMEZONE
BEGIN:VEVENT
DTSTART;TZID=America/New_York:20180220T193000
DTEND;TZID=America/New_York:20180220T210000
DTSTAMP:20260421T074843
CREATED:20180124T180802Z
LAST-MODIFIED:20180124T180802Z
UID:3592-1519155000-1519160400@www.thecollegefundingcoach.org
SUMMARY:Sports Clubs of Frederick (Open Invitation): Little-Known Secrets of Paying for College
DESCRIPTION:
URL:https://www.thecollegefundingcoach.org/class/carroll-manor-rec-council-little-known-secrets-of-paying-for-college/
LOCATION:Urbana Regional Library\, 9020 Amelung St.\, Frederick\, MD\, 21704
CATEGORIES:Classes,Workshops
GEO:39.3313924;-77.3540128
X-APPLE-STRUCTURED-LOCATION;VALUE=URI;X-ADDRESS=Urbana Regional Library 9020 Amelung St. Frederick MD 21704;X-APPLE-RADIUS=500;X-TITLE=9020 Amelung St.:geo:-77.3540128,39.3313924
END:VEVENT
BEGIN:VEVENT
DTSTART;TZID=America/New_York:20180220T193000
DTEND;TZID=America/New_York:20180220T210000
DTSTAMP:20260421T074843
CREATED:20180124T180802Z
LAST-MODIFIED:20180124T180802Z
UID:4566-1519155000-1519160400@www.thecollegefundingcoach.org
SUMMARY:Sports Clubs of Frederick (Open Invitation): Little-Known Secrets of Paying for College
DESCRIPTION:
URL:https://www.thecollegefundingcoach.org/class/carroll-manor-rec-council-little-known-secrets-of-paying-for-college-2/
LOCATION:Urbana Regional Library\, 9020 Amelung St.\, Frederick\, MD\, 21704
CATEGORIES:Classes,Workshops
GEO:39.3313924;-77.3540128
X-APPLE-STRUCTURED-LOCATION;VALUE=URI;X-ADDRESS=Urbana Regional Library 9020 Amelung St. Frederick MD 21704;X-APPLE-RADIUS=500;X-TITLE=9020 Amelung St.:geo:-77.3540128,39.3313924
END:VEVENT
BEGIN:VEVENT
DTSTART;TZID=America/New_York:20180220T193000
DTEND;TZID=America/New_York:20180220T210000
DTSTAMP:20260421T074843
CREATED:20180124T180802Z
LAST-MODIFIED:20180124T180802Z
UID:5403-1519155000-1519160400@www.thecollegefundingcoach.org
SUMMARY:Sports Clubs of Frederick (Open Invitation): Little-Known Secrets of Paying for College
DESCRIPTION:
URL:https://www.thecollegefundingcoach.org/class/carroll-manor-rec-council-little-known-secrets-of-paying-for-college-3/
LOCATION:Urbana Regional Library\, 9020 Amelung St.\, Frederick\, MD\, 21704
CATEGORIES:Classes,Workshops
GEO:39.3313924;-77.3540128
X-APPLE-STRUCTURED-LOCATION;VALUE=URI;X-ADDRESS=Urbana Regional Library 9020 Amelung St. Frederick MD 21704;X-APPLE-RADIUS=500;X-TITLE=9020 Amelung St.:geo:-77.3540128,39.3313924
END:VEVENT
END:VCALENDAR