BEGIN:VCALENDAR
VERSION:2.0
PRODID:-//The College Funding Coach - ECPv6.15.17//NONSGML v1.0//EN
CALSCALE:GREGORIAN
METHOD:PUBLISH
X-WR-CALNAME:The College Funding Coach
X-ORIGINAL-URL:https://www.thecollegefundingcoach.org
X-WR-CALDESC:Events for The College Funding Coach
REFRESH-INTERVAL;VALUE=DURATION:PT1H
X-Robots-Tag:noindex
X-PUBLISHED-TTL:PT1H
BEGIN:VTIMEZONE
TZID:America/New_York
BEGIN:DAYLIGHT
TZOFFSETFROM:-0500
TZOFFSETTO:-0400
TZNAME:EDT
DTSTART:20170312T070000
END:DAYLIGHT
BEGIN:STANDARD
TZOFFSETFROM:-0400
TZOFFSETTO:-0500
TZNAME:EST
DTSTART:20171105T060000
END:STANDARD
BEGIN:DAYLIGHT
TZOFFSETFROM:-0500
TZOFFSETTO:-0400
TZNAME:EDT
DTSTART:20180311T070000
END:DAYLIGHT
BEGIN:STANDARD
TZOFFSETFROM:-0400
TZOFFSETTO:-0500
TZNAME:EST
DTSTART:20181104T060000
END:STANDARD
BEGIN:DAYLIGHT
TZOFFSETFROM:-0500
TZOFFSETTO:-0400
TZNAME:EDT
DTSTART:20190310T070000
END:DAYLIGHT
BEGIN:STANDARD
TZOFFSETFROM:-0400
TZOFFSETTO:-0500
TZNAME:EST
DTSTART:20191103T060000
END:STANDARD
END:VTIMEZONE
BEGIN:VEVENT
DTSTART;TZID=America/New_York:20180130T190000
DTEND;TZID=America/New_York:20180130T210000
DTSTAMP:20260422T092950
CREATED:20180110T143620Z
LAST-MODIFIED:20180110T143620Z
UID:5385-1517338800-1517346000@www.thecollegefundingcoach.org
SUMMARY:Morton High School\, Morton IL: Little-Known Secrets of Paying for College
DESCRIPTION:
URL:https://www.thecollegefundingcoach.org/class/morton-high-school-morton-il-little-known-secrets-of-paying-for-college-3/
LOCATION:Morton High School\, 350 N. Illinois Ave\, Morton\, IL\, 61550
CATEGORIES:Classes,Workshops
GEO:40.611659;-89.4536834
X-APPLE-STRUCTURED-LOCATION;VALUE=URI;X-ADDRESS=Morton High School 350 N. Illinois Ave Morton IL 61550;X-APPLE-RADIUS=500;X-TITLE=350 N. Illinois Ave:geo:-89.4536834,40.611659
END:VEVENT
BEGIN:VEVENT
DTSTART;TZID=America/New_York:20180201T190000
DTEND;TZID=America/New_York:20180201T210000
DTSTAMP:20260422T092950
CREATED:20180110T163258Z
LAST-MODIFIED:20180110T163258Z
UID:3541-1517511600-1517518800@www.thecollegefundingcoach.org
SUMMARY:Roseland Library: Little-Known Secrets of Paying for College
DESCRIPTION:
URL:https://www.thecollegefundingcoach.org/class/roseland-library-little-known-secrets-of-paying-for-college/
LOCATION:Roseland Library\, 20 Roseland Ave\, Roseland\, NJ
CATEGORIES:Classes,Workshops
GEO:40.8231412;-74.2914125
X-APPLE-STRUCTURED-LOCATION;VALUE=URI;X-ADDRESS=Roseland Library 20 Roseland Ave Roseland NJ;X-APPLE-RADIUS=500;X-TITLE=20 Roseland Ave:geo:-74.2914125,40.8231412
END:VEVENT
BEGIN:VEVENT
DTSTART;TZID=America/New_York:20180201T190000
DTEND;TZID=America/New_York:20180201T210000
DTSTAMP:20260422T092950
CREATED:20180110T163258Z
LAST-MODIFIED:20180110T163258Z
UID:4551-1517511600-1517518800@www.thecollegefundingcoach.org
SUMMARY:Roseland Library: Little-Known Secrets of Paying for College
DESCRIPTION:
URL:https://www.thecollegefundingcoach.org/class/roseland-library-little-known-secrets-of-paying-for-college-2/
LOCATION:Roseland Library\, 20 Roseland Ave\, Roseland\, NJ
CATEGORIES:Classes,Workshops
GEO:40.8231412;-74.2914125
X-APPLE-STRUCTURED-LOCATION;VALUE=URI;X-ADDRESS=Roseland Library 20 Roseland Ave Roseland NJ;X-APPLE-RADIUS=500;X-TITLE=20 Roseland Ave:geo:-74.2914125,40.8231412
END:VEVENT
BEGIN:VEVENT
DTSTART;TZID=America/New_York:20180201T190000
DTEND;TZID=America/New_York:20180201T210000
DTSTAMP:20260422T092950
CREATED:20180110T163258Z
LAST-MODIFIED:20180110T163258Z
UID:5388-1517511600-1517518800@www.thecollegefundingcoach.org
SUMMARY:Roseland Library: Little-Known Secrets of Paying for College
DESCRIPTION:
URL:https://www.thecollegefundingcoach.org/class/roseland-library-little-known-secrets-of-paying-for-college-3/
LOCATION:Roseland Library\, 20 Roseland Ave\, Roseland\, NJ
CATEGORIES:Classes,Workshops
GEO:40.8231412;-74.2914125
X-APPLE-STRUCTURED-LOCATION;VALUE=URI;X-ADDRESS=Roseland Library 20 Roseland Ave Roseland NJ;X-APPLE-RADIUS=500;X-TITLE=20 Roseland Ave:geo:-74.2914125,40.8231412
END:VEVENT
END:VCALENDAR