BEGIN:VCALENDAR
VERSION:2.0
PRODID:-//The College Funding Coach - ECPv6.15.17//NONSGML v1.0//EN
CALSCALE:GREGORIAN
METHOD:PUBLISH
X-WR-CALNAME:The College Funding Coach
X-ORIGINAL-URL:https://www.thecollegefundingcoach.org
X-WR-CALDESC:Events for The College Funding Coach
REFRESH-INTERVAL;VALUE=DURATION:PT1H
X-Robots-Tag:noindex
X-PUBLISHED-TTL:PT1H
BEGIN:VTIMEZONE
TZID:America/New_York
BEGIN:DAYLIGHT
TZOFFSETFROM:-0500
TZOFFSETTO:-0400
TZNAME:EDT
DTSTART:20160313T070000
END:DAYLIGHT
BEGIN:STANDARD
TZOFFSETFROM:-0400
TZOFFSETTO:-0500
TZNAME:EST
DTSTART:20161106T060000
END:STANDARD
BEGIN:DAYLIGHT
TZOFFSETFROM:-0500
TZOFFSETTO:-0400
TZNAME:EDT
DTSTART:20170312T070000
END:DAYLIGHT
BEGIN:STANDARD
TZOFFSETFROM:-0400
TZOFFSETTO:-0500
TZNAME:EST
DTSTART:20171105T060000
END:STANDARD
BEGIN:DAYLIGHT
TZOFFSETFROM:-0500
TZOFFSETTO:-0400
TZNAME:EDT
DTSTART:20180311T070000
END:DAYLIGHT
BEGIN:STANDARD
TZOFFSETFROM:-0400
TZOFFSETTO:-0500
TZNAME:EST
DTSTART:20181104T060000
END:STANDARD
END:VTIMEZONE
BEGIN:VEVENT
DTSTART;TZID=America/New_York:20171113T173000
DTEND;TZID=America/New_York:20171113T190000
DTSTAMP:20260421T060637
CREATED:20171004T210823Z
LAST-MODIFIED:20171004T210823Z
UID:5330-1510594200-1510599600@www.thecollegefundingcoach.org
SUMMARY:Eagle Valley High School: Little Known Secrets of Paying for College
DESCRIPTION:For many families\, the high cost of higher education is a daunting proposition. Parents lie awake at night trying to figure out how to afford sending their children to college and still have enough of their hard earned money to be able to retire one day. Some families have children attending college next year and others have 12 years to plan; but the fears of tackling these monumental and rising costs are the same. The College Funding Coach® is here to help families figure out HOW to pay for it! Through our educational workshop\, Little-Known Secrets of Paying for College you will learn:\n\n\n\n 	\n\nHow to avoid jeopardizing your retirement nest egg!\n\n\n 	\n\nEffective ways to simultaneously save AND pay for college\n\n\n 	\n\nStrategies to pay for multiple children attending college at the same time\n\n\n 	\n\nHow to recapture out of pocket college costs\n\n\n 	\n\nAnd much\, much more!\n\n\n\n\n]]>
URL:https://www.thecollegefundingcoach.org/class/eagle-valley-high-school-little-known-secrets-of-paying-for-college-4/
LOCATION:Eagle Valley High School\, 641 Valley Rd.\, Gypsum\, CO\, 81637
CATEGORIES:Classes,Workshops
GEO:39.6434601;-106.948179
X-APPLE-STRUCTURED-LOCATION;VALUE=URI;X-ADDRESS=Eagle Valley High School 641 Valley Rd. Gypsum CO 81637;X-APPLE-RADIUS=500;X-TITLE=641 Valley Rd.:geo:-106.948179,39.6434601
END:VEVENT
BEGIN:VEVENT
DTSTART;TZID=America/New_York:20171113T173000
DTEND;TZID=America/New_York:20171113T190000
DTSTAMP:20260421T060637
CREATED:20171004T210823Z
LAST-MODIFIED:20171004T210823Z
UID:3368-1510594200-1510599600@www.thecollegefundingcoach.org
SUMMARY:Eagle Valley High School: Little Known Secrets of Paying for College
DESCRIPTION:For many families\, the high cost of higher education is a daunting proposition. Parents lie awake at night trying to figure out how to afford sending their children to college and still have enough of their hard earned money to be able to retire one day. Some families have children attending college next year and others have 12 years to plan; but the fears of tackling these monumental and rising costs are the same. The College Funding Coach® is here to help families figure out HOW to pay for it! Through our educational workshop\, Little-Known Secrets of Paying for College you will learn: \n\nHow to avoid jeopardizing your retirement nest egg!\nEffective ways to simultaneously save AND pay for college\nStrategies to pay for multiple children attending college at the same time\nHow to recapture out of pocket college costs\nAnd much\, much more!
URL:https://www.thecollegefundingcoach.org/class/eagle-valley-high-school-little-known-secrets-of-paying-for-college/
LOCATION:Eagle Valley High School\, 641 Valley Rd.\, Gypsum\, CO\, 81637
CATEGORIES:Classes,Workshops
GEO:39.6434601;-106.948179
X-APPLE-STRUCTURED-LOCATION;VALUE=URI;X-ADDRESS=Eagle Valley High School 641 Valley Rd. Gypsum CO 81637;X-APPLE-RADIUS=500;X-TITLE=641 Valley Rd.:geo:-106.948179,39.6434601
END:VEVENT
BEGIN:VEVENT
DTSTART;TZID=America/New_York:20171113T183000
DTEND;TZID=America/New_York:20171113T200000
DTSTAMP:20260421T060637
CREATED:20170830T122307Z
LAST-MODIFIED:20170830T122307Z
UID:3271-1510597800-1510603200@www.thecollegefundingcoach.org
SUMMARY:Rincon Valley Christian School: Little-Known Secrets of Paying for College
DESCRIPTION:For many families\, the high cost of higher education is a daunting proposition. Parents lie awake at night trying to figure out how to afford sending 1\, 2\, 3 or more children to college and still have enough of their hard earned money to be able to retire. Some families have children attending college next year and others have 12 years to plan; but the fears of tackling these monumental and rising costs are the same. The College Funding Coach® is here to help families figure out HOW to pay for it! Through our educational workshop\, Little Known Secrets of Paying for College you will learn: \n\nHow to avoid jeopardizing your retirement nest egg!\nEffective ways to simultaneously save AND pay for college\nStrategies to pay for multiple children attending college at the same time\nHow to recapture out of pocket college costs\nAnd much\, much more!
URL:https://www.thecollegefundingcoach.org/class/rincon-valley-christian-school-little-known-secrets-of-paying-for-college-2/
LOCATION:Rincon Valley Christian School\, 4585 Badger Rd.\, Santa Rosa\, CA\, 95409\, United States
CATEGORIES:Classes,Workshops
GEO:38.4832429;-122.6748296
X-APPLE-STRUCTURED-LOCATION;VALUE=URI;X-ADDRESS=Rincon Valley Christian School 4585 Badger Rd. Santa Rosa CA 95409 United States;X-APPLE-RADIUS=500;X-TITLE=4585 Badger Rd.:geo:-122.6748296,38.4832429
END:VEVENT
BEGIN:VEVENT
DTSTART;TZID=America/New_York:20171113T183000
DTEND;TZID=America/New_York:20171113T200000
DTSTAMP:20260421T060637
CREATED:20170830T122307Z
LAST-MODIFIED:20170830T122307Z
UID:4443-1510597800-1510603200@www.thecollegefundingcoach.org
SUMMARY:Rincon Valley Christian School: Little-Known Secrets of Paying for College
DESCRIPTION:For many families\, the high cost of higher education is a daunting proposition. Parents lie awake at night trying to figure out how to afford sending 1\, 2\, 3 or more children to college and still have enough of their hard earned money to be able to retire. Some families have children attending college next year and others have 12 years to plan; but the fears of tackling these monumental and rising costs are the same. The College Funding Coach® is here to help families figure out HOW to pay for it! Through our educational workshop\, Little Known Secrets of Paying for College you will learn: \n\nHow to avoid jeopardizing your retirement nest egg!\nEffective ways to simultaneously save AND pay for college\nStrategies to pay for multiple children attending college at the same time\nHow to recapture out of pocket college costs\nAnd much\, much more!
URL:https://www.thecollegefundingcoach.org/class/rincon-valley-christian-school-little-known-secrets-of-paying-for-college-2-2/
LOCATION:Rincon Valley Christian School\, 4585 Badger Rd.\, Santa Rosa\, CA\, 95409\, United States
CATEGORIES:Classes,Workshops
GEO:38.4832429;-122.6748296
X-APPLE-STRUCTURED-LOCATION;VALUE=URI;X-ADDRESS=Rincon Valley Christian School 4585 Badger Rd. Santa Rosa CA 95409 United States;X-APPLE-RADIUS=500;X-TITLE=4585 Badger Rd.:geo:-122.6748296,38.4832429
END:VEVENT
BEGIN:VEVENT
DTSTART;TZID=America/New_York:20171113T183000
DTEND;TZID=America/New_York:20171113T200000
DTSTAMP:20260421T060637
CREATED:20170830T122307Z
LAST-MODIFIED:20170830T122307Z
UID:5280-1510597800-1510603200@www.thecollegefundingcoach.org
SUMMARY:Rincon Valley Christian School: Little-Known Secrets of Paying for College
DESCRIPTION:For many families\, the high cost of higher education is a daunting proposition. Parents lie awake at night trying to figure out how to afford sending 1\, 2\, 3 or more children to college and still have enough of their hard earned money to be able to retire. Some families have children attending college next year and others have 12 years to plan; but the fears of tackling these monumental and rising costs are the same. The College Funding Coach® is here to help families figure out HOW to pay for it! Through our educational workshop\, Little Known Secrets of Paying for College you will learn:\n\n\n\n 	\n\nHow to avoid jeopardizing your retirement nest egg!\n\n\n 	\n\nEffective ways to simultaneously save AND pay for college\n\n\n 	\n\nStrategies to pay for multiple children attending college at the same time\n\n\n 	\n\nHow to recapture out of pocket college costs\n\n\n 	\n\nAnd much\, much more!\n\n\n\n\n]]>
URL:https://www.thecollegefundingcoach.org/class/rincon-valley-christian-school-little-known-secrets-of-paying-for-college-2-3/
LOCATION:Rincon Valley Christian School\, 4585 Badger Rd.\, Santa Rosa\, CA\, 95409\, United States
CATEGORIES:Classes,Workshops
GEO:38.4832429;-122.6748296
X-APPLE-STRUCTURED-LOCATION;VALUE=URI;X-ADDRESS=Rincon Valley Christian School 4585 Badger Rd. Santa Rosa CA 95409 United States;X-APPLE-RADIUS=500;X-TITLE=4585 Badger Rd.:geo:-122.6748296,38.4832429
END:VEVENT
BEGIN:VEVENT
DTSTART;TZID=America/New_York:20171113T183000
DTEND;TZID=America/New_York:20171113T203000
DTSTAMP:20260421T060637
CREATED:20170928T181930Z
LAST-MODIFIED:20170928T181930Z
UID:3349-1510597800-1510605000@www.thecollegefundingcoach.org
SUMMARY:Grassfield High School: Little-Known Secrets of Paying for College
DESCRIPTION:For many families\, the high cost of higher education is a daunting proposition. Parents lie awake at night trying to figure out how to afford sending their children to college and still have enough of their hard earned money to be able to retire one day. Some families have children attending college next year and others have 12 years to plan; but the fears of tackling these monumental and rising costs are the same. The College Funding Coach® is here to help families figure out HOW to pay for it! Through our educational workshop\, Little Known Secrets of Paying for College you will learn: \n\nHow to avoid jeopardizing your retirement nest egg!\nEffective ways to simultaneously save AND pay for college\nStrategies to pay for multiple children attending college at the same time\nHow to recapture out of pocket college costs\nAnd much\, much more!
URL:https://www.thecollegefundingcoach.org/class/grassfield-high-school-little-known-secrets-of-paying-for-college/
LOCATION:Grassfield High School\, 2007 Grizzly Trl.\, Chesapeake\, VA\, 23323
CATEGORIES:Classes,Workshops
GEO:36.7119718;-76.3187362
X-APPLE-STRUCTURED-LOCATION;VALUE=URI;X-ADDRESS=Grassfield High School 2007 Grizzly Trl. Chesapeake VA 23323;X-APPLE-RADIUS=500;X-TITLE=2007 Grizzly Trl.:geo:-76.3187362,36.7119718
END:VEVENT
BEGIN:VEVENT
DTSTART;TZID=America/New_York:20171113T183000
DTEND;TZID=America/New_York:20171113T203000
DTSTAMP:20260421T060637
CREATED:20170928T181930Z
LAST-MODIFIED:20170928T181930Z
UID:4486-1510597800-1510605000@www.thecollegefundingcoach.org
SUMMARY:Grassfield High School: Little-Known Secrets of Paying for College
DESCRIPTION:For many families\, the high cost of higher education is a daunting proposition. Parents lie awake at night trying to figure out how to afford sending their children to college and still have enough of their hard earned money to be able to retire one day. Some families have children attending college next year and others have 12 years to plan; but the fears of tackling these monumental and rising costs are the same. The College Funding Coach® is here to help families figure out HOW to pay for it! Through our educational workshop\, Little Known Secrets of Paying for College you will learn: \n\nHow to avoid jeopardizing your retirement nest egg!\nEffective ways to simultaneously save AND pay for college\nStrategies to pay for multiple children attending college at the same time\nHow to recapture out of pocket college costs\nAnd much\, much more!
URL:https://www.thecollegefundingcoach.org/class/grassfield-high-school-little-known-secrets-of-paying-for-college-2/
LOCATION:Grassfield High School\, 2007 Grizzly Trl.\, Chesapeake\, VA\, 23323
CATEGORIES:Classes,Workshops
GEO:36.7119718;-76.3187362
X-APPLE-STRUCTURED-LOCATION;VALUE=URI;X-ADDRESS=Grassfield High School 2007 Grizzly Trl. Chesapeake VA 23323;X-APPLE-RADIUS=500;X-TITLE=2007 Grizzly Trl.:geo:-76.3187362,36.7119718
END:VEVENT
BEGIN:VEVENT
DTSTART;TZID=America/New_York:20171113T183000
DTEND;TZID=America/New_York:20171113T203000
DTSTAMP:20260421T060637
CREATED:20170928T181930Z
LAST-MODIFIED:20170928T181930Z
UID:5323-1510597800-1510605000@www.thecollegefundingcoach.org
SUMMARY:Grassfield High School: Little-Known Secrets of Paying for College
DESCRIPTION:For many families\, the high cost of higher education is a daunting proposition. Parents lie awake at night trying to figure out how to afford sending their children to college and still have enough of their hard earned money to be able to retire one day. Some families have children attending college next year and others have 12 years to plan; but the fears of tackling these monumental and rising costs are the same. The College Funding Coach® is here to help families figure out HOW to pay for it! Through our educational workshop\, Little Known Secrets of Paying for College you will learn:\n\n\n\n 	\n\nHow to avoid jeopardizing your retirement nest egg!\n\n\n 	\n\nEffective ways to simultaneously save AND pay for college\n\n\n 	\n\nStrategies to pay for multiple children attending college at the same time\n\n\n 	\n\nHow to recapture out of pocket college costs\n\n\n 	\n\nAnd much\, much more!\n\n\n\n\n]]>
URL:https://www.thecollegefundingcoach.org/class/grassfield-high-school-little-known-secrets-of-paying-for-college-3/
LOCATION:Grassfield High School\, 2007 Grizzly Trl.\, Chesapeake\, VA\, 23323
CATEGORIES:Classes,Workshops
GEO:36.7119718;-76.3187362
X-APPLE-STRUCTURED-LOCATION;VALUE=URI;X-ADDRESS=Grassfield High School 2007 Grizzly Trl. Chesapeake VA 23323;X-APPLE-RADIUS=500;X-TITLE=2007 Grizzly Trl.:geo:-76.3187362,36.7119718
END:VEVENT
BEGIN:VEVENT
DTSTART;TZID=America/New_York:20171113T190000
DTEND;TZID=America/New_York:20171113T210000
DTSTAMP:20260421T060637
CREATED:20170823T124307Z
LAST-MODIFIED:20170823T124307Z
UID:5274-1510599600-1510606800@www.thecollegefundingcoach.org
SUMMARY:Penndale Middle School: Little-Known Secrets of Paying for College
DESCRIPTION:For many families\, the high cost of higher education is a daunting proposition. Parents lie awake at night trying to figure out how to afford sending their children to college and still have enough of their hard earned money to be able to retire one day. Some families have children attending college next year and others have 12 years to plan; but the fears of tackling these monumental and rising costs are the same. The College Funding Coach® is here to help families figure out HOW to pay for it! Through our educational workshop\, Little Known Secrets of Paying for College you will learn:\n\n\n\n 	\n\nHow to avoid jeopardizing your retirement nest egg!\n\n\n 	\n\nEffective ways to simultaneously save AND pay for college\n\n\n 	\n\nStrategies to pay for multiple children attending college at the same time\n\n\n 	\n\nHow to recapture out of pocket college costs\n\n\n 	\n\nAnd much\, much more!\n\n\n\n\n]]>
URL:https://www.thecollegefundingcoach.org/class/penndale-middle-school-little-known-secrets-of-paying-for-college-2-3/
LOCATION:Penndale Middle School\, 400 Penn Street\, Lansdale\, PA\, 19446\, United States
CATEGORIES:Classes,Workshops
GEO:40.2352581;-75.2793504
X-APPLE-STRUCTURED-LOCATION;VALUE=URI;X-ADDRESS=Penndale Middle School 400 Penn Street Lansdale PA 19446 United States;X-APPLE-RADIUS=500;X-TITLE=400 Penn Street:geo:-75.2793504,40.2352581
END:VEVENT
BEGIN:VEVENT
DTSTART;TZID=America/New_York:20171113T190000
DTEND;TZID=America/New_York:20171113T210000
DTSTAMP:20260421T060637
CREATED:20170823T124307Z
LAST-MODIFIED:20170823T124307Z
UID:3262-1510599600-1510606800@www.thecollegefundingcoach.org
SUMMARY:Penndale Middle School: Little-Known Secrets of Paying for College
DESCRIPTION:For many families\, the high cost of higher education is a daunting proposition. Parents lie awake at night trying to figure out how to afford sending their children to college and still have enough of their hard earned money to be able to retire one day. Some families have children attending college next year and others have 12 years to plan; but the fears of tackling these monumental and rising costs are the same. The College Funding Coach® is here to help families figure out HOW to pay for it! Through our educational workshop\, Little Known Secrets of Paying for College you will learn: \n\nHow to avoid jeopardizing your retirement nest egg!\nEffective ways to simultaneously save AND pay for college\nStrategies to pay for multiple children attending college at the same time\nHow to recapture out of pocket college costs\nAnd much\, much more!
URL:https://www.thecollegefundingcoach.org/class/penndale-middle-school-little-known-secrets-of-paying-for-college-2/
LOCATION:Penndale Middle School\, 400 Penn Street\, Lansdale\, PA\, 19446\, United States
CATEGORIES:Classes,Workshops
GEO:40.2352581;-75.2793504
X-APPLE-STRUCTURED-LOCATION;VALUE=URI;X-ADDRESS=Penndale Middle School 400 Penn Street Lansdale PA 19446 United States;X-APPLE-RADIUS=500;X-TITLE=400 Penn Street:geo:-75.2793504,40.2352581
END:VEVENT
BEGIN:VEVENT
DTSTART;TZID=America/New_York:20171113T190000
DTEND;TZID=America/New_York:20171113T210000
DTSTAMP:20260421T060637
CREATED:20170823T124307Z
LAST-MODIFIED:20170823T124307Z
UID:4437-1510599600-1510606800@www.thecollegefundingcoach.org
SUMMARY:Penndale Middle School: Little-Known Secrets of Paying for College
DESCRIPTION:For many families\, the high cost of higher education is a daunting proposition. Parents lie awake at night trying to figure out how to afford sending their children to college and still have enough of their hard earned money to be able to retire one day. Some families have children attending college next year and others have 12 years to plan; but the fears of tackling these monumental and rising costs are the same. The College Funding Coach® is here to help families figure out HOW to pay for it! Through our educational workshop\, Little Known Secrets of Paying for College you will learn: \n\nHow to avoid jeopardizing your retirement nest egg!\nEffective ways to simultaneously save AND pay for college\nStrategies to pay for multiple children attending college at the same time\nHow to recapture out of pocket college costs\nAnd much\, much more!
URL:https://www.thecollegefundingcoach.org/class/penndale-middle-school-little-known-secrets-of-paying-for-college-2-2/
LOCATION:Penndale Middle School\, 400 Penn Street\, Lansdale\, PA\, 19446\, United States
CATEGORIES:Classes,Workshops
GEO:40.2352581;-75.2793504
X-APPLE-STRUCTURED-LOCATION;VALUE=URI;X-ADDRESS=Penndale Middle School 400 Penn Street Lansdale PA 19446 United States;X-APPLE-RADIUS=500;X-TITLE=400 Penn Street:geo:-75.2793504,40.2352581
END:VEVENT
BEGIN:VEVENT
DTSTART;TZID=America/New_York:20171113T194500
DTEND;TZID=America/New_York:20171113T211500
DTSTAMP:20260421T060637
CREATED:20171004T211053Z
LAST-MODIFIED:20171004T211053Z
UID:3370-1510602300-1510607700@www.thecollegefundingcoach.org
SUMMARY:Battle Mountain High School: Little Known Secrets of Paying for College
DESCRIPTION:For many families\, the high cost of higher education is a daunting proposition. Parents lie awake at night trying to figure out how to afford sending their children to college and still have enough of their hard earned money to be able to retire one day. Some families have children attending college next year and others have 12 years to plan; but the fears of tackling these monumental and rising costs are the same. The College Funding Coach® is here to help families figure out HOW to pay for it! Through our educational workshop\, Little-Known Secrets of Paying for College you will learn: \n\nHow to avoid jeopardizing your retirement nest egg!\nEffective ways to simultaneously save AND pay for college\nStrategies to pay for multiple children attending college at the same time\nHow to recapture out of pocket college costs\nAnd much\, much more!
URL:https://www.thecollegefundingcoach.org/class/battle-mountain-high-school-little-known-secrets-of-paying-for-college/
LOCATION:Battle Mountain High School:\, 151 Miller Ranch Rd.\, Edwards\, CO\, 81632
CATEGORIES:Classes,Workshops
GEO:39.643808;-106.578943
X-APPLE-STRUCTURED-LOCATION;VALUE=URI;X-ADDRESS=Battle Mountain High School: 151 Miller Ranch Rd. Edwards CO 81632;X-APPLE-RADIUS=500;X-TITLE=151 Miller Ranch Rd.:geo:-106.578943,39.643808
END:VEVENT
BEGIN:VEVENT
DTSTART;TZID=America/New_York:20171113T194500
DTEND;TZID=America/New_York:20171113T211500
DTSTAMP:20260421T060637
CREATED:20171004T211053Z
LAST-MODIFIED:20171004T211053Z
UID:4494-1510602300-1510607700@www.thecollegefundingcoach.org
SUMMARY:Battle Mountain High School: Little Known Secrets of Paying for College
DESCRIPTION:For many families\, the high cost of higher education is a daunting proposition. Parents lie awake at night trying to figure out how to afford sending their children to college and still have enough of their hard earned money to be able to retire one day. Some families have children attending college next year and others have 12 years to plan; but the fears of tackling these monumental and rising costs are the same. The College Funding Coach® is here to help families figure out HOW to pay for it! Through our educational workshop\, Little-Known Secrets of Paying for College you will learn: \n\nHow to avoid jeopardizing your retirement nest egg!\nEffective ways to simultaneously save AND pay for college\nStrategies to pay for multiple children attending college at the same time\nHow to recapture out of pocket college costs\nAnd much\, much more!
URL:https://www.thecollegefundingcoach.org/class/battle-mountain-high-school-little-known-secrets-of-paying-for-college-3/
LOCATION:Battle Mountain High School:\, 151 Miller Ranch Rd.\, Edwards\, CO\, 81632
CATEGORIES:Classes,Workshops
GEO:39.643808;-106.578943
X-APPLE-STRUCTURED-LOCATION;VALUE=URI;X-ADDRESS=Battle Mountain High School: 151 Miller Ranch Rd. Edwards CO 81632;X-APPLE-RADIUS=500;X-TITLE=151 Miller Ranch Rd.:geo:-106.578943,39.643808
END:VEVENT
BEGIN:VEVENT
DTSTART;TZID=America/New_York:20171113T194500
DTEND;TZID=America/New_York:20171113T211500
DTSTAMP:20260421T060637
CREATED:20171004T211053Z
LAST-MODIFIED:20171004T211053Z
UID:5331-1510602300-1510607700@www.thecollegefundingcoach.org
SUMMARY:Battle Mountain High School: Little Known Secrets of Paying for College
DESCRIPTION:For many families\, the high cost of higher education is a daunting proposition. Parents lie awake at night trying to figure out how to afford sending their children to college and still have enough of their hard earned money to be able to retire one day. Some families have children attending college next year and others have 12 years to plan; but the fears of tackling these monumental and rising costs are the same. The College Funding Coach® is here to help families figure out HOW to pay for it! Through our educational workshop\, Little-Known Secrets of Paying for College you will learn:\n\n\n\n 	\n\nHow to avoid jeopardizing your retirement nest egg!\n\n\n 	\n\nEffective ways to simultaneously save AND pay for college\n\n\n 	\n\nStrategies to pay for multiple children attending college at the same time\n\n\n 	\n\nHow to recapture out of pocket college costs\n\n\n 	\n\nAnd much\, much more!\n\n\n\n\n]]>
URL:https://www.thecollegefundingcoach.org/class/battle-mountain-high-school-little-known-secrets-of-paying-for-college-4/
LOCATION:Battle Mountain High School:\, 151 Miller Ranch Rd.\, Edwards\, CO\, 81632
CATEGORIES:Classes,Workshops
GEO:39.643808;-106.578943
X-APPLE-STRUCTURED-LOCATION;VALUE=URI;X-ADDRESS=Battle Mountain High School: 151 Miller Ranch Rd. Edwards CO 81632;X-APPLE-RADIUS=500;X-TITLE=151 Miller Ranch Rd.:geo:-106.578943,39.643808
END:VEVENT
END:VCALENDAR