BEGIN:VCALENDAR
VERSION:2.0
PRODID:-//The College Funding Coach - ECPv6.15.17//NONSGML v1.0//EN
CALSCALE:GREGORIAN
METHOD:PUBLISH
X-WR-CALNAME:The College Funding Coach
X-ORIGINAL-URL:https://www.thecollegefundingcoach.org
X-WR-CALDESC:Events for The College Funding Coach
REFRESH-INTERVAL;VALUE=DURATION:PT1H
X-Robots-Tag:noindex
X-PUBLISHED-TTL:PT1H
BEGIN:VTIMEZONE
TZID:America/New_York
BEGIN:DAYLIGHT
TZOFFSETFROM:-0500
TZOFFSETTO:-0400
TZNAME:EDT
DTSTART:20240310T070000
END:DAYLIGHT
BEGIN:STANDARD
TZOFFSETFROM:-0400
TZOFFSETTO:-0500
TZNAME:EST
DTSTART:20241103T060000
END:STANDARD
BEGIN:DAYLIGHT
TZOFFSETFROM:-0500
TZOFFSETTO:-0400
TZNAME:EDT
DTSTART:20250309T070000
END:DAYLIGHT
BEGIN:STANDARD
TZOFFSETFROM:-0400
TZOFFSETTO:-0500
TZNAME:EST
DTSTART:20251102T060000
END:STANDARD
BEGIN:DAYLIGHT
TZOFFSETFROM:-0500
TZOFFSETTO:-0400
TZNAME:EDT
DTSTART:20260308T070000
END:DAYLIGHT
BEGIN:STANDARD
TZOFFSETFROM:-0400
TZOFFSETTO:-0500
TZNAME:EST
DTSTART:20261101T060000
END:STANDARD
END:VTIMEZONE
BEGIN:VTIMEZONE
TZID:America/Denver
BEGIN:DAYLIGHT
TZOFFSETFROM:-0700
TZOFFSETTO:-0600
TZNAME:MDT
DTSTART:20240310T090000
END:DAYLIGHT
BEGIN:STANDARD
TZOFFSETFROM:-0600
TZOFFSETTO:-0700
TZNAME:MST
DTSTART:20241103T080000
END:STANDARD
BEGIN:DAYLIGHT
TZOFFSETFROM:-0700
TZOFFSETTO:-0600
TZNAME:MDT
DTSTART:20250309T090000
END:DAYLIGHT
BEGIN:STANDARD
TZOFFSETFROM:-0600
TZOFFSETTO:-0700
TZNAME:MST
DTSTART:20251102T080000
END:STANDARD
BEGIN:DAYLIGHT
TZOFFSETFROM:-0700
TZOFFSETTO:-0600
TZNAME:MDT
DTSTART:20260308T090000
END:DAYLIGHT
BEGIN:STANDARD
TZOFFSETFROM:-0600
TZOFFSETTO:-0700
TZNAME:MST
DTSTART:20261101T080000
END:STANDARD
END:VTIMEZONE
BEGIN:VTIMEZONE
TZID:America/Chicago
BEGIN:DAYLIGHT
TZOFFSETFROM:-0600
TZOFFSETTO:-0500
TZNAME:CDT
DTSTART:20240310T080000
END:DAYLIGHT
BEGIN:STANDARD
TZOFFSETFROM:-0500
TZOFFSETTO:-0600
TZNAME:CST
DTSTART:20241103T070000
END:STANDARD
BEGIN:DAYLIGHT
TZOFFSETFROM:-0600
TZOFFSETTO:-0500
TZNAME:CDT
DTSTART:20250309T080000
END:DAYLIGHT
BEGIN:STANDARD
TZOFFSETFROM:-0500
TZOFFSETTO:-0600
TZNAME:CST
DTSTART:20251102T070000
END:STANDARD
BEGIN:DAYLIGHT
TZOFFSETFROM:-0600
TZOFFSETTO:-0500
TZNAME:CDT
DTSTART:20260308T080000
END:DAYLIGHT
BEGIN:STANDARD
TZOFFSETFROM:-0500
TZOFFSETTO:-0600
TZNAME:CST
DTSTART:20261101T070000
END:STANDARD
END:VTIMEZONE
BEGIN:VTIMEZONE
TZID:America/North_Dakota/Center
BEGIN:DAYLIGHT
TZOFFSETFROM:-0600
TZOFFSETTO:-0500
TZNAME:CDT
DTSTART:20240310T080000
END:DAYLIGHT
BEGIN:STANDARD
TZOFFSETFROM:-0500
TZOFFSETTO:-0600
TZNAME:CST
DTSTART:20241103T070000
END:STANDARD
BEGIN:DAYLIGHT
TZOFFSETFROM:-0600
TZOFFSETTO:-0500
TZNAME:CDT
DTSTART:20250309T080000
END:DAYLIGHT
BEGIN:STANDARD
TZOFFSETFROM:-0500
TZOFFSETTO:-0600
TZNAME:CST
DTSTART:20251102T070000
END:STANDARD
BEGIN:DAYLIGHT
TZOFFSETFROM:-0600
TZOFFSETTO:-0500
TZNAME:CDT
DTSTART:20260308T080000
END:DAYLIGHT
BEGIN:STANDARD
TZOFFSETFROM:-0500
TZOFFSETTO:-0600
TZNAME:CST
DTSTART:20261101T070000
END:STANDARD
END:VTIMEZONE
BEGIN:VEVENT
DTSTART;TZID=America/New_York:20251007T190000
DTEND;TZID=America/New_York:20251007T203000
DTSTAMP:20260421T231103
CREATED:20250604T223410Z
LAST-MODIFIED:20251002T210830Z
UID:20161-1759863600-1759869000@www.thecollegefundingcoach.org
SUMMARY:Cobb County School District hosted by Kell High School
DESCRIPTION:For many families\, the high cost of higher education is a daunting proposition. Parents lie awake at night trying to figure out how to afford sending their children to college and still have enough of their hard-earned money to retire one day. Some families have children attending college next year and others have 12 years to plan; but the fears of tackling these monumental and rising costs are the same. The College Funding Coach® is here to help families figure out HOW to pay for it! Through our educational workshop\, Little-Known Secrets of Paying for College parents can expect to learn the following: \n\nCollege funding strategies for parents with students who DO and DO NOT qualify for financial aid\nStrategies for parents who are looking to fund their student’s college education without destroying their plans and dreams for retirement\nThe 13 most popular college funding financial vehicles explained and debunked\nHow to implement strategies that may allow students to attend out-of-state or private colleges for a lower cost than attending an in-state public\nWays to maximize and increase financial aid eligibility\n…and so much more
URL:https://www.thecollegefundingcoach.org/class/kell-high-school/
LOCATION:Zoom – GA\, GA
CATEGORIES:Classes,Webinar,Workshops
ATTACH;FMTTYPE=image/png:https://www.thecollegefundingcoach.org/wp-content/uploads/2025/06/Kell-High-School.png
GEO:32.1574351;-82.907123
END:VEVENT
BEGIN:VEVENT
DTSTART;TZID=America/New_York:20251008T180000
DTEND;TZID=America/New_York:20251008T193000
DTSTAMP:20260421T231103
CREATED:20250819T160820Z
LAST-MODIFIED:20250819T163124Z
UID:20800-1759946400-1759951800@www.thecollegefundingcoach.org
SUMMARY:Nativity BVM High School
DESCRIPTION:For many families\, the high cost of higher education is a daunting proposition. Parents lie awake at night trying to figure out how to afford sending their children to college and still have enough of their hard-earned money to retire one day. Some families have children attending college next year and others have 12 years to plan; but the fears of tackling these monumental and rising costs are the same. The College Funding Coach® is here to help families figure out HOW to pay for it! Through our educational workshop\, Little-Known Secrets of Paying for College parents can expect to learn the following: \n\nCollege funding strategies for parents with students who DO and DO NOT qualify for financial aid\nStrategies for parents who are looking to fund their student’s college education without destroying their plans and dreams for retirement\nThe 13 most popular college funding financial vehicles explained and debunked\nHow to implement strategies that may allow students to attend out-of-state or private colleges for a lower cost than attending an in-state public\nWays to maximize and increase financial aid eligibility\n…and so much more
URL:https://www.thecollegefundingcoach.org/class/nativity-bvm-high-school-2/
LOCATION:Zoom – PA\, PA
CATEGORIES:Classes,Webinar,Workshops
ATTACH;FMTTYPE=image/png:https://www.thecollegefundingcoach.org/wp-content/uploads/2025/08/Nativity-BVM-High-School.png
GEO:41.2033216;-77.1945247
END:VEVENT
BEGIN:VEVENT
DTSTART;TZID=America/Denver:20251008T180000
DTEND;TZID=America/Denver:20251008T193000
DTSTAMP:20260421T231103
CREATED:20250509T225016Z
LAST-MODIFIED:20250509T225016Z
UID:19979-1759946400-1759951800@www.thecollegefundingcoach.org
SUMMARY:Summit High School
DESCRIPTION:
URL:https://www.thecollegefundingcoach.org/class/summit-high-school-7/
LOCATION:Summit High School\, 16201 Highway 9\, Breckenridge\, CO\, 80424\, United States
CATEGORIES:Classes,IN-PERSON/ON-SITE WORKSHOP,Workshops
ATTACH;FMTTYPE=image/png:https://www.thecollegefundingcoach.org/wp-content/uploads/2019/05/Summit-High-School.png
GEO:39.5656881;-106.0560069
X-APPLE-STRUCTURED-LOCATION;VALUE=URI;X-ADDRESS=Summit High School 16201 Highway 9 Breckenridge CO 80424 United States;X-APPLE-RADIUS=500;X-TITLE=16201 Highway 9:geo:-106.0560069,39.5656881
END:VEVENT
BEGIN:VEVENT
DTSTART;TZID=America/Chicago:20251008T183000
DTEND;TZID=America/Chicago:20251008T200000
DTSTAMP:20260421T231103
CREATED:20250819T205121Z
LAST-MODIFIED:20251008T155944Z
UID:20813-1759948200-1759953600@www.thecollegefundingcoach.org
SUMMARY:St. Andrew's Sewanee School
DESCRIPTION:For many families\, the high cost of higher education is a daunting proposition. Parents lie awake at night trying to figure out how to afford sending their children to college and still have enough of their hard-earned money to retire one day. Some families have children attending college next year and others have 12 years to plan; but the fears of tackling these monumental and rising costs are the same. The College Funding Coach® is here to help families figure out HOW to pay for it! Through our educational workshop\, Little-Known Secrets of Paying for College parents can expect to learn the following: \n\nCollege funding strategies for parents with students who DO and DO NOT qualify for financial aid\nStrategies for parents who are looking to fund their student’s college education without destroying their plans and dreams for retirement\nThe 13 most popular college funding financial vehicles explained and debunked\nHow to implement strategies that may allow students to attend out-of-state or private colleges for a lower cost than attending an in-state public\nWays to maximize and increase financial aid eligibility\n…and so much more
URL:https://www.thecollegefundingcoach.org/class/st-andrews-sewanee-school-2/
LOCATION:zoom – TN\, TN
CATEGORIES:Classes,Webinar,Workshops
ATTACH;FMTTYPE=image/png:https://www.thecollegefundingcoach.org/wp-content/uploads/2024/08/St.-Andrews-Sewanee-School.png
GEO:35.5174913;-86.5804473
END:VEVENT
BEGIN:VEVENT
DTSTART;TZID=America/Chicago:20251008T183000
DTEND;TZID=America/Chicago:20251008T200000
DTSTAMP:20260421T231103
CREATED:20250716T214358Z
LAST-MODIFIED:20251008T124219Z
UID:20549-1759948200-1759953600@www.thecollegefundingcoach.org
SUMMARY:Father McGivney Catholic High School
DESCRIPTION:For many families\, the high cost of higher education is a daunting proposition. Parents lie awake at night trying to figure out how to afford sending their children to college and still have enough of their hard-earned money to retire one day. Some families have children attending college next year and others have 12 years to plan; but the fears of tackling these monumental and rising costs are the same. The College Funding Coach® is here to help families figure out HOW to pay for it! Through our educational workshop\, Little-Known Secrets of Paying for College parents can expect to learn the following: \n\nCollege funding strategies for parents with students who DO and DO NOT qualify for financial aid\nStrategies for parents who are looking to fund their student’s college education without destroying their plans and dreams for retirement\nThe 13 most popular college funding financial vehicles explained and debunked\nHow to implement strategies that may allow students to attend out-of-state or private colleges for a lower cost than attending an in-state public\nWays to maximize and increase financial aid eligibility\n…and so much more
URL:https://www.thecollegefundingcoach.org/class/father-mcgivney-catholic-high-school/
LOCATION:Zoom – IL\, IL\, IL\, United States
CATEGORIES:Classes,Webinar,Workshops
ATTACH;FMTTYPE=image/png:https://www.thecollegefundingcoach.org/wp-content/uploads/2025/07/Father-McGivney-Catholic-High-School.png
GEO:40.6331249;-89.3985283
END:VEVENT
BEGIN:VEVENT
DTSTART;TZID=America/New_York:20251009T180000
DTEND;TZID=America/New_York:20251009T193000
DTSTAMP:20260421T231103
CREATED:20250207T231311Z
LAST-MODIFIED:20250904T212017Z
UID:19418-1760032800-1760038200@www.thecollegefundingcoach.org
SUMMARY:Albert Einstein High School
DESCRIPTION:For many families\, the high cost of higher education is a daunting proposition. Parents lie awake at night trying to figure out how to afford sending their children to college and still have enough of their hard-earned money to retire one day. Some families have children attending college next year and others have 12 years to plan; but the fears of tackling these monumental and rising costs are the same. The College Funding Coach® is here to help families figure out HOW to pay for it! Through our educational workshop\, Little-Known Secrets of Paying for College parents can expect to learn the following: \n\nCollege funding strategies for parents with students who DO and DO NOT qualify for financial aid\nStrategies for parents who are looking to fund their student’s college education without destroying their plans and dreams for retirement\nThe 13 most popular college funding financial vehicles explained and debunked\nHow to implement strategies that may allow students to attend out-of-state or private colleges for a lower cost than attending an in-state public\nWays to maximize and increase financial aid eligibility\n…and so much more
URL:https://www.thecollegefundingcoach.org/class/albert-einstein-high-school-3/
LOCATION:Zoom – MD\, MD
CATEGORIES:Classes,Webinar,Workshops
ATTACH;FMTTYPE=image/png:https://www.thecollegefundingcoach.org/wp-content/uploads/2024/03/Albert-Einstein-High-School.png
END:VEVENT
BEGIN:VEVENT
DTSTART;TZID=America/North_Dakota/Center:20251009T190000
DTEND;TZID=America/North_Dakota/Center:20251009T203000
DTSTAMP:20260421T231103
CREATED:20250515T110901Z
LAST-MODIFIED:20251002T124101Z
UID:19998-1760036400-1760041800@www.thecollegefundingcoach.org
SUMMARY:Principia School
DESCRIPTION:For many families\, the high cost of higher education is a daunting proposition. Parents lie awake at night trying to figure out how to afford sending their children to college and still have enough of their hard-earned money to retire one day. Some families have children attending college next year and others have 12 years to plan; but the fears of tackling these monumental and rising costs are the same. The College Funding Coach® is here to help families figure out HOW to pay for it! Through our educational workshop\, Little-Known Secrets of Paying for College parents can expect to learn the following: \n\nCollege funding strategies for parents with students who DO and DO NOT qualify for financial aid\nStrategies for parents who are looking to fund their student’s college education without destroying their plans and dreams for retirement\nThe 13 most popular college funding financial vehicles explained and debunked\nHow to implement strategies that may allow students to attend out-of-state or private colleges for a lower cost than attending an in-state public\nWays to maximize and increase financial aid eligibility\n…and so much more
URL:https://www.thecollegefundingcoach.org/class/principia-school-2/
LOCATION:zoom -MO\, MO
CATEGORIES:Classes,Webinar,Workshops
ATTACH;FMTTYPE=image/png:https://www.thecollegefundingcoach.org/wp-content/uploads/2024/08/Principia-School.png
END:VEVENT
BEGIN:VEVENT
DTSTART;TZID=America/Chicago:20251013T180000
DTEND;TZID=America/Chicago:20251013T193000
DTSTAMP:20260421T231103
CREATED:20250625T202303Z
LAST-MODIFIED:20251013T152438Z
UID:20397-1760378400-1760383800@www.thecollegefundingcoach.org
SUMMARY:Young Women's Leadership Academy of Midland
DESCRIPTION:For many families\, the high cost of higher education is a daunting proposition. Parents lie awake at night trying to figure out how to afford sending their children to college and still have enough of their hard-earned money to retire one day. Some families have children attending college next year and others have 12 years to plan; but the fears of tackling these monumental and rising costs are the same. The College Funding Coach® is here to help families figure out HOW to pay for it! Through our educational workshop\, Little-Known Secrets of Paying for College parents can expect to learn the following: \n\nCollege funding strategies for parents with students who DO and DO NOT qualify for financial aid\nStrategies for parents who are looking to fund their student’s college education without destroying their plans and dreams for retirement\nThe 13 most popular college funding financial vehicles explained and debunked\nHow to implement strategies that may allow students to attend out-of-state or private colleges for a lower cost than attending an in-state public\nWays to maximize and increase financial aid eligibility\n…and so much more
URL:https://www.thecollegefundingcoach.org/class/young-womens-leadership-academy-of-midland/
LOCATION:Zoom – TX\, TX
CATEGORIES:Classes,Webinar,Workshops
ATTACH;FMTTYPE=image/png:https://www.thecollegefundingcoach.org/wp-content/uploads/2025/06/Young-Womens-Leadership-Academy-of-Midland.png
GEO:31.9685988;-99.9018131
END:VEVENT
BEGIN:VEVENT
DTSTART;TZID=America/New_York:20251014T183000
DTEND;TZID=America/New_York:20251014T200000
DTSTAMP:20260421T231103
CREATED:20250412T191120Z
LAST-MODIFIED:20251002T205218Z
UID:19865-1760466600-1760472000@www.thecollegefundingcoach.org
SUMMARY:Young Men's Service League - Fox Mill Chapter - PRIVATE
DESCRIPTION:
URL:https://www.thecollegefundingcoach.org/class/ymsl-fox-mill/
LOCATION:Fox Mill Elementary School\, 2601 Viking Drive\, Herndon\, VA\, 20171\, United States
CATEGORIES:Classes,IN-PERSON/ON-SITE WORKSHOP,Workshops
ATTACH;FMTTYPE=image/png:https://www.thecollegefundingcoach.org/wp-content/uploads/2021/04/LKS-PLACEHOLDER.png
GEO:38.9275612;-77.3823231
X-APPLE-STRUCTURED-LOCATION;VALUE=URI;X-ADDRESS=Fox Mill Elementary School 2601 Viking Drive Herndon VA 20171 United States;X-APPLE-RADIUS=500;X-TITLE=2601 Viking Drive:geo:-77.3823231,38.9275612
END:VEVENT
BEGIN:VEVENT
DTSTART;TZID=America/New_York:20251014T183000
DTEND;TZID=America/New_York:20251014T203000
DTSTAMP:20260421T231103
CREATED:20250527T191405Z
LAST-MODIFIED:20250527T191405Z
UID:20047-1760466600-1760473800@www.thecollegefundingcoach.org
SUMMARY:Clover High School
DESCRIPTION:For many families\, the high cost of higher education is a daunting proposition. Parents lie awake at night trying to figure out how to afford sending their children to college and still have enough of their hard-earned money to retire one day. Some families have children attending college next year and others have 12 years to plan; but the fears of tackling these monumental and rising costs are the same. The College Funding Coach® is here to help families figure out HOW to pay for it! Through our educational workshop\, Little-Known Secrets of Paying for College parents can expect to learn the following: \n\nCollege funding strategies for parents with students who DO and DO NOT qualify for financial aid\nStrategies for parents who are looking to fund their student’s college education without destroying their plans and dreams for retirement\nThe 13 most popular college funding financial vehicles explained and debunked\nHow to implement strategies that may allow students to attend out-of-state or private colleges for a lower cost than attending an in-state public\nWays to maximize and increase financial aid eligibility\n…and so much more
URL:https://www.thecollegefundingcoach.org/class/clover-high-school-3/
LOCATION:zoom – SC
CATEGORIES:Classes,Webinar,Workshops
ATTACH;FMTTYPE=image/png:https://www.thecollegefundingcoach.org/wp-content/uploads/2023/07/Clover-High-School.png
END:VEVENT
BEGIN:VEVENT
DTSTART;TZID=America/New_York:20251014T190000
DTEND;TZID=America/New_York:20251014T203000
DTSTAMP:20260421T231103
CREATED:20250903T144206Z
LAST-MODIFIED:20251014T113108Z
UID:20945-1760468400-1760473800@www.thecollegefundingcoach.org
SUMMARY:Lake Braddock Secondary School
DESCRIPTION:
URL:https://www.thecollegefundingcoach.org/class/lake-braddock-secondary-school/
LOCATION:Lake Braddock Secondary School\, 9200 Burke Lake Rd\,  Burke\, VA\, 22015\, United States
CATEGORIES:Classes,IN-PERSON/ON-SITE WORKSHOP,Workshops
ATTACH;FMTTYPE=image/png:https://www.thecollegefundingcoach.org/wp-content/uploads/2025/02/Lake-Braddock-Secondary.png
GEO:38.8035315;-77.2658405
X-APPLE-STRUCTURED-LOCATION;VALUE=URI;X-ADDRESS=Lake Braddock Secondary School 9200 Burke Lake Rd  Burke VA 22015 United States;X-APPLE-RADIUS=500;X-TITLE=9200 Burke Lake Rd:geo:-77.2658405,38.8035315
END:VEVENT
END:VCALENDAR