BEGIN:VCALENDAR
VERSION:2.0
PRODID:-//The College Funding Coach - ECPv6.15.17//NONSGML v1.0//EN
CALSCALE:GREGORIAN
METHOD:PUBLISH
X-WR-CALNAME:The College Funding Coach
X-ORIGINAL-URL:https://www.thecollegefundingcoach.org
X-WR-CALDESC:Events for The College Funding Coach
REFRESH-INTERVAL;VALUE=DURATION:PT1H
X-Robots-Tag:noindex
X-PUBLISHED-TTL:PT1H
BEGIN:VTIMEZONE
TZID:America/New_York
BEGIN:DAYLIGHT
TZOFFSETFROM:-0500
TZOFFSETTO:-0400
TZNAME:EDT
DTSTART:20180311T070000
END:DAYLIGHT
BEGIN:STANDARD
TZOFFSETFROM:-0400
TZOFFSETTO:-0500
TZNAME:EST
DTSTART:20181104T060000
END:STANDARD
BEGIN:DAYLIGHT
TZOFFSETFROM:-0500
TZOFFSETTO:-0400
TZNAME:EDT
DTSTART:20190310T070000
END:DAYLIGHT
BEGIN:STANDARD
TZOFFSETFROM:-0400
TZOFFSETTO:-0500
TZNAME:EST
DTSTART:20191103T060000
END:STANDARD
BEGIN:DAYLIGHT
TZOFFSETFROM:-0500
TZOFFSETTO:-0400
TZNAME:EDT
DTSTART:20200308T070000
END:DAYLIGHT
BEGIN:STANDARD
TZOFFSETFROM:-0400
TZOFFSETTO:-0500
TZNAME:EST
DTSTART:20201101T060000
END:STANDARD
BEGIN:DAYLIGHT
TZOFFSETFROM:-0500
TZOFFSETTO:-0400
TZNAME:EDT
DTSTART:20210314T070000
END:DAYLIGHT
BEGIN:STANDARD
TZOFFSETFROM:-0400
TZOFFSETTO:-0500
TZNAME:EST
DTSTART:20211107T060000
END:STANDARD
END:VTIMEZONE
BEGIN:VEVENT
DTSTART;TZID=America/New_York:20191204T190000
DTEND;TZID=America/New_York:20191204T210000
DTSTAMP:20260419T115024
CREATED:20191018T141141Z
LAST-MODIFIED:20191018T141141Z
UID:7453-1575486000-1575493200@www.thecollegefundingcoach.org
SUMMARY:Ronald Reagan Middle School
DESCRIPTION:
URL:https://www.thecollegefundingcoach.org/class/ronald-reagan-middle-school/
LOCATION:Ronald Reagan Middle School\, 15801 Tanning House Pl\, Haymarket\, Virginia\, 20169
CATEGORIES:Classes,Workshops
ATTACH;FMTTYPE=image/png:https://www.thecollegefundingcoach.org/wp-content/uploads/2019/10/Ronald-Reagan-Middle-School.png
GEO:38.8463298;-77.662087
X-APPLE-STRUCTURED-LOCATION;VALUE=URI;X-ADDRESS=Ronald Reagan Middle School 15801 Tanning House Pl Haymarket Virginia 20169;X-APPLE-RADIUS=500;X-TITLE=15801 Tanning House Pl:geo:-77.662087,38.8463298
END:VEVENT
BEGIN:VEVENT
DTSTART;TZID=America/New_York:20200114T183000
DTEND;TZID=America/New_York:20200114T200000
DTSTAMP:20260419T115024
CREATED:20190829T134310Z
LAST-MODIFIED:20191213T161439Z
UID:6965-1579026600-1579032000@www.thecollegefundingcoach.org
SUMMARY:Cardinal Forest Elementary School
DESCRIPTION:
URL:https://www.thecollegefundingcoach.org/class/cardinal-forest-elementary-school/
LOCATION:Cardinal Forest Elementary School\, 8600 Forrester Blvd\, Springfield\, VA\, 22152
CATEGORIES:Classes,Workshops
ATTACH;FMTTYPE=image/png:https://www.thecollegefundingcoach.org/wp-content/uploads/2019/08/Cardinal-Forest-Elementary-School.png
GEO:38.7920546;-77.2403218
X-APPLE-STRUCTURED-LOCATION;VALUE=URI;X-ADDRESS=Cardinal Forest Elementary School 8600 Forrester Blvd Springfield VA 22152;X-APPLE-RADIUS=500;X-TITLE=8600 Forrester Blvd:geo:-77.2403218,38.7920546
END:VEVENT
BEGIN:VEVENT
DTSTART;TZID=America/New_York:20200115T183000
DTEND;TZID=America/New_York:20200115T200000
DTSTAMP:20260419T115024
CREATED:20191029T152103Z
LAST-MODIFIED:20191029T152103Z
UID:7645-1579113000-1579118400@www.thecollegefundingcoach.org
SUMMARY:Belmont Ridge Middle School
DESCRIPTION:
URL:https://www.thecollegefundingcoach.org/class/belmont-ridge-middle-school/
LOCATION:Belmont Ridge Middle School\, 19045 Upper Belmont Place\, Leesburg\, VA\, 20176\, United States
CATEGORIES:Classes,Workshops
ATTACH;FMTTYPE=image/png:https://www.thecollegefundingcoach.org/wp-content/uploads/2019/10/Belmont-Ridge-Middle-School.png
GEO:39.0894044;-77.4885169
X-APPLE-STRUCTURED-LOCATION;VALUE=URI;X-ADDRESS=Belmont Ridge Middle School 19045 Upper Belmont Place Leesburg VA 20176 United States;X-APPLE-RADIUS=500;X-TITLE=19045 Upper Belmont Place:geo:-77.4885169,39.0894044
END:VEVENT
BEGIN:VEVENT
DTSTART;TZID=America/New_York:20200116T183000
DTEND;TZID=America/New_York:20200116T200000
DTSTAMP:20260419T115024
CREATED:20191112T214350Z
LAST-MODIFIED:20191112T214350Z
UID:7792-1579199400-1579204800@www.thecollegefundingcoach.org
SUMMARY:James Logan High School
DESCRIPTION:
URL:https://www.thecollegefundingcoach.org/class/james-logan-high-school/
LOCATION:James Logan High School\, Performing Arts Center\, 1800 H St\, Union City\, CA\, 94587
CATEGORIES:Classes,Workshops
ATTACH;FMTTYPE=image/png:https://www.thecollegefundingcoach.org/wp-content/uploads/2019/11/James-Logan-High-School.png
GEO:37.5901038;-122.0266982
X-APPLE-STRUCTURED-LOCATION;VALUE=URI;X-ADDRESS=James Logan High School Performing Arts Center 1800 H St Union City CA 94587;X-APPLE-RADIUS=500;X-TITLE=Performing Arts Center\, 1800 H St:geo:-122.0266982,37.5901038
END:VEVENT
BEGIN:VEVENT
DTSTART;TZID=America/New_York:20200122T190000
DTEND;TZID=America/New_York:20200122T203000
DTSTAMP:20260419T115024
CREATED:20190625T082759Z
LAST-MODIFIED:20200113T232653Z
UID:6408-1579719600-1579725000@www.thecollegefundingcoach.org
SUMMARY:Barrie Prep
DESCRIPTION:
URL:https://www.thecollegefundingcoach.org/class/barrie-prep/
LOCATION:Barrie Prep\, 13500 Layhill Road\, Silver Spring\, MD\, 20906
CATEGORIES:Classes,Workshops
ATTACH;FMTTYPE=image/png:https://www.thecollegefundingcoach.org/wp-content/uploads/2019/06/Barrie-Prep.png
GEO:39.0777354;-77.0489806
X-APPLE-STRUCTURED-LOCATION;VALUE=URI;X-ADDRESS=Barrie Prep 13500 Layhill Road Silver Spring MD 20906;X-APPLE-RADIUS=500;X-TITLE=13500 Layhill Road:geo:-77.0489806,39.0777354
END:VEVENT
BEGIN:VEVENT
DTSTART;TZID=America/New_York:20200123T190000
DTEND;TZID=America/New_York:20200123T203000
DTSTAMP:20260419T115024
CREATED:20191212T162004Z
LAST-MODIFIED:20191212T162004Z
UID:8067-1579806000-1579811400@www.thecollegefundingcoach.org
SUMMARY:The Siena School
DESCRIPTION:
URL:https://www.thecollegefundingcoach.org/class/the-siena-school/
LOCATION:The Siena School\, 1300 Forest Glen Road\, Silver Spring\, MD\, 20901
CATEGORIES:Classes,Workshops
ATTACH;FMTTYPE=image/png:https://www.thecollegefundingcoach.org/wp-content/uploads/2019/12/The-Siena-School.png
GEO:39.0168545;-77.0306739
X-APPLE-STRUCTURED-LOCATION;VALUE=URI;X-ADDRESS=The Siena School 1300 Forest Glen Road Silver Spring MD 20901;X-APPLE-RADIUS=500;X-TITLE=1300 Forest Glen Road:geo:-77.0306739,39.0168545
END:VEVENT
BEGIN:VEVENT
DTSTART;TZID=America/New_York:20200125T110000
DTEND;TZID=America/New_York:20200125T130000
DTSTAMP:20260419T115024
CREATED:20190924T165328Z
LAST-MODIFIED:20190924T165328Z
UID:7200-1579950000-1579957200@www.thecollegefundingcoach.org
SUMMARY:Rust Library
DESCRIPTION:
URL:https://www.thecollegefundingcoach.org/class/rust-library/
LOCATION:Rust Library\, 380 Old Waterford Rd NW\, Leesburg\, VA\, 20176
CATEGORIES:Classes,Workshops
ATTACH;FMTTYPE=image/png:https://www.thecollegefundingcoach.org/wp-content/uploads/2019/09/Rust-Library.png
GEO:39.1235567;-77.5677853
X-APPLE-STRUCTURED-LOCATION;VALUE=URI;X-ADDRESS=Rust Library 380 Old Waterford Rd NW Leesburg VA 20176;X-APPLE-RADIUS=500;X-TITLE=380 Old Waterford Rd NW:geo:-77.5677853,39.1235567
END:VEVENT
END:VCALENDAR