BEGIN:VCALENDAR
VERSION:2.0
PRODID:-//The College Funding Coach - ECPv6.15.17//NONSGML v1.0//EN
CALSCALE:GREGORIAN
METHOD:PUBLISH
X-WR-CALNAME:The College Funding Coach
X-ORIGINAL-URL:https://www.thecollegefundingcoach.org
X-WR-CALDESC:Events for The College Funding Coach
REFRESH-INTERVAL;VALUE=DURATION:PT1H
X-Robots-Tag:noindex
X-PUBLISHED-TTL:PT1H
BEGIN:VTIMEZONE
TZID:America/New_York
BEGIN:DAYLIGHT
TZOFFSETFROM:-0500
TZOFFSETTO:-0400
TZNAME:EDT
DTSTART:20180311T070000
END:DAYLIGHT
BEGIN:STANDARD
TZOFFSETFROM:-0400
TZOFFSETTO:-0500
TZNAME:EST
DTSTART:20181104T060000
END:STANDARD
BEGIN:DAYLIGHT
TZOFFSETFROM:-0500
TZOFFSETTO:-0400
TZNAME:EDT
DTSTART:20190310T070000
END:DAYLIGHT
BEGIN:STANDARD
TZOFFSETFROM:-0400
TZOFFSETTO:-0500
TZNAME:EST
DTSTART:20191103T060000
END:STANDARD
BEGIN:DAYLIGHT
TZOFFSETFROM:-0500
TZOFFSETTO:-0400
TZNAME:EDT
DTSTART:20200308T070000
END:DAYLIGHT
BEGIN:STANDARD
TZOFFSETFROM:-0400
TZOFFSETTO:-0500
TZNAME:EST
DTSTART:20201101T060000
END:STANDARD
END:VTIMEZONE
BEGIN:VEVENT
DTSTART;TZID=America/New_York:20191022T173000
DTEND;TZID=America/New_York:20191022T193000
DTSTAMP:20260422T075003
CREATED:20190930T132759Z
LAST-MODIFIED:20190930T132836Z
UID:7240-1571765400-1571772600@www.thecollegefundingcoach.org
SUMMARY:Dent Middle School
DESCRIPTION:
URL:https://www.thecollegefundingcoach.org/class/dent-middle-school/
LOCATION:Dent Middle School\, 2721 Decker Blvd\, Columbia\, SC\, 29206
CATEGORIES:Classes,Workshops
ATTACH;FMTTYPE=image/png:https://www.thecollegefundingcoach.org/wp-content/uploads/2019/09/Dent-Middle-School.png
GEO:34.0627096;-80.9558397
X-APPLE-STRUCTURED-LOCATION;VALUE=URI;X-ADDRESS=Dent Middle School 2721 Decker Blvd Columbia SC 29206;X-APPLE-RADIUS=500;X-TITLE=2721 Decker Blvd:geo:-80.9558397,34.0627096
END:VEVENT
BEGIN:VEVENT
DTSTART;TZID=America/New_York:20191022T183000
DTEND;TZID=America/New_York:20191022T203000
DTSTAMP:20260422T075003
CREATED:20190813T145212Z
LAST-MODIFIED:20190813T145212Z
UID:6782-1571769000-1571776200@www.thecollegefundingcoach.org
SUMMARY:Douglas S. Freeman High School
DESCRIPTION:
URL:https://www.thecollegefundingcoach.org/class/douglas-s-freeman-high-school/
LOCATION:Douglas S. Freeman High School\, 8701 Three Chopt Road\, Henrico\, VA\, 23229
CATEGORIES:Classes,Workshops
ATTACH;FMTTYPE=image/png:https://www.thecollegefundingcoach.org/wp-content/uploads/2019/08/Douglas-S.-Freeman-High-School.png
GEO:37.6016154;-77.5585207
X-APPLE-STRUCTURED-LOCATION;VALUE=URI;X-ADDRESS=Douglas S. Freeman High School 8701 Three Chopt Road Henrico VA 23229;X-APPLE-RADIUS=500;X-TITLE=8701 Three Chopt Road:geo:-77.5585207,37.6016154
END:VEVENT
BEGIN:VEVENT
DTSTART;TZID=America/New_York:20191022T183000
DTEND;TZID=America/New_York:20191022T203000
DTSTAMP:20260422T075003
CREATED:20190621T075144Z
LAST-MODIFIED:20190621T075144Z
UID:6374-1571769000-1571776200@www.thecollegefundingcoach.org
SUMMARY:Hillside High School
DESCRIPTION:
URL:https://www.thecollegefundingcoach.org/class/hillside-high-school/
LOCATION:Hillside High School\, 1085 Liberty Ave\, Hillside\, NJ\, 07205
CATEGORIES:Classes,Workshops
ATTACH;FMTTYPE=image/png:https://www.thecollegefundingcoach.org/wp-content/uploads/2019/06/Hillside-High-School.png
GEO:40.6913258;-74.2360149
X-APPLE-STRUCTURED-LOCATION;VALUE=URI;X-ADDRESS=Hillside High School 1085 Liberty Ave Hillside NJ 07205;X-APPLE-RADIUS=500;X-TITLE=1085 Liberty Ave:geo:-74.2360149,40.6913258
END:VEVENT
BEGIN:VEVENT
DTSTART;TZID=America/New_York:20191022T190000
DTEND;TZID=America/New_York:20191022T203000
DTSTAMP:20260422T075003
CREATED:20190828T205925Z
LAST-MODIFIED:20190828T205925Z
UID:6957-1571770800-1571776200@www.thecollegefundingcoach.org
SUMMARY:McDonogh School
DESCRIPTION:
URL:https://www.thecollegefundingcoach.org/class/mcdonogh-school/
LOCATION:McDonogh School\, 8600 McDonogh Rd\, Owings Mills\, MD\, 21117
CATEGORIES:Classes,Workshops
ATTACH;FMTTYPE=image/png:https://www.thecollegefundingcoach.org/wp-content/uploads/2019/08/McDonogh-School.png
GEO:39.3947444;-76.7766725
X-APPLE-STRUCTURED-LOCATION;VALUE=URI;X-ADDRESS=McDonogh School 8600 McDonogh Rd Owings Mills MD 21117;X-APPLE-RADIUS=500;X-TITLE=8600 McDonogh Rd:geo:-76.7766725,39.3947444
END:VEVENT
BEGIN:VEVENT
DTSTART;TZID=America/New_York:20191022T190000
DTEND;TZID=America/New_York:20191022T203000
DTSTAMP:20260422T075003
CREATED:20190818T145720Z
LAST-MODIFIED:20190820T191250Z
UID:6861-1571770800-1571776200@www.thecollegefundingcoach.org
SUMMARY:Old Donation School
DESCRIPTION:
URL:https://www.thecollegefundingcoach.org/class/old-donation-school/
LOCATION:Old Donation School\, 4633 Honeygrove Road\, Virginia Beach\, VA\, 23455
CATEGORIES:Classes,Workshops
ATTACH;FMTTYPE=image/png:https://www.thecollegefundingcoach.org/wp-content/uploads/2019/08/Old-Donation-School.png
GEO:36.8712723;-76.1349454
X-APPLE-STRUCTURED-LOCATION;VALUE=URI;X-ADDRESS=Old Donation School 4633 Honeygrove Road Virginia Beach VA 23455;X-APPLE-RADIUS=500;X-TITLE=4633 Honeygrove Road:geo:-76.1349454,36.8712723
END:VEVENT
BEGIN:VEVENT
DTSTART;TZID=America/New_York:20191022T190000
DTEND;TZID=America/New_York:20191022T210000
DTSTAMP:20260422T075003
CREATED:20190906T133538Z
LAST-MODIFIED:20190906T133538Z
UID:7032-1571770800-1571778000@www.thecollegefundingcoach.org
SUMMARY:Yorktown High School
DESCRIPTION:
URL:https://www.thecollegefundingcoach.org/class/yorktown-high-school/
LOCATION:Yorktown High School\, 5200 Yorktown Blvd\, Arlington\, VA\, 22207\, United States
CATEGORIES:Classes,Workshops
ATTACH;FMTTYPE=image/png:https://www.thecollegefundingcoach.org/wp-content/uploads/2019/09/Yorktown-High-School.png
GEO:38.9026841;-77.1400676
X-APPLE-STRUCTURED-LOCATION;VALUE=URI;X-ADDRESS=Yorktown High School 5200 Yorktown Blvd Arlington VA 22207 United States;X-APPLE-RADIUS=500;X-TITLE=5200 Yorktown Blvd:geo:-77.1400676,38.9026841
END:VEVENT
BEGIN:VEVENT
DTSTART;TZID=America/New_York:20191023T173000
DTEND;TZID=America/New_York:20191023T200000
DTSTAMP:20260422T075003
CREATED:20190516T121600Z
LAST-MODIFIED:20191008T123307Z
UID:6063-1571851800-1571860800@www.thecollegefundingcoach.org
SUMMARY:Castle Rock Middle School
DESCRIPTION:
URL:https://www.thecollegefundingcoach.org/class/castle-rock-middle-school/
LOCATION:Castle Rock Middle School\, 2575 Meadows Pkwy\, Castle Rock\, CO\, 80109
CATEGORIES:Classes,Workshops
ATTACH;FMTTYPE=image/png:https://www.thecollegefundingcoach.org/wp-content/uploads/2019/05/Castle-Rock-Middle-School.png
GEO:39.4096936;-104.8920632
X-APPLE-STRUCTURED-LOCATION;VALUE=URI;X-ADDRESS=Castle Rock Middle School 2575 Meadows Pkwy Castle Rock CO 80109;X-APPLE-RADIUS=500;X-TITLE=2575 Meadows Pkwy:geo:-104.8920632,39.4096936
END:VEVENT
BEGIN:VEVENT
DTSTART;TZID=America/New_York:20191023T183000
DTEND;TZID=America/New_York:20191023T203000
DTSTAMP:20260422T075003
CREATED:20190916T185403Z
LAST-MODIFIED:20190916T185403Z
UID:7115-1571855400-1571862600@www.thecollegefundingcoach.org
SUMMARY:York Comprehensive High School
DESCRIPTION:
URL:https://www.thecollegefundingcoach.org/class/york-comprehensive-high-school-2/
LOCATION:York Comprehensive High School\, 275 E Alexander Love Hwy\, York\, SC\, 29745
CATEGORIES:Classes,Workshops
ATTACH;FMTTYPE=image/png:https://www.thecollegefundingcoach.org/wp-content/uploads/2019/09/York-Comprehensive-High-School.png
GEO:35.0149551;-81.2271162
X-APPLE-STRUCTURED-LOCATION;VALUE=URI;X-ADDRESS=York Comprehensive High School 275 E Alexander Love Hwy York SC 29745;X-APPLE-RADIUS=500;X-TITLE=275 E Alexander Love Hwy:geo:-81.2271162,35.0149551
END:VEVENT
BEGIN:VEVENT
DTSTART;TZID=America/New_York:20191023T183000
DTEND;TZID=America/New_York:20191023T203000
DTSTAMP:20260422T075003
CREATED:20190813T145526Z
LAST-MODIFIED:20190813T145622Z
UID:6786-1571855400-1571862600@www.thecollegefundingcoach.org
SUMMARY:Glen Allen High School
DESCRIPTION:
URL:https://www.thecollegefundingcoach.org/class/glen-allen-high-school/
LOCATION:Glen Allen High School\, 10700 Staples Mill Road\, glen allen\, VA\, 23060
CATEGORIES:Classes,Workshops
ATTACH;FMTTYPE=image/png:https://www.thecollegefundingcoach.org/wp-content/uploads/2019/08/Glen-Allen-High-School.png
GEO:37.666232;-77.5336923
X-APPLE-STRUCTURED-LOCATION;VALUE=URI;X-ADDRESS=Glen Allen High School 10700 Staples Mill Road glen allen VA 23060;X-APPLE-RADIUS=500;X-TITLE=10700 Staples Mill Road:geo:-77.5336923,37.666232
END:VEVENT
BEGIN:VEVENT
DTSTART;TZID=America/New_York:20191023T190000
DTEND;TZID=America/New_York:20191023T210000
DTSTAMP:20260422T075003
CREATED:20190812T182941Z
LAST-MODIFIED:20190812T184623Z
UID:6768-1571857200-1571864400@www.thecollegefundingcoach.org
SUMMARY:Private Event: Devon Preparatory School
DESCRIPTION:
URL:https://www.thecollegefundingcoach.org/class/devon-preparatory-school/
LOCATION:Devon Prep: Alumni Hall\, 363 N. Valley Forge Road\, Devon\, PA\, 19333
CATEGORIES:Classes,Workshops
ATTACH;FMTTYPE=image/png:https://www.thecollegefundingcoach.org/wp-content/uploads/2019/08/Devon-Preparatory-School.png
GEO:40.0553738;-75.4210448
X-APPLE-STRUCTURED-LOCATION;VALUE=URI;X-ADDRESS=Devon Prep: Alumni Hall 363 N. Valley Forge Road Devon PA 19333;X-APPLE-RADIUS=500;X-TITLE=363 N. Valley Forge Road:geo:-75.4210448,40.0553738
END:VEVENT
BEGIN:VEVENT
DTSTART;TZID=America/New_York:20191023T190000
DTEND;TZID=America/New_York:20191023T210000
DTSTAMP:20260422T075003
CREATED:20190730T130513Z
LAST-MODIFIED:20190730T141102Z
UID:6648-1571857200-1571864400@www.thecollegefundingcoach.org
SUMMARY:Harper Park\,Tolbert ES and Cool Spring ES
DESCRIPTION:
URL:https://www.thecollegefundingcoach.org/class/harper-parktolbert-es-and-cool-spring-es/
LOCATION:Harper Park Middle School\, 701 Potomac Station Dr\, Leesburg\, VA\, 20176\, United States
CATEGORIES:Classes,Workshops
ATTACH;FMTTYPE=image/png:https://www.thecollegefundingcoach.org/wp-content/uploads/2019/07/Harper-Park-Middle-School.png
GEO:39.094802;-77.522708
X-APPLE-STRUCTURED-LOCATION;VALUE=URI;X-ADDRESS=Harper Park Middle School 701 Potomac Station Dr Leesburg VA 20176 United States;X-APPLE-RADIUS=500;X-TITLE=701 Potomac Station Dr:geo:-77.522708,39.094802
END:VEVENT
BEGIN:VEVENT
DTSTART;TZID=America/New_York:20191023T190000
DTEND;TZID=America/New_York:20191023T210000
DTSTAMP:20260422T075003
CREATED:20190621T072602Z
LAST-MODIFIED:20190909T194953Z
UID:6360-1571857200-1571864400@www.thecollegefundingcoach.org
SUMMARY:Verona High School
DESCRIPTION:
URL:https://www.thecollegefundingcoach.org/class/verona-high-school/
LOCATION:Verona High School\, 151 Fairview Ave\, Verona\, NJ\, 07044
CATEGORIES:Classes,Workshops
ATTACH;FMTTYPE=image/png:https://www.thecollegefundingcoach.org/wp-content/uploads/2019/06/Verona-High-School.png
GEO:40.8412784;-74.2480376
X-APPLE-STRUCTURED-LOCATION;VALUE=URI;X-ADDRESS=Verona High School 151 Fairview Ave Verona NJ 07044;X-APPLE-RADIUS=500;X-TITLE=151 Fairview Ave:geo:-74.2480376,40.8412784
END:VEVENT
BEGIN:VEVENT
DTSTART;TZID=America/New_York:20191024T180000
DTEND;TZID=America/New_York:20191024T200000
DTSTAMP:20260422T075003
CREATED:20190916T184912Z
LAST-MODIFIED:20190916T185518Z
UID:7111-1571940000-1571947200@www.thecollegefundingcoach.org
SUMMARY:Page High School
DESCRIPTION:
URL:https://www.thecollegefundingcoach.org/class/page-high-school/
LOCATION:Page High School\, 201 Alma Pinnix Drive\, Greensboro\, NC\, 27405
CATEGORIES:Classes,Workshops
ATTACH;FMTTYPE=image/png:https://www.thecollegefundingcoach.org/wp-content/uploads/2019/09/Page-High-School.png
GEO:36.1097407;-79.7855429
X-APPLE-STRUCTURED-LOCATION;VALUE=URI;X-ADDRESS=Page High School 201 Alma Pinnix Drive Greensboro NC 27405;X-APPLE-RADIUS=500;X-TITLE=201 Alma Pinnix Drive:geo:-79.7855429,36.1097407
END:VEVENT
BEGIN:VEVENT
DTSTART;TZID=America/New_York:20191024T190000
DTEND;TZID=America/New_York:20191024T210000
DTSTAMP:20260422T075003
CREATED:20190614T180755Z
LAST-MODIFIED:20190614T180755Z
UID:6311-1571943600-1571950800@www.thecollegefundingcoach.org
SUMMARY:Stone Bridge High School
DESCRIPTION:
URL:https://www.thecollegefundingcoach.org/class/stone-bridge-high-school/
LOCATION:Stone Bridge High School\, 43100 Hay Road\, Ashburn\, VA\, 20147\, United States
CATEGORIES:Classes,Workshops
ATTACH;FMTTYPE=image/png:https://www.thecollegefundingcoach.org/wp-content/uploads/2019/06/Stone-Bridge-High-School.png
END:VEVENT
BEGIN:VEVENT
DTSTART;TZID=America/New_York:20191028T183000
DTEND;TZID=America/New_York:20191028T200000
DTSTAMP:20260422T075003
CREATED:20191008T123719Z
LAST-MODIFIED:20191008T123719Z
UID:7304-1572287400-1572292800@www.thecollegefundingcoach.org
SUMMARY:Flagstaff Academy
DESCRIPTION:
URL:https://www.thecollegefundingcoach.org/class/flagstaff-academy/
LOCATION:Flagstaff Academy\, 2040 Miller Dr.\, Longmont\, CO\, 80501
CATEGORIES:Classes,Workshops
ATTACH;FMTTYPE=image/png:https://www.thecollegefundingcoach.org/wp-content/uploads/2019/10/Flagstaff-Academy.png
GEO:40.1408343;-105.1268837
X-APPLE-STRUCTURED-LOCATION;VALUE=URI;X-ADDRESS=Flagstaff Academy 2040 Miller Dr. Longmont CO 80501;X-APPLE-RADIUS=500;X-TITLE=2040 Miller Dr.:geo:-105.1268837,40.1408343
END:VEVENT
BEGIN:VEVENT
DTSTART;TZID=America/New_York:20191028T190000
DTEND;TZID=America/New_York:20191028T203000
DTSTAMP:20260422T075003
CREATED:20190916T191108Z
LAST-MODIFIED:20190924T181308Z
UID:7123-1572289200-1572294600@www.thecollegefundingcoach.org
SUMMARY:High Tech High School
DESCRIPTION:
URL:https://www.thecollegefundingcoach.org/class/high-tech-high-school/
LOCATION:High Tech High School\, 1 High Tech Way\, Secaucus\, New Jersey\, 07094
CATEGORIES:Classes,Workshops
ATTACH;FMTTYPE=image/png:https://www.thecollegefundingcoach.org/wp-content/uploads/2019/09/High-Tech-High-School.png
GEO:40.7603924;-74.0825364
X-APPLE-STRUCTURED-LOCATION;VALUE=URI;X-ADDRESS=High Tech High School 1 High Tech Way Secaucus New Jersey 07094;X-APPLE-RADIUS=500;X-TITLE=1 High Tech Way:geo:-74.0825364,40.7603924
END:VEVENT
BEGIN:VEVENT
DTSTART;TZID=America/New_York:20191029T180000
DTEND;TZID=America/New_York:20191029T193000
DTSTAMP:20260422T075003
CREATED:20190912T123012Z
LAST-MODIFIED:20190912T123603Z
UID:7062-1572372000-1572377400@www.thecollegefundingcoach.org
SUMMARY:Rodriguez High School
DESCRIPTION:
URL:https://www.thecollegefundingcoach.org/class/rodriguez-high-school/
LOCATION:Rodriguez High School\, 5000 Red Top Road\, Fairfield\, CA\, 94534
CATEGORIES:Classes,Workshops
ATTACH;FMTTYPE=image/png:https://www.thecollegefundingcoach.org/wp-content/uploads/2019/09/Rodriguez-High-School.png
GEO:38.2005356;-122.1453653
X-APPLE-STRUCTURED-LOCATION;VALUE=URI;X-ADDRESS=Rodriguez High School 5000 Red Top Road Fairfield CA 94534;X-APPLE-RADIUS=500;X-TITLE=5000 Red Top Road:geo:-122.1453653,38.2005356
END:VEVENT
BEGIN:VEVENT
DTSTART;TZID=America/New_York:20191029T183000
DTEND;TZID=America/New_York:20191029T203000
DTSTAMP:20260422T075003
CREATED:20190821T203826Z
LAST-MODIFIED:20190821T203826Z
UID:6881-1572373800-1572381000@www.thecollegefundingcoach.org
SUMMARY:Holman Middle School
DESCRIPTION:
URL:https://www.thecollegefundingcoach.org/class/holman-middle-school-2/
LOCATION:Holman Middle School\, 600 Concourse Boulevard\, Glen Allen\, VA\, 23059 \, United States
CATEGORIES:Classes,Workshops
ATTACH;FMTTYPE=image/png:https://www.thecollegefundingcoach.org/wp-content/uploads/2019/08/Holman-Huskies.png
GEO:37.6897599;-77.5900597
X-APPLE-STRUCTURED-LOCATION;VALUE=URI;X-ADDRESS=Holman Middle School 600 Concourse Boulevard Glen Allen VA 23059  United States;X-APPLE-RADIUS=500;X-TITLE=600 Concourse Boulevard:geo:-77.5900597,37.6897599
END:VEVENT
BEGIN:VEVENT
DTSTART;TZID=America/New_York:20191029T183000
DTEND;TZID=America/New_York:20191029T203000
DTSTAMP:20260422T075003
CREATED:20190809T205303Z
LAST-MODIFIED:20190809T205303Z
UID:6719-1572373800-1572381000@www.thecollegefundingcoach.org
SUMMARY:Wesleyan Christian Academy
DESCRIPTION:
URL:https://www.thecollegefundingcoach.org/class/wesleyan-christian-academy/
LOCATION:Wesleyan Christian Academy\, 1917 N Centennial Street\, High Point\, NC\, 27262
CATEGORIES:Classes,Workshops
ATTACH;FMTTYPE=image/png:https://www.thecollegefundingcoach.org/wp-content/uploads/2019/08/Wesleyan-Christian-Academy.png
GEO:35.9871335;-80.0018413
X-APPLE-STRUCTURED-LOCATION;VALUE=URI;X-ADDRESS=Wesleyan Christian Academy 1917 N Centennial Street High Point NC 27262;X-APPLE-RADIUS=500;X-TITLE=1917 N Centennial Street:geo:-80.0018413,35.9871335
END:VEVENT
BEGIN:VEVENT
DTSTART;TZID=America/New_York:20191029T183000
DTEND;TZID=America/New_York:20191029T203000
DTSTAMP:20260422T075003
CREATED:20190621T080040Z
LAST-MODIFIED:20190621T080040Z
UID:6378-1572373800-1572381000@www.thecollegefundingcoach.org
SUMMARY:Ridgewood Community School
DESCRIPTION:
URL:https://www.thecollegefundingcoach.org/class/ridgewood-community-school/
LOCATION:Ridgewood Community School\, 627 E Ridgewood Ave\, Ridgewood\, NJ\, 07450
CATEGORIES:Classes,Workshops
ATTACH;FMTTYPE=image/png:https://www.thecollegefundingcoach.org/wp-content/uploads/2019/06/Ridgewood-Community-School.png
GEO:40.977754;-74.105593
X-APPLE-STRUCTURED-LOCATION;VALUE=URI;X-ADDRESS=Ridgewood Community School 627 E Ridgewood Ave Ridgewood NJ 07450;X-APPLE-RADIUS=500;X-TITLE=627 E Ridgewood Ave:geo:-74.105593,40.977754
END:VEVENT
BEGIN:VEVENT
DTSTART;TZID=America/New_York:20191029T190000
DTEND;TZID=America/New_York:20191029T210000
DTSTAMP:20260422T075003
CREATED:20190425T132029Z
LAST-MODIFIED:20190425T132110Z
UID:5910-1572375600-1572382800@www.thecollegefundingcoach.org
SUMMARY:Plumstead Christian School
DESCRIPTION:
URL:https://www.thecollegefundingcoach.org/class/plumstead-christian-school/
LOCATION:Plumstead Christian School\, 5765 Old Easton Road\, Plumsteadville\, PA\, 18949\, United States
CATEGORIES:Classes,Workshops
ATTACH;FMTTYPE=image/png:https://www.thecollegefundingcoach.org/wp-content/uploads/2019/04/Plumstead-Christian-School.png
GEO:40.3830775;-75.1437008
X-APPLE-STRUCTURED-LOCATION;VALUE=URI;X-ADDRESS=Plumstead Christian School 5765 Old Easton Road Plumsteadville PA 18949 United States;X-APPLE-RADIUS=500;X-TITLE=5765 Old Easton Road:geo:-75.1437008,40.3830775
END:VEVENT
BEGIN:VEVENT
DTSTART;TZID=America/New_York:20191030T190000
DTEND;TZID=America/New_York:20191030T203000
DTSTAMP:20260422T075003
CREATED:20191007T200740Z
LAST-MODIFIED:20191007T200740Z
UID:7301-1572462000-1572467400@www.thecollegefundingcoach.org
SUMMARY:Oakcrest School
DESCRIPTION:
URL:https://www.thecollegefundingcoach.org/class/oakcrest-school/
LOCATION:Oakcrest School\, 1619 Crowell Rd.\, Vienna\, VA\, 22182
CATEGORIES:Classes,Workshops
ATTACH;FMTTYPE=image/png:https://www.thecollegefundingcoach.org/wp-content/uploads/2019/10/Oakcrest-School.png
GEO:38.9499497;-77.3065055
X-APPLE-STRUCTURED-LOCATION;VALUE=URI;X-ADDRESS=Oakcrest School 1619 Crowell Rd. Vienna VA 22182;X-APPLE-RADIUS=500;X-TITLE=1619 Crowell Rd.:geo:-77.3065055,38.9499497
END:VEVENT
BEGIN:VEVENT
DTSTART;TZID=America/New_York:20191103T173000
DTEND;TZID=America/New_York:20191103T193000
DTSTAMP:20260422T075003
CREATED:20190911T193058Z
LAST-MODIFIED:20190911T193058Z
UID:7054-1572802200-1572809400@www.thecollegefundingcoach.org
SUMMARY:Huntington Learning Center
DESCRIPTION:
URL:https://www.thecollegefundingcoach.org/class/huntington-learning-center/
LOCATION:Huntington Learning Center\, 29 Nathaniel Pl\, Englewood\, NJ\, 07631
CATEGORIES:Classes,Workshops
ATTACH;FMTTYPE=image/png:https://www.thecollegefundingcoach.org/wp-content/uploads/2019/09/Huntington-Learning-Center.png
GEO:40.8951563;-73.9756796
X-APPLE-STRUCTURED-LOCATION;VALUE=URI;X-ADDRESS=Huntington Learning Center 29 Nathaniel Pl Englewood NJ 07631;X-APPLE-RADIUS=500;X-TITLE=29 Nathaniel Pl:geo:-73.9756796,40.8951563
END:VEVENT
END:VCALENDAR