BEGIN:VCALENDAR
VERSION:2.0
PRODID:-//The College Funding Coach - ECPv6.15.17//NONSGML v1.0//EN
CALSCALE:GREGORIAN
METHOD:PUBLISH
X-WR-CALNAME:The College Funding Coach
X-ORIGINAL-URL:https://www.thecollegefundingcoach.org
X-WR-CALDESC:Events for The College Funding Coach
REFRESH-INTERVAL;VALUE=DURATION:PT1H
X-Robots-Tag:noindex
X-PUBLISHED-TTL:PT1H
BEGIN:VTIMEZONE
TZID:America/New_York
BEGIN:DAYLIGHT
TZOFFSETFROM:-0500
TZOFFSETTO:-0400
TZNAME:EDT
DTSTART:20180311T070000
END:DAYLIGHT
BEGIN:STANDARD
TZOFFSETFROM:-0400
TZOFFSETTO:-0500
TZNAME:EST
DTSTART:20181104T060000
END:STANDARD
BEGIN:DAYLIGHT
TZOFFSETFROM:-0500
TZOFFSETTO:-0400
TZNAME:EDT
DTSTART:20190310T070000
END:DAYLIGHT
BEGIN:STANDARD
TZOFFSETFROM:-0400
TZOFFSETTO:-0500
TZNAME:EST
DTSTART:20191103T060000
END:STANDARD
BEGIN:DAYLIGHT
TZOFFSETFROM:-0500
TZOFFSETTO:-0400
TZNAME:EDT
DTSTART:20200308T070000
END:DAYLIGHT
BEGIN:STANDARD
TZOFFSETFROM:-0400
TZOFFSETTO:-0500
TZNAME:EST
DTSTART:20201101T060000
END:STANDARD
END:VTIMEZONE
BEGIN:VEVENT
DTSTART;TZID=America/New_York:20191016T183000
DTEND;TZID=America/New_York:20191016T200000
DTSTAMP:20260421T135930
CREATED:20190828T224608Z
LAST-MODIFIED:20190828T224608Z
UID:6961-1571250600-1571256000@www.thecollegefundingcoach.org
SUMMARY:Silverbrook Elementary School
DESCRIPTION:
URL:https://www.thecollegefundingcoach.org/class/silverbrook-elementary-school-2/
LOCATION:Silverbrook Elementary School\, 9350 Crosspointe Drive\, Fairfax Station\, VA\, 22039
CATEGORIES:Classes,Workshops
ATTACH;FMTTYPE=image/png:https://www.thecollegefundingcoach.org/wp-content/uploads/2019/08/Silverbrook-Elementary-School.png
GEO:38.729096;-77.2691944
X-APPLE-STRUCTURED-LOCATION;VALUE=URI;X-ADDRESS=Silverbrook Elementary School 9350 Crosspointe Drive Fairfax Station VA 22039;X-APPLE-RADIUS=500;X-TITLE=9350 Crosspointe Drive:geo:-77.2691944,38.729096
END:VEVENT
BEGIN:VEVENT
DTSTART;TZID=America/New_York:20191017T180000
DTEND;TZID=America/New_York:20191017T200000
DTSTAMP:20260421T135930
CREATED:20190926T190131Z
LAST-MODIFIED:20190926T190131Z
UID:7235-1571335200-1571342400@www.thecollegefundingcoach.org
SUMMARY:Doylestown | YMCA of Bucks County
DESCRIPTION:
URL:https://www.thecollegefundingcoach.org/class/doylestown-ymca-of-bucks-county-2/
LOCATION:First Baptist Church\, 311 W State St\, Doylestown\, PA\, 18901
CATEGORIES:Classes,Workshops
ATTACH;FMTTYPE=image/png:https://www.thecollegefundingcoach.org/wp-content/uploads/2019/05/YMCA.png
GEO:40.3072123;-75.1406607
X-APPLE-STRUCTURED-LOCATION;VALUE=URI;X-ADDRESS=First Baptist Church 311 W State St Doylestown PA 18901;X-APPLE-RADIUS=500;X-TITLE=311 W State St:geo:-75.1406607,40.3072123
END:VEVENT
BEGIN:VEVENT
DTSTART;TZID=America/New_York:20191017T180000
DTEND;TZID=America/New_York:20191017T200000
DTSTAMP:20260421T135930
CREATED:20190423T231833Z
LAST-MODIFIED:20190423T231833Z
UID:5907-1571335200-1571342400@www.thecollegefundingcoach.org
SUMMARY:Polo Ridge Elementary School
DESCRIPTION:
URL:https://www.thecollegefundingcoach.org/class/polo-ridge-elementary-school/
LOCATION:Polo Ridge Elementary School\, 11830 Tom Short Rd.\, Charlotte\, NC\, 28277
CATEGORIES:Classes,Workshops
ATTACH;FMTTYPE=image/png:https://www.thecollegefundingcoach.org/wp-content/uploads/2019/04/Polo-Ridge-Elementary-School.png
GEO:35.0468766;-80.7951241
X-APPLE-STRUCTURED-LOCATION;VALUE=URI;X-ADDRESS=Polo Ridge Elementary School 11830 Tom Short Rd. Charlotte NC 28277;X-APPLE-RADIUS=500;X-TITLE=11830 Tom Short Rd.:geo:-80.7951241,35.0468766
END:VEVENT
BEGIN:VEVENT
DTSTART;TZID=America/New_York:20191017T181500
DTEND;TZID=America/New_York:20191017T194500
DTSTAMP:20260421T135930
CREATED:20190917T155624Z
LAST-MODIFIED:20190917T155624Z
UID:7132-1571336100-1571341500@www.thecollegefundingcoach.org
SUMMARY:Jefferson Intermediate School
DESCRIPTION:
URL:https://www.thecollegefundingcoach.org/class/jefferson-intermediate-school/
LOCATION:Jefferson Intermediate School\, 2660 Zumbehl Road St.\, Charles\, MO\, 63301
CATEGORIES:Classes
ATTACH;FMTTYPE=image/png:https://www.thecollegefundingcoach.org/wp-content/uploads/2019/09/Jefferson-Intermediate-School-.png
GEO:38.7983973;-90.5324355
X-APPLE-STRUCTURED-LOCATION;VALUE=URI;X-ADDRESS=Jefferson Intermediate School 2660 Zumbehl Road St. Charles MO 63301;X-APPLE-RADIUS=500;X-TITLE=2660 Zumbehl Road St.:geo:-90.5324355,38.7983973
END:VEVENT
BEGIN:VEVENT
DTSTART;TZID=America/New_York:20191017T183000
DTEND;TZID=America/New_York:20191017T203000
DTSTAMP:20260421T135930
CREATED:20190711T195508Z
LAST-MODIFIED:20190711T201524Z
UID:6517-1571337000-1571344200@www.thecollegefundingcoach.org
SUMMARY:JMRL Northside Library
DESCRIPTION:
URL:https://www.thecollegefundingcoach.org/class/jmrl-northside-library/
LOCATION:JMRL Northside Library\, 705 W Rio Road\, Charlottesville\, Virginia\, 22901
CATEGORIES:Classes,Workshops
ATTACH;FMTTYPE=image/png:https://www.thecollegefundingcoach.org/wp-content/uploads/2019/07/JMRL-Northside-Library.png
GEO:38.0831212;-78.4761712
X-APPLE-STRUCTURED-LOCATION;VALUE=URI;X-ADDRESS=JMRL Northside Library 705 W Rio Road Charlottesville Virginia 22901;X-APPLE-RADIUS=500;X-TITLE=705 W Rio Road:geo:-78.4761712,38.0831212
END:VEVENT
BEGIN:VEVENT
DTSTART;TZID=America/New_York:20191017T190000
DTEND;TZID=America/New_York:20191017T203000
DTSTAMP:20260421T135930
CREATED:20190510T123852Z
LAST-MODIFIED:20190920T152016Z
UID:5963-1571338800-1571344200@www.thecollegefundingcoach.org
SUMMARY:Greenbriar West Elementary School
DESCRIPTION:
URL:https://www.thecollegefundingcoach.org/class/greenbriar-west-elementary-school/
LOCATION:Greenbrier West Elementary School\, 13300 Poplar Tree Rd\, Fairfax\, VA\, 22033\, United States
CATEGORIES:Classes,Workshops
ATTACH;FMTTYPE=image/png:https://www.thecollegefundingcoach.org/wp-content/uploads/2019/05/Greenbrier-West-Elementary-School.png
GEO:38.8763012;-77.4053761
X-APPLE-STRUCTURED-LOCATION;VALUE=URI;X-ADDRESS=Greenbrier West Elementary School 13300 Poplar Tree Rd Fairfax VA 22033 United States;X-APPLE-RADIUS=500;X-TITLE=13300 Poplar Tree Rd:geo:-77.4053761,38.8763012
END:VEVENT
BEGIN:VEVENT
DTSTART;TZID=America/New_York:20191017T190000
DTEND;TZID=America/New_York:20191017T210000
DTSTAMP:20260421T135930
CREATED:20190903T174544Z
LAST-MODIFIED:20190903T174544Z
UID:6988-1571338800-1571346000@www.thecollegefundingcoach.org
SUMMARY:St. Martin of Tours Catholic School
DESCRIPTION:
URL:https://www.thecollegefundingcoach.org/class/st-martin-of-tours-catholic-school/
LOCATION:St. Martin of Tours Catholic School\, 115 S. Frederick Ave.\, Gaithersburg\, MD\, 20877
CATEGORIES:Classes,Workshops
ATTACH;FMTTYPE=image/png:https://www.thecollegefundingcoach.org/wp-content/uploads/2019/09/St.-Martin-of-Tours-Catholic-School.png
GEO:39.1394594;-77.1948574
X-APPLE-STRUCTURED-LOCATION;VALUE=URI;X-ADDRESS=St. Martin of Tours Catholic School 115 S. Frederick Ave. Gaithersburg MD 20877;X-APPLE-RADIUS=500;X-TITLE=115 S. Frederick Ave.:geo:-77.1948574,39.1394594
END:VEVENT
BEGIN:VEVENT
DTSTART;TZID=America/New_York:20191017T190000
DTEND;TZID=America/New_York:20191017T210000
DTSTAMP:20260421T135930
CREATED:20190621T074537Z
LAST-MODIFIED:20190911T192721Z
UID:6370-1571338800-1571346000@www.thecollegefundingcoach.org
SUMMARY:Emerson High School
DESCRIPTION:
URL:https://www.thecollegefundingcoach.org/class/emerson-high-school/
LOCATION:Emerson High School\, 131 Main St.\, Emerson\, NJ\, 07630
CATEGORIES:Classes,Workshops
ATTACH;FMTTYPE=image/png:https://www.thecollegefundingcoach.org/wp-content/uploads/2019/06/Emerson-High-School.png
GEO:40.9726428;-74.0175265
X-APPLE-STRUCTURED-LOCATION;VALUE=URI;X-ADDRESS=Emerson High School 131 Main St. Emerson NJ 07630;X-APPLE-RADIUS=500;X-TITLE=131 Main St.:geo:-74.0175265,40.9726428
END:VEVENT
END:VCALENDAR