BEGIN:VCALENDAR
VERSION:2.0
PRODID:-//The College Funding Coach - ECPv6.15.17//NONSGML v1.0//EN
CALSCALE:GREGORIAN
METHOD:PUBLISH
X-WR-CALNAME:The College Funding Coach
X-ORIGINAL-URL:https://www.thecollegefundingcoach.org
X-WR-CALDESC:Events for The College Funding Coach
REFRESH-INTERVAL;VALUE=DURATION:PT1H
X-Robots-Tag:noindex
X-PUBLISHED-TTL:PT1H
BEGIN:VTIMEZONE
TZID:America/New_York
BEGIN:DAYLIGHT
TZOFFSETFROM:-0500
TZOFFSETTO:-0400
TZNAME:EDT
DTSTART:20180311T070000
END:DAYLIGHT
BEGIN:STANDARD
TZOFFSETFROM:-0400
TZOFFSETTO:-0500
TZNAME:EST
DTSTART:20181104T060000
END:STANDARD
BEGIN:DAYLIGHT
TZOFFSETFROM:-0500
TZOFFSETTO:-0400
TZNAME:EDT
DTSTART:20190310T070000
END:DAYLIGHT
BEGIN:STANDARD
TZOFFSETFROM:-0400
TZOFFSETTO:-0500
TZNAME:EST
DTSTART:20191103T060000
END:STANDARD
BEGIN:DAYLIGHT
TZOFFSETFROM:-0500
TZOFFSETTO:-0400
TZNAME:EDT
DTSTART:20200308T070000
END:DAYLIGHT
BEGIN:STANDARD
TZOFFSETFROM:-0400
TZOFFSETTO:-0500
TZNAME:EST
DTSTART:20201101T060000
END:STANDARD
END:VTIMEZONE
BEGIN:VEVENT
DTSTART;TZID=America/New_York:20190925T183000
DTEND;TZID=America/New_York:20190925T203000
DTSTAMP:20260419T151847
CREATED:20190522T145741Z
LAST-MODIFIED:20190522T145741Z
UID:6138-1569436200-1569443400@www.thecollegefundingcoach.org
SUMMARY:Plymouth Whitemarsh High School
DESCRIPTION:
URL:https://www.thecollegefundingcoach.org/class/plymouth-whitemarsh-high-school/
LOCATION:Plymouth Whitemarsh High School\, 201 East Germantown Pike \, Plymouth Meeting\, PA\, 19462 \, United States
CATEGORIES:Classes,Workshops
ATTACH;FMTTYPE=image/png:https://www.thecollegefundingcoach.org/wp-content/uploads/2019/05/Plymouth-Whitemarsh-High-School.png
GEO:40.099449;-75.2692304
X-APPLE-STRUCTURED-LOCATION;VALUE=URI;X-ADDRESS=Plymouth Whitemarsh High School 201 East Germantown Pike  Plymouth Meeting PA 19462  United States;X-APPLE-RADIUS=500;X-TITLE=201 East Germantown Pike:geo:-75.2692304,40.099449
END:VEVENT
BEGIN:VEVENT
DTSTART;TZID=America/New_York:20190926T180000
DTEND;TZID=America/New_York:20190926T193000
DTSTAMP:20260419T151847
CREATED:20190516T122726Z
LAST-MODIFIED:20190516T122726Z
UID:6069-1569520800-1569526200@www.thecollegefundingcoach.org
SUMMARY:Nederland Middle-Senior High School
DESCRIPTION:
URL:https://www.thecollegefundingcoach.org/class/nederland-middle-senior-high-school/
LOCATION:Nederland Middle-Senior High School\, 597 Eldora Rd.\, Nederland\, CO\, 80466
CATEGORIES:Classes,Workshops
ATTACH;FMTTYPE=image/png:https://www.thecollegefundingcoach.org/wp-content/uploads/2019/05/Nederland-Middle-Senior-High-School.png
GEO:39.952237;-105.5259879
X-APPLE-STRUCTURED-LOCATION;VALUE=URI;X-ADDRESS=Nederland Middle-Senior High School 597 Eldora Rd. Nederland CO 80466;X-APPLE-RADIUS=500;X-TITLE=597 Eldora Rd.:geo:-105.5259879,39.952237
END:VEVENT
BEGIN:VEVENT
DTSTART;TZID=America/New_York:20190926T180000
DTEND;TZID=America/New_York:20190926T200000
DTSTAMP:20260419T151847
CREATED:20190719T163544Z
LAST-MODIFIED:20190719T163544Z
UID:6587-1569520800-1569528000@www.thecollegefundingcoach.org
SUMMARY:Kiser Middle School
DESCRIPTION:  \n\n\n\n\n\n\n\n\n\n\nThis event will be hosted at Kiser Middle School but is being shared with Grimsley High School & Lindley Park Elementary & Sternberger Elementary Communities as well.
URL:https://www.thecollegefundingcoach.org/class/kiser-middle-school/
LOCATION:Kiser Middle School\, 716 Benjamin Parkway\, Greensboro\, NC\, 27408
CATEGORIES:Classes,Workshops
ATTACH;FMTTYPE=image/png:https://www.thecollegefundingcoach.org/wp-content/uploads/2019/07/Kiser-Middle-School.png
GEO:36.0858264;-79.8190919
X-APPLE-STRUCTURED-LOCATION;VALUE=URI;X-ADDRESS=Kiser Middle School 716 Benjamin Parkway Greensboro NC 27408;X-APPLE-RADIUS=500;X-TITLE=716 Benjamin Parkway:geo:-79.8190919,36.0858264
END:VEVENT
BEGIN:VEVENT
DTSTART;TZID=America/New_York:20190926T180000
DTEND;TZID=America/New_York:20190926T200000
DTSTAMP:20260419T151847
CREATED:20190621T074017Z
LAST-MODIFIED:20190621T074017Z
UID:6367-1569520800-1569528000@www.thecollegefundingcoach.org
SUMMARY:Hudson Catholic Regional High School
DESCRIPTION:
URL:https://www.thecollegefundingcoach.org/class/hudson-catholic-regional-high-school/
LOCATION:Hudson Catholic Regional High School\, 790 Bergen Ave.\, Jersey City\, NJ\, 07306
CATEGORIES:Classes,Workshops
ATTACH;FMTTYPE=image/png:https://www.thecollegefundingcoach.org/wp-content/uploads/2019/06/Hudson-Catholic-Regional-High-School.png
GEO:40.7257872;-74.0669597
X-APPLE-STRUCTURED-LOCATION;VALUE=URI;X-ADDRESS=Hudson Catholic Regional High School 790 Bergen Ave. Jersey City NJ 07306;X-APPLE-RADIUS=500;X-TITLE=790 Bergen Ave.:geo:-74.0669597,40.7257872
END:VEVENT
BEGIN:VEVENT
DTSTART;TZID=America/New_York:20190926T183000
DTEND;TZID=America/New_York:20190926T203000
DTSTAMP:20260419T151847
CREATED:20190903T175300Z
LAST-MODIFIED:20190903T175300Z
UID:6992-1569522600-1569529800@www.thecollegefundingcoach.org
SUMMARY:Fredericksburg Christian School
DESCRIPTION:
URL:https://www.thecollegefundingcoach.org/class/fredericksburg-christian-school/
LOCATION:Fredericksburg Christian School
CATEGORIES:Classes,Workshops
ATTACH;FMTTYPE=image/png:https://www.thecollegefundingcoach.org/wp-content/uploads/2019/09/Fredericksburg-Christian-School.png
GEO:38.21555;-77.4259092
END:VEVENT
BEGIN:VEVENT
DTSTART;TZID=America/New_York:20190927T173000
DTEND;TZID=America/New_York:20190927T190000
DTSTAMP:20260419T151847
CREATED:20190625T081419Z
LAST-MODIFIED:20190625T081419Z
UID:6403-1569605400-1569610800@www.thecollegefundingcoach.org
SUMMARY:South Carolina Governor's School for the Arts and Humanities
DESCRIPTION:
URL:https://www.thecollegefundingcoach.org/class/south-carolina-governors-school-for-the-arts-and-humanities/
LOCATION:South Carolina Governor’s School for the Arts and Humanities\, 15 University Street\, Greenville\, SC\, 29601
CATEGORIES:Classes,Workshops
ATTACH;FMTTYPE=image/png:https://www.thecollegefundingcoach.org/wp-content/uploads/2019/06/SC-Arts-and-H.png
GEO:34.843039;-82.401351
X-APPLE-STRUCTURED-LOCATION;VALUE=URI;X-ADDRESS=South Carolina Governor’s School for the Arts and Humanities 15 University Street Greenville SC 29601;X-APPLE-RADIUS=500;X-TITLE=15 University Street:geo:-82.401351,34.843039
END:VEVENT
END:VCALENDAR