BEGIN:VCALENDAR
VERSION:2.0
PRODID:-//The College Funding Coach - ECPv6.15.17//NONSGML v1.0//EN
CALSCALE:GREGORIAN
METHOD:PUBLISH
X-WR-CALNAME:The College Funding Coach
X-ORIGINAL-URL:https://www.thecollegefundingcoach.org
X-WR-CALDESC:Events for The College Funding Coach
REFRESH-INTERVAL;VALUE=DURATION:PT1H
X-Robots-Tag:noindex
X-PUBLISHED-TTL:PT1H
BEGIN:VTIMEZONE
TZID:America/New_York
BEGIN:DAYLIGHT
TZOFFSETFROM:-0500
TZOFFSETTO:-0400
TZNAME:EDT
DTSTART:20180311T070000
END:DAYLIGHT
BEGIN:STANDARD
TZOFFSETFROM:-0400
TZOFFSETTO:-0500
TZNAME:EST
DTSTART:20181104T060000
END:STANDARD
BEGIN:DAYLIGHT
TZOFFSETFROM:-0500
TZOFFSETTO:-0400
TZNAME:EDT
DTSTART:20190310T070000
END:DAYLIGHT
BEGIN:STANDARD
TZOFFSETFROM:-0400
TZOFFSETTO:-0500
TZNAME:EST
DTSTART:20191103T060000
END:STANDARD
BEGIN:DAYLIGHT
TZOFFSETFROM:-0500
TZOFFSETTO:-0400
TZNAME:EDT
DTSTART:20200308T070000
END:DAYLIGHT
BEGIN:STANDARD
TZOFFSETFROM:-0400
TZOFFSETTO:-0500
TZNAME:EST
DTSTART:20201101T060000
END:STANDARD
END:VTIMEZONE
BEGIN:VEVENT
DTSTART;TZID=America/New_York:20190911T183000
DTEND;TZID=America/New_York:20190911T203000
DTSTAMP:20260423T045312
CREATED:20190313T192757Z
LAST-MODIFIED:20190404T203238Z
UID:5698-1568226600-1568233800@www.thecollegefundingcoach.org
SUMMARY:Gaston Day School
DESCRIPTION: 
URL:https://www.thecollegefundingcoach.org/class/gaston-day-school/
LOCATION:Gaston Day School\, 2001 Gaston Day School Road\, Gastonia\, North Carolina\, 28056
CATEGORIES:Classes,Workshops
ATTACH;FMTTYPE=image/png:https://www.thecollegefundingcoach.org/wp-content/uploads/2019/03/headercrest-01.png
GEO:35.2009486;-81.140709
X-APPLE-STRUCTURED-LOCATION;VALUE=URI;X-ADDRESS=Gaston Day School 2001 Gaston Day School Road Gastonia North Carolina 28056;X-APPLE-RADIUS=500;X-TITLE=2001 Gaston Day School Road:geo:-81.140709,35.2009486
END:VEVENT
BEGIN:VEVENT
DTSTART;TZID=America/New_York:20190912T170000
DTEND;TZID=America/New_York:20190912T180000
DTSTAMP:20260423T045312
CREATED:20190516T122232Z
LAST-MODIFIED:20190516T122232Z
UID:6066-1568307600-1568311200@www.thecollegefundingcoach.org
SUMMARY:Summit High School
DESCRIPTION:
URL:https://www.thecollegefundingcoach.org/class/summit-high-school/
LOCATION:Summit High School\, 16201 Highway 9\, Breckenridge\, CO\, 80424\, United States
CATEGORIES:Classes,Workshops
ATTACH;FMTTYPE=image/png:https://www.thecollegefundingcoach.org/wp-content/uploads/2019/05/Summit-High-School.png
GEO:39.5656881;-106.0560069
X-APPLE-STRUCTURED-LOCATION;VALUE=URI;X-ADDRESS=Summit High School 16201 Highway 9 Breckenridge CO 80424 United States;X-APPLE-RADIUS=500;X-TITLE=16201 Highway 9:geo:-106.0560069,39.5656881
END:VEVENT
BEGIN:VEVENT
DTSTART;TZID=America/New_York:20190912T180000
DTEND;TZID=America/New_York:20190912T193000
DTSTAMP:20260423T045312
CREATED:20190403T211608Z
LAST-MODIFIED:20190821T161509Z
UID:5779-1568311200-1568316600@www.thecollegefundingcoach.org
SUMMARY:Spring Valley High School
DESCRIPTION:
URL:https://www.thecollegefundingcoach.org/class/spring-valley-high-school/
LOCATION:Spring Valley High School\, 120 Sparkleberry Ln.\, Columbia\, SC\, 29229
CATEGORIES:Classes,Workshops
ATTACH;FMTTYPE=image/png:https://www.thecollegefundingcoach.org/wp-content/uploads/2019/04/SPring-Valley.png
GEO:34.111005;-80.882582
X-APPLE-STRUCTURED-LOCATION;VALUE=URI;X-ADDRESS=Spring Valley High School 120 Sparkleberry Ln. Columbia SC 29229;X-APPLE-RADIUS=500;X-TITLE=120 Sparkleberry Ln.:geo:-80.882582,34.111005
END:VEVENT
BEGIN:VEVENT
DTSTART;TZID=America/New_York:20190912T183000
DTEND;TZID=America/New_York:20190912T203000
DTSTAMP:20260423T045312
CREATED:20190530T190906Z
LAST-MODIFIED:20190530T190906Z
UID:6182-1568313000-1568320200@www.thecollegefundingcoach.org
SUMMARY:Upper Bucks Christian School
DESCRIPTION:
URL:https://www.thecollegefundingcoach.org/class/upper-bucks-christian-school/
LOCATION:Upper Bucks Christian School\, 754 E Rockhill Rd.\, Sellersville\, PA
CATEGORIES:Classes,Workshops
ATTACH;FMTTYPE=image/png:https://www.thecollegefundingcoach.org/wp-content/uploads/2019/05/Upper-Bucks-Christian-School.png
GEO:40.4045434;-75.3151059
X-APPLE-STRUCTURED-LOCATION;VALUE=URI;X-ADDRESS=Upper Bucks Christian School 754 E Rockhill Rd. Sellersville PA;X-APPLE-RADIUS=500;X-TITLE=754 E Rockhill Rd.:geo:-75.3151059,40.4045434
END:VEVENT
BEGIN:VEVENT
DTSTART;TZID=America/New_York:20190917T173000
DTEND;TZID=America/New_York:20190917T193000
DTSTAMP:20260423T045312
CREATED:20190823T130951Z
LAST-MODIFIED:20190823T130951Z
UID:6911-1568741400-1568748600@www.thecollegefundingcoach.org
SUMMARY:Gayle Middle School
DESCRIPTION:
URL:https://www.thecollegefundingcoach.org/class/gayle-middle-school/
LOCATION:Gayle Middle School\, 100 Panther Dr.\, Fredericksburg\, Virginia\, 22406
CATEGORIES:Classes,Workshops
ATTACH;FMTTYPE=image/png:https://www.thecollegefundingcoach.org/wp-content/uploads/2019/08/Gayle-Middle-School.png
GEO:38.36691;-77.495826
X-APPLE-STRUCTURED-LOCATION;VALUE=URI;X-ADDRESS=Gayle Middle School 100 Panther Dr. Fredericksburg Virginia 22406;X-APPLE-RADIUS=500;X-TITLE=100 Panther Dr.:geo:-77.495826,38.36691
END:VEVENT
BEGIN:VEVENT
DTSTART;TZID=America/New_York:20190917T180000
DTEND;TZID=America/New_York:20190917T193000
DTSTAMP:20260423T045312
CREATED:20190222T205502Z
LAST-MODIFIED:20190404T203702Z
UID:5677-1568743200-1568748600@www.thecollegefundingcoach.org
SUMMARY:Mead High School
DESCRIPTION: 
URL:https://www.thecollegefundingcoach.org/class/mead-high-school/
LOCATION:Mead High School\, 12750 Co Rd 7\, Longmont\, CO\, 80504
CATEGORIES:Classes,Workshops
ATTACH;FMTTYPE=image/jpeg:https://www.thecollegefundingcoach.org/wp-content/uploads/2019/02/mhs-logo-bw.jpg
GEO:40.1841878;-104.9937208
X-APPLE-STRUCTURED-LOCATION;VALUE=URI;X-ADDRESS=Mead High School 12750 Co Rd 7 Longmont CO 80504;X-APPLE-RADIUS=500;X-TITLE=12750 Co Rd 7:geo:-104.9937208,40.1841878
END:VEVENT
BEGIN:VEVENT
DTSTART;TZID=America/New_York:20190917T183000
DTEND;TZID=America/New_York:20190917T203000
DTSTAMP:20260423T045312
CREATED:20190715T155943Z
LAST-MODIFIED:20190827T223515Z
UID:6567-1568745000-1568752200@www.thecollegefundingcoach.org
SUMMARY:Empowered Learners\, LLC
DESCRIPTION:
URL:https://www.thecollegefundingcoach.org/class/empowered-learners-llc/
LOCATION:Simpsonville Library\, 879 NE Main St\, Simpsonville\, SC\, 29681
CATEGORIES:Classes,Workshops
ATTACH;FMTTYPE=image/png:https://www.thecollegefundingcoach.org/wp-content/uploads/2019/07/Empowered-Learners-LLC.png
GEO:34.7530281;-82.2668593
X-APPLE-STRUCTURED-LOCATION;VALUE=URI;X-ADDRESS=Simpsonville Library 879 NE Main St Simpsonville SC 29681;X-APPLE-RADIUS=500;X-TITLE=879 NE Main St:geo:-82.2668593,34.7530281
END:VEVENT
BEGIN:VEVENT
DTSTART;TZID=America/New_York:20190917T183000
DTEND;TZID=America/New_York:20190917T203000
DTSTAMP:20260423T045312
CREATED:20190522T145437Z
LAST-MODIFIED:20190829T134647Z
UID:6134-1568745000-1568752200@www.thecollegefundingcoach.org
SUMMARY:YMCA of Greater Brandywine
DESCRIPTION:
URL:https://www.thecollegefundingcoach.org/class/ymca-of-greater-brandywine/
LOCATION:YMCA of Greater Brandywine\, 295 Hurley Road\, Coatesville\, PA\, 19320
CATEGORIES:Classes,Workshops
ATTACH;FMTTYPE=image/png:https://www.thecollegefundingcoach.org/wp-content/uploads/2019/05/YMCA.png
GEO:39.9619998;-75.6054806
X-APPLE-STRUCTURED-LOCATION;VALUE=URI;X-ADDRESS=YMCA of Greater Brandywine 295 Hurley Road Coatesville PA 19320;X-APPLE-RADIUS=500;X-TITLE=295 Hurley Road:geo:-75.6054806,39.9619998
END:VEVENT
BEGIN:VEVENT
DTSTART;TZID=America/New_York:20190917T183000
DTEND;TZID=America/New_York:20190917T203000
DTSTAMP:20260423T045312
CREATED:20190501T202624Z
LAST-MODIFIED:20190508T173416Z
UID:5934-1568745000-1568752200@www.thecollegefundingcoach.org
SUMMARY:The Baldwin School
DESCRIPTION:
URL:https://www.thecollegefundingcoach.org/class/the-baldwin-school/
LOCATION:The Baldwin School\, 701 Montgomery Avenue\, Bryn Mawr\, PA\, 19010
CATEGORIES:Classes,Workshops
ATTACH;FMTTYPE=image/png:https://www.thecollegefundingcoach.org/wp-content/uploads/2019/05/The-Baldwin-School.png
GEO:40.0235037;-75.3115094
X-APPLE-STRUCTURED-LOCATION;VALUE=URI;X-ADDRESS=The Baldwin School 701 Montgomery Avenue Bryn Mawr PA 19010;X-APPLE-RADIUS=500;X-TITLE=701 Montgomery Avenue:geo:-75.3115094,40.0235037
END:VEVENT
BEGIN:VEVENT
DTSTART;TZID=America/New_York:20190918T180000
DTEND;TZID=America/New_York:20190918T193000
DTSTAMP:20260423T045312
CREATED:20190808T202213Z
LAST-MODIFIED:20190821T173519Z
UID:6713-1568829600-1568835000@www.thecollegefundingcoach.org
SUMMARY:Huguenot Road Baptist Church
DESCRIPTION:
URL:https://www.thecollegefundingcoach.org/class/huguenot-road-baptist-church/
LOCATION:Huguenot Road Baptist Church\, 10525 W Huguenot Road\, North Chesterfield\, VA\, 23235
CATEGORIES:Classes,Workshops
ATTACH;FMTTYPE=image/png:https://www.thecollegefundingcoach.org/wp-content/uploads/2019/08/Huguenot-Road-Baptist-Church.png
GEO:37.532681;-77.590765
X-APPLE-STRUCTURED-LOCATION;VALUE=URI;X-ADDRESS=Huguenot Road Baptist Church 10525 W Huguenot Road North Chesterfield VA 23235;X-APPLE-RADIUS=500;X-TITLE=10525 W Huguenot Road:geo:-77.590765,37.532681
END:VEVENT
BEGIN:VEVENT
DTSTART;TZID=America/New_York:20190918T180000
DTEND;TZID=America/New_York:20190918T193000
DTSTAMP:20260423T045312
CREATED:20190222T205251Z
LAST-MODIFIED:20190404T204129Z
UID:5676-1568829600-1568835000@www.thecollegefundingcoach.org
SUMMARY:Mountain View High School
DESCRIPTION: 
URL:https://www.thecollegefundingcoach.org/class/mountain-view-high-school/
LOCATION:Mountain View High School\, 3500 Mountain Lion Dr.\, Loveland\, CO\, 80537\, United States
CATEGORIES:Classes,Workshops
ATTACH;FMTTYPE=image/png:https://www.thecollegefundingcoach.org/wp-content/uploads/2019/02/MVHS-Logo-Mountain-Lion-Abstract-Transparentt-210x100.png
GEO:40.404866;-105.026501
X-APPLE-STRUCTURED-LOCATION;VALUE=URI;X-ADDRESS=Mountain View High School 3500 Mountain Lion Dr. Loveland CO 80537 United States;X-APPLE-RADIUS=500;X-TITLE=3500 Mountain Lion Dr.:geo:-105.026501,40.404866
END:VEVENT
BEGIN:VEVENT
DTSTART;TZID=America/New_York:20190918T180000
DTEND;TZID=America/New_York:20190918T200000
DTSTAMP:20260423T045312
CREATED:20190725T150204Z
LAST-MODIFIED:20190827T202721Z
UID:6633-1568829600-1568836800@www.thecollegefundingcoach.org
SUMMARY:Bonner Prendergast High School
DESCRIPTION:
URL:https://www.thecollegefundingcoach.org/class/bonner-prendergast-high-school/
LOCATION:Bonner Prendergast High School\, 403 N. Lansdowne Ave.\, Drexel Hill\, PA\, 19026
CATEGORIES:Classes,Workshops
ATTACH;FMTTYPE=image/png:https://www.thecollegefundingcoach.org/wp-content/uploads/2019/07/Bonner-Prendergast-High-School.png
GEO:39.9533093;-75.2814674
X-APPLE-STRUCTURED-LOCATION;VALUE=URI;X-ADDRESS=Bonner Prendergast High School 403 N. Lansdowne Ave. Drexel Hill PA 19026;X-APPLE-RADIUS=500;X-TITLE=403 N. Lansdowne Ave.:geo:-75.2814674,39.9533093
END:VEVENT
BEGIN:VEVENT
DTSTART;TZID=America/New_York:20190918T190000
DTEND;TZID=America/New_York:20190918T210000
DTSTAMP:20260423T045312
CREATED:20190621T073151Z
LAST-MODIFIED:20190621T073151Z
UID:6364-1568833200-1568840400@www.thecollegefundingcoach.org
SUMMARY:Bergen Tech High School
DESCRIPTION:
URL:https://www.thecollegefundingcoach.org/class/bergen-tech-high-school/
LOCATION:Bergen Tech High School
CATEGORIES:Classes,Workshops
ATTACH;FMTTYPE=image/png:https://www.thecollegefundingcoach.org/wp-content/uploads/2019/06/Bergen-Tech-High-School.png
GEO:40.959419;-74.0589237
END:VEVENT
END:VCALENDAR