BEGIN:VCALENDAR
VERSION:2.0
PRODID:-//The College Funding Coach - ECPv6.15.17//NONSGML v1.0//EN
CALSCALE:GREGORIAN
METHOD:PUBLISH
X-WR-CALNAME:The College Funding Coach
X-ORIGINAL-URL:https://www.thecollegefundingcoach.org
X-WR-CALDESC:Events for The College Funding Coach
REFRESH-INTERVAL;VALUE=DURATION:PT1H
X-Robots-Tag:noindex
X-PUBLISHED-TTL:PT1H
BEGIN:VTIMEZONE
TZID:America/New_York
BEGIN:DAYLIGHT
TZOFFSETFROM:-0500
TZOFFSETTO:-0400
TZNAME:EDT
DTSTART:20180311T070000
END:DAYLIGHT
BEGIN:STANDARD
TZOFFSETFROM:-0400
TZOFFSETTO:-0500
TZNAME:EST
DTSTART:20181104T060000
END:STANDARD
BEGIN:DAYLIGHT
TZOFFSETFROM:-0500
TZOFFSETTO:-0400
TZNAME:EDT
DTSTART:20190310T070000
END:DAYLIGHT
BEGIN:STANDARD
TZOFFSETFROM:-0400
TZOFFSETTO:-0500
TZNAME:EST
DTSTART:20191103T060000
END:STANDARD
BEGIN:DAYLIGHT
TZOFFSETFROM:-0500
TZOFFSETTO:-0400
TZNAME:EDT
DTSTART:20200308T070000
END:DAYLIGHT
BEGIN:STANDARD
TZOFFSETFROM:-0400
TZOFFSETTO:-0500
TZNAME:EST
DTSTART:20201101T060000
END:STANDARD
END:VTIMEZONE
BEGIN:VEVENT
DTSTART;TZID=America/New_York:20190911T183000
DTEND;TZID=America/New_York:20190911T203000
DTSTAMP:20260419T170105
CREATED:20190313T192757Z
LAST-MODIFIED:20190404T203238Z
UID:5698-1568226600-1568233800@www.thecollegefundingcoach.org
SUMMARY:Gaston Day School
DESCRIPTION: 
URL:https://www.thecollegefundingcoach.org/class/gaston-day-school/
LOCATION:Gaston Day School\, 2001 Gaston Day School Road\, Gastonia\, North Carolina\, 28056
CATEGORIES:Classes,Workshops
ATTACH;FMTTYPE=image/png:https://www.thecollegefundingcoach.org/wp-content/uploads/2019/03/headercrest-01.png
GEO:35.2009486;-81.140709
X-APPLE-STRUCTURED-LOCATION;VALUE=URI;X-ADDRESS=Gaston Day School 2001 Gaston Day School Road Gastonia North Carolina 28056;X-APPLE-RADIUS=500;X-TITLE=2001 Gaston Day School Road:geo:-81.140709,35.2009486
END:VEVENT
END:VCALENDAR