BEGIN:VCALENDAR
VERSION:2.0
PRODID:-//The College Funding Coach - ECPv6.15.17//NONSGML v1.0//EN
CALSCALE:GREGORIAN
METHOD:PUBLISH
X-WR-CALNAME:The College Funding Coach
X-ORIGINAL-URL:https://www.thecollegefundingcoach.org
X-WR-CALDESC:Events for The College Funding Coach
REFRESH-INTERVAL;VALUE=DURATION:PT1H
X-Robots-Tag:noindex
X-PUBLISHED-TTL:PT1H
BEGIN:VTIMEZONE
TZID:America/New_York
BEGIN:DAYLIGHT
TZOFFSETFROM:-0500
TZOFFSETTO:-0400
TZNAME:EDT
DTSTART:20170312T070000
END:DAYLIGHT
BEGIN:STANDARD
TZOFFSETFROM:-0400
TZOFFSETTO:-0500
TZNAME:EST
DTSTART:20171105T060000
END:STANDARD
BEGIN:DAYLIGHT
TZOFFSETFROM:-0500
TZOFFSETTO:-0400
TZNAME:EDT
DTSTART:20180311T070000
END:DAYLIGHT
BEGIN:STANDARD
TZOFFSETFROM:-0400
TZOFFSETTO:-0500
TZNAME:EST
DTSTART:20181104T060000
END:STANDARD
BEGIN:DAYLIGHT
TZOFFSETFROM:-0500
TZOFFSETTO:-0400
TZNAME:EDT
DTSTART:20190310T070000
END:DAYLIGHT
BEGIN:STANDARD
TZOFFSETFROM:-0400
TZOFFSETTO:-0500
TZNAME:EST
DTSTART:20191103T060000
END:STANDARD
END:VTIMEZONE
BEGIN:VEVENT
DTSTART;TZID=America/New_York:20181101T183000
DTEND;TZID=America/New_York:20181101T203000
DTSTAMP:20260424T143933
CREATED:20180809T151226Z
LAST-MODIFIED:20180809T151226Z
UID:3917-1541097000-1541104200@www.thecollegefundingcoach.org
SUMMARY:Lake Braddock High School: Little-Known Secrets of Paying for College
DESCRIPTION:
URL:https://www.thecollegefundingcoach.org/class/lake-braddock-high-school-little-known-secrets-of-paying-for-college-3/
LOCATION:Lake Braddock High School\, 9200 Burke Lake Rd\, Burke\, VA\, 22015\, United States
CATEGORIES:Classes,Workshops
GEO:38.8035315;-77.2658405
X-APPLE-STRUCTURED-LOCATION;VALUE=URI;X-ADDRESS=Lake Braddock High School 9200 Burke Lake Rd Burke VA 22015 United States;X-APPLE-RADIUS=500;X-TITLE=9200 Burke Lake Rd:geo:-77.2658405,38.8035315
END:VEVENT
BEGIN:VEVENT
DTSTART;TZID=America/New_York:20181101T183000
DTEND;TZID=America/New_York:20181101T203000
DTSTAMP:20260424T143933
CREATED:20180809T151226Z
LAST-MODIFIED:20180809T151226Z
UID:5531-1541097000-1541104200@www.thecollegefundingcoach.org
SUMMARY:Lake Braddock High School
DESCRIPTION:
URL:https://www.thecollegefundingcoach.org/class/lake-braddock-high-school-little-known-secrets-of-paying-for-college-3-2/
LOCATION:Lake Braddock High School\, 9200 Burke Lake Rd\, Burke\, VA\, 22015\, United States
CATEGORIES:Classes,Workshops
GEO:38.8035315;-77.2658405
X-APPLE-STRUCTURED-LOCATION;VALUE=URI;X-ADDRESS=Lake Braddock High School 9200 Burke Lake Rd Burke VA 22015 United States;X-APPLE-RADIUS=500;X-TITLE=9200 Burke Lake Rd:geo:-77.2658405,38.8035315
END:VEVENT
BEGIN:VEVENT
DTSTART;TZID=America/New_York:20181101T190000
DTEND;TZID=America/New_York:20181101T210000
DTSTAMP:20260424T143933
CREATED:20181002T163803Z
LAST-MODIFIED:20181002T163803Z
UID:5596-1541098800-1541106000@www.thecollegefundingcoach.org
SUMMARY:St. Jerome Academy
DESCRIPTION:
URL:https://www.thecollegefundingcoach.org/class/st-jerome-academy-little-known-secrets-of-paying-for-college/
CATEGORIES:Classes,Workshops
END:VEVENT
BEGIN:VEVENT
DTSTART;TZID=America/New_York:20181103T130000
DTEND;TZID=America/New_York:20181103T150000
DTSTAMP:20260424T143933
CREATED:20180926T145833Z
LAST-MODIFIED:20180926T145833Z
UID:5591-1541250000-1541257200@www.thecollegefundingcoach.org
SUMMARY:Milton Public Library
DESCRIPTION:
URL:https://www.thecollegefundingcoach.org/class/milton-public-library-little-known-secrets-of-paying-for-college-2/
LOCATION:banner_advisor_speak
CATEGORIES:Classes,Workshops
END:VEVENT
BEGIN:VEVENT
DTSTART;TZID=America/New_York:20181104T143000
DTEND;TZID=America/New_York:20181104T153000
DTSTAMP:20260424T143933
CREATED:20181009T231108Z
LAST-MODIFIED:20181009T231108Z
UID:5597-1541341800-1541345400@www.thecollegefundingcoach.org
SUMMARY:Hope Chinese School
DESCRIPTION:
URL:https://www.thecollegefundingcoach.org/class/hope-chinese-school-little-known-secrets-of-paying-for-college/
CATEGORIES:Classes,Workshops
END:VEVENT
BEGIN:VEVENT
DTSTART;TZID=America/New_York:20181105T183000
DTEND;TZID=America/New_York:20181105T203000
DTSTAMP:20260424T143933
CREATED:20180924T210505Z
LAST-MODIFIED:20180924T210505Z
UID:5590-1541442600-1541449800@www.thecollegefundingcoach.org
SUMMARY:The Cornwell Center
DESCRIPTION:
URL:https://www.thecollegefundingcoach.org/class/the-cornwell-center-little-known-secrets-of-paying-for-college/
LOCATION:Oklahoma
CATEGORIES:Classes,Workshops
END:VEVENT
END:VCALENDAR