BEGIN:VCALENDAR
VERSION:2.0
PRODID:-//The College Funding Coach - ECPv6.15.17//NONSGML v1.0//EN
CALSCALE:GREGORIAN
METHOD:PUBLISH
X-ORIGINAL-URL:https://www.thecollegefundingcoach.org
X-WR-CALDESC:Events for The College Funding Coach
REFRESH-INTERVAL;VALUE=DURATION:PT1H
X-Robots-Tag:noindex
X-PUBLISHED-TTL:PT1H
BEGIN:VTIMEZONE
TZID:America/New_York
BEGIN:DAYLIGHT
TZOFFSETFROM:-0500
TZOFFSETTO:-0400
TZNAME:EDT
DTSTART:20210314T070000
END:DAYLIGHT
BEGIN:STANDARD
TZOFFSETFROM:-0400
TZOFFSETTO:-0500
TZNAME:EST
DTSTART:20211107T060000
END:STANDARD
BEGIN:DAYLIGHT
TZOFFSETFROM:-0500
TZOFFSETTO:-0400
TZNAME:EDT
DTSTART:20220313T070000
END:DAYLIGHT
BEGIN:STANDARD
TZOFFSETFROM:-0400
TZOFFSETTO:-0500
TZNAME:EST
DTSTART:20221106T060000
END:STANDARD
BEGIN:DAYLIGHT
TZOFFSETFROM:-0500
TZOFFSETTO:-0400
TZNAME:EDT
DTSTART:20230312T070000
END:DAYLIGHT
BEGIN:STANDARD
TZOFFSETFROM:-0400
TZOFFSETTO:-0500
TZNAME:EST
DTSTART:20231105T060000
END:STANDARD
END:VTIMEZONE
BEGIN:VEVENT
DTSTART;TZID=America/New_York:20220519T190000
DTEND;TZID=America/New_York:20220519T200000
DTSTAMP:20260425T070629
CREATED:20220120T154055Z
LAST-MODIFIED:20220517T181742Z
UID:13410-1652986800-1652990400@www.thecollegefundingcoach.org
SUMMARY:TuitionCents Series: Do 529 Plans Make the Grade?
DESCRIPTION:  \nLearn the basics of 529 savings plans\, how they compare to other savings vehicles\, and why they are not a silver bullet to pay for college. \nMay 19\, 2022 @ 7:00 pm ET \nTuitionCents Series: Do 529 Plans Make the Grade?  \nShari Rash and Brock Jolly
URL:https://www.thecollegefundingcoach.org/class/tuitioncents-series-do-529-plans-make-the-grade-using-529s-and-roth-iras-to-save-for-college/
LOCATION:Zoom
CATEGORIES:Classes,Specialty Webinars,Webinar,Workshops
ATTACH;FMTTYPE=image/png:https://www.thecollegefundingcoach.org/wp-content/uploads/2022/01/Screen-Shot-2022-01-17-at-1.26.15-PM.png
END:VEVENT
END:VCALENDAR