BEGIN:VCALENDAR
VERSION:2.0
PRODID:-//The College Funding Coach - ECPv6.15.17//NONSGML v1.0//EN
CALSCALE:GREGORIAN
METHOD:PUBLISH
X-ORIGINAL-URL:https://www.thecollegefundingcoach.org
X-WR-CALDESC:Events for The College Funding Coach
REFRESH-INTERVAL;VALUE=DURATION:PT1H
X-Robots-Tag:noindex
X-PUBLISHED-TTL:PT1H
BEGIN:VTIMEZONE
TZID:America/New_York
BEGIN:DAYLIGHT
TZOFFSETFROM:-0500
TZOFFSETTO:-0400
TZNAME:EDT
DTSTART:20220313T070000
END:DAYLIGHT
BEGIN:STANDARD
TZOFFSETFROM:-0400
TZOFFSETTO:-0500
TZNAME:EST
DTSTART:20221106T060000
END:STANDARD
BEGIN:DAYLIGHT
TZOFFSETFROM:-0500
TZOFFSETTO:-0400
TZNAME:EDT
DTSTART:20230312T070000
END:DAYLIGHT
BEGIN:STANDARD
TZOFFSETFROM:-0400
TZOFFSETTO:-0500
TZNAME:EST
DTSTART:20231105T060000
END:STANDARD
BEGIN:DAYLIGHT
TZOFFSETFROM:-0500
TZOFFSETTO:-0400
TZNAME:EDT
DTSTART:20240310T070000
END:DAYLIGHT
BEGIN:STANDARD
TZOFFSETFROM:-0400
TZOFFSETTO:-0500
TZNAME:EST
DTSTART:20241103T060000
END:STANDARD
BEGIN:DAYLIGHT
TZOFFSETFROM:-0500
TZOFFSETTO:-0400
TZNAME:EDT
DTSTART:20250309T070000
END:DAYLIGHT
BEGIN:STANDARD
TZOFFSETFROM:-0400
TZOFFSETTO:-0500
TZNAME:EST
DTSTART:20251102T060000
END:STANDARD
BEGIN:DAYLIGHT
TZOFFSETFROM:-0500
TZOFFSETTO:-0400
TZNAME:EDT
DTSTART:20260308T070000
END:DAYLIGHT
BEGIN:STANDARD
TZOFFSETFROM:-0400
TZOFFSETTO:-0500
TZNAME:EST
DTSTART:20261101T060000
END:STANDARD
END:VTIMEZONE
BEGIN:VEVENT
DTSTART;TZID=America/New_York:20230208T190000
DTEND;TZID=America/New_York:20230208T200000
DTSTAMP:20260420T013924
CREATED:20230124T200727Z
LAST-MODIFIED:20230209T234012Z
UID:15653-1675882800-1675886400@www.thecollegefundingcoach.org
SUMMARY:Partnership Series - Money Matters and Stress Stinks: Tame the Tension when Applying to and Paying for College
DESCRIPTION:Brock Jolly of The College Funding Coach joins Kathleen Glynn-Sparrow and Becky Bowlby of The College Coaches\, to share their expertise on the following: \n\nHow can you create a game plan to manage the anxiety of the college application process at home?\nWhen and how to talk as a family about planning financially for college (it’s earlier than you think!)\nWhat is an EFC (Expected Family Contribution)\, and why does it matter?\nWhat changes are coming to the FAFSA (Free Application for Federal Student Aid)?\nHow can you manage differing expectations between parent and child throughout the college process without ruining the relationship?\n\n  \nRecording coming soon. Will be posted here.
URL:https://www.thecollegefundingcoach.org/class/partnership-series-money-matters-and-stress-stinks-tame-the-tension-when-applying-to-and-paying-for-college/
LOCATION:Zoom
CATEGORIES:Classes,Partnership Events,Upcoming Webinars,Webinar,Workshops
ATTACH;FMTTYPE=image/jpeg:https://www.thecollegefundingcoach.org/wp-content/uploads/2023/01/HELP-scaled.jpeg
END:VEVENT
BEGIN:VEVENT
DTSTART;TZID=America/New_York:20250211T190000
DTEND;TZID=America/New_York:20250211T200000
DTSTAMP:20260420T013924
CREATED:20250108T231303Z
LAST-MODIFIED:20250122T035242Z
UID:19196-1739300400-1739304000@www.thecollegefundingcoach.org
SUMMARY:Your Story\, Your Voice: College Essays That Open Doors
DESCRIPTION:Your Story\, Your Voice: College Essays That Open Doors \n \nLearn to find your unique voice\, write powerful essays\, and get into a top college. \nSonia Lal (founder of college admissions firm Ivy League Potential and former Harvard admissions interviewer) will provide strategic guidance and practical tips on how to: \n● Overcome writer’s block and unleash your creative writing juices\n● Create a compelling personal statement\n● Answer the question\, “Why do you want to attend our college?”\n● Write about community and identity\n● Approach supplemental essay questions\n● Recycle essays intelligently\n● Find inspiring sample essays \nParents and students will have the opportunity to ask questions at the end.
URL:https://www.thecollegefundingcoach.org/class/ilp-essays/
LOCATION:Zoom
CATEGORIES:Classes,Partnership Events,Webinar,Workshops
ATTACH;FMTTYPE=image/png:https://www.thecollegefundingcoach.org/wp-content/uploads/2025/01/Ivy-League-Potential.png
END:VEVENT
BEGIN:VEVENT
DTSTART;TZID=America/New_York:20250318T190000
DTEND;TZID=America/New_York:20250318T200000
DTSTAMP:20260420T013924
CREATED:20250223T233900Z
LAST-MODIFIED:20250303T185413Z
UID:19556-1742324400-1742328000@www.thecollegefundingcoach.org
SUMMARY:Top 10 Nuances in the College Application Process
DESCRIPTION:Top 10 Nuances in the College Application Process\n \n  \nMost applicants do not know what counts in the process and\, as a result\, do not gain admission to highly selective colleges. \nJoin a webinar hosted by The College Coaches on March 18\, at 7:00 PM EDT\, to learn how 86% of their clients are accepted to one of their top 3 choices! \nParents and students will have the opportunity to ask questions at the end. \n 
URL:https://www.thecollegefundingcoach.org/class/top-10-nuances/
LOCATION:Zoom – VA\, VA
CATEGORIES:Classes,Partnership Events,Webinar,Workshops
ATTACH;FMTTYPE=image/jpeg:https://www.thecollegefundingcoach.org/wp-content/uploads/2025/02/college-coaches-dot-com.jpg
END:VEVENT
BEGIN:VEVENT
DTSTART;TZID=America/New_York:20250521T190000
DTEND;TZID=America/New_York:20250521T200000
DTSTAMP:20260420T013924
CREATED:20250505T213000Z
LAST-MODIFIED:20250505T213000Z
UID:19946-1747854000-1747857600@www.thecollegefundingcoach.org
SUMMARY:Encore Webinar: Top 10 Nuances in the College Application Process
DESCRIPTION:
URL:https://www.thecollegefundingcoach.org/class/encore-webinar-top-10-nuances-in-the-college-application-process/
LOCATION:Zoom – VA\, VA
CATEGORIES:Classes,Partnership Events,Webinar,Workshops
ATTACH;FMTTYPE=image/jpeg:https://www.thecollegefundingcoach.org/wp-content/uploads/2025/02/college-coaches-dot-com.jpg
END:VEVENT
END:VCALENDAR