BEGIN:VCALENDAR
VERSION:2.0
PRODID:-//The College Funding Coach - ECPv6.15.17//NONSGML v1.0//EN
CALSCALE:GREGORIAN
METHOD:PUBLISH
X-WR-CALNAME:The College Funding Coach
X-ORIGINAL-URL:https://www.thecollegefundingcoach.org
X-WR-CALDESC:Events for The College Funding Coach
REFRESH-INTERVAL;VALUE=DURATION:PT1H
X-Robots-Tag:noindex
X-PUBLISHED-TTL:PT1H
BEGIN:VTIMEZONE
TZID:America/New_York
BEGIN:DAYLIGHT
TZOFFSETFROM:-0500
TZOFFSETTO:-0400
TZNAME:EDT
DTSTART:20230312T070000
END:DAYLIGHT
BEGIN:STANDARD
TZOFFSETFROM:-0400
TZOFFSETTO:-0500
TZNAME:EST
DTSTART:20231105T060000
END:STANDARD
BEGIN:DAYLIGHT
TZOFFSETFROM:-0500
TZOFFSETTO:-0400
TZNAME:EDT
DTSTART:20240310T070000
END:DAYLIGHT
BEGIN:STANDARD
TZOFFSETFROM:-0400
TZOFFSETTO:-0500
TZNAME:EST
DTSTART:20241103T060000
END:STANDARD
BEGIN:DAYLIGHT
TZOFFSETFROM:-0500
TZOFFSETTO:-0400
TZNAME:EDT
DTSTART:20250309T070000
END:DAYLIGHT
BEGIN:STANDARD
TZOFFSETFROM:-0400
TZOFFSETTO:-0500
TZNAME:EST
DTSTART:20251102T060000
END:STANDARD
BEGIN:DAYLIGHT
TZOFFSETFROM:-0500
TZOFFSETTO:-0400
TZNAME:EDT
DTSTART:20260308T070000
END:DAYLIGHT
BEGIN:STANDARD
TZOFFSETFROM:-0400
TZOFFSETTO:-0500
TZNAME:EST
DTSTART:20261101T060000
END:STANDARD
END:VTIMEZONE
BEGIN:VEVENT
DTSTART;TZID=America/New_York:20240627T130000
DTEND;TZID=America/New_York:20240627T140000
DTSTAMP:20260420T232854
CREATED:20240412T120927Z
LAST-MODIFIED:20240530T214138Z
UID:17827-1719493200-1719496800@www.thecollegefundingcoach.org
SUMMARY:We Read it For You! - The Price You Pay for College by Ron Lieber
DESCRIPTION:  \nThe Price You Pay for College\, by Ron Lieber \nThe hugely popular New York Times Your Money columnist and author of the bestselling The Opposite of Spoiled offers a deeply reported and emotionally honest approach to the biggest financial decision families will ever make: what to pay for college—a decision made even more confusing because of the Covid-19 pandemic.\nSending a teenager to a flagship state university for four years of on-campus living costs more than $100\,000 in many parts of the United States. Meanwhile\, many families of freshmen attending selective private colleges will spend triple—over $300\,000. With the same passion\, smarts\, and humor that infuse his personal finance column\, Ron Lieber offers a much-needed roadmap to help families navigate this difficult and often confusing journey. \nLieber begins by explaining who pays what and why and how the financial aid system got so complicated. He also pulls the curtain back on merit aid\, an entirely new form of discounting that most colleges now use to compete with peers. \nWhile price is essential\, value is paramount. So what is worth paying extra for\, and how do you know when it exists in abundance at any particular school? Is a small college better than a big one? Who actually does the teaching? Given that every college claims to have reinvented its career center\, who should we actually believe? He asks the tough questions of college presidents and financial aid gatekeepers that parents don’t know (or are afraid) to ask and summarizes the research about what matters and what doesn’t. \nFinally\, Lieber calmly walks families through the process of setting financial goals\, explaining the system to their children and figuring out the right ways to save\, borrow\, and bargain for a better deal. \nThe Price You Pay for College gives parents the clarity they need to make informed choices and helps restore the joy and wonder the college experience is supposed to represent.
URL:https://www.thecollegefundingcoach.org/class/the-price-you-pay-for-college/
LOCATION:Zoom – VA\, VA
CATEGORIES:Classes,The CFC Book Review,Webinar,Workshops
ATTACH;FMTTYPE=image/png:https://www.thecollegefundingcoach.org/wp-content/uploads/2024/04/The-price-you-pay.png
END:VEVENT
BEGIN:VEVENT
DTSTART;TZID=America/New_York:20240723T133000
DTEND;TZID=America/New_York:20240723T143000
DTSTAMP:20260420T232854
CREATED:20240412T120946Z
LAST-MODIFIED:20240530T214132Z
UID:17825-1721741400-1721745000@www.thecollegefundingcoach.org
SUMMARY:We Read it For You! - Pay for College Without Blowing up Retirement by Peter Lampert
DESCRIPTION:Pay for College Without Blowing up Retirement \nby Peter Lampert \nAs parents\, we want our children to find a great-fit college. But all too often\, we permit our college-bound student(s) to begin the college search process by falling in love with one choice. As a result\, we end up finding a way to make them happy no matter what it takes—even if that means sacrificing our dreams for retirement. There has to be a better way. Peter M. Lampert explores how to pay for college without blowing up retirement in this guide. Learn how to: • make selecting a college a less stressful process; • preserve your nest egg while giving children a chance to succeed; • avoid overpaying for college. The author also focuses on key topics\, such as financial aid\, scholarships\, and combining retirement planning with college planning. Approach your future—and help plot the future of your children—with wisdom\, discretion\, and savviness with the lessons in this life-changing guide.
URL:https://www.thecollegefundingcoach.org/class/pay-for-college-without-blowing-up-retirement-2/
LOCATION:Zoom – VA\, VA
CATEGORIES:Classes,The CFC Book Review,Webinar,Workshops
ATTACH;FMTTYPE=image/png:https://www.thecollegefundingcoach.org/wp-content/uploads/2024/04/Pay-for-college.png
END:VEVENT
BEGIN:VEVENT
DTSTART;TZID=America/New_York:20240912T130000
DTEND;TZID=America/New_York:20240912T140000
DTSTAMP:20260420T232854
CREATED:20240412T121004Z
LAST-MODIFIED:20240606T182842Z
UID:17832-1726146000-1726149600@www.thecollegefundingcoach.org
SUMMARY:We Read it For You! - The Ultimate Scholarship Book 2025 by Gen and Kelly Tanabe
DESCRIPTION:The Ultimate Scholarship Book 2025\, by Gen and Kelly Tanabe   \n Information on 1.5 million scholarships\, grants\, and prizes is easily accessible in this revised directory with more than 300 new listings that feature awards indexed by career goal\, major\, academics\, public service\, talent\, athletics\, religion\, ethnicity\, and more. \nEach entry contains all the necessary information for students and parents to complete the application process\, including eligibility requirements\, how to obtain an application\, how to get more information about each award\, sponsor website listings\, award amounts\, and key deadlines. With scholarships for high school\, college\, graduate\, and adult students\, this guide also includes tips on how to conduct the most effective search\, how to write a winning application\, and how to avoid scams. \n 
URL:https://www.thecollegefundingcoach.org/class/the-ultimate-scholarship-book-2025/
LOCATION:Zoom – VA\, VA
CATEGORIES:Classes,The CFC Book Review,Webinar,Workshops
ATTACH;FMTTYPE=image/png:https://www.thecollegefundingcoach.org/wp-content/uploads/2024/04/The-Ultimate-scholarship.png
END:VEVENT
BEGIN:VEVENT
DTSTART;TZID=America/New_York:20250624T130000
DTEND;TZID=America/New_York:20250624T134500
DTSTAMP:20260420T232854
CREATED:20250611T135023Z
LAST-MODIFIED:20250623T152918Z
UID:20207-1750770000-1750772700@www.thecollegefundingcoach.org
SUMMARY:We Read it For You! - Colleges That Change Lives by Loren Pope
DESCRIPTION: What if the college that transforms your child’s future isn’t a brand-name school? Why stress over getting into highly selective schools when there are so many schools out there that could be a better fit for your child?  \nIn this 45-minute webinar\, we’ll unpack groundbreaking insights from Loren Pope’s classic “Colleges That Change Lives” and explore the flaws in college rankings\, the essential qualities of life-changing colleges\, and examples of colleges known for developing average students. \nWe Read It for You is a summer book webinar series for parents who want to better understand the college planning process without having to read every book on the shelf.  Each session includes:\n• A summary of one relevant college planning book\n• Key insights and how they apply to your student’s journey\n• A live Q&A with an advisor\n• Real-world context from those working with families every day \n 
URL:https://www.thecollegefundingcoach.org/class/we-read-it-for-you-colleges-that-change-lives-by-loren-pope/
LOCATION:Zoom – VA\, VA
CATEGORIES:Classes,The CFC Book Review,Webinar,Workshops
ATTACH;FMTTYPE=image/png:https://www.thecollegefundingcoach.org/wp-content/uploads/2025/06/Colleges-That-Change-Lives.png
END:VEVENT
BEGIN:VEVENT
DTSTART;TZID=America/New_York:20250805T150000
DTEND;TZID=America/New_York:20250805T154500
DTSTAMP:20260420T232854
CREATED:20250716T165657Z
LAST-MODIFIED:20250730T164009Z
UID:20538-1754406000-1754408700@www.thecollegefundingcoach.org
SUMMARY:We Read it For You! - The Ultimate College Financial Aid Guide
DESCRIPTION:You’re doing everything right in the college application process–researching school fit\, crafting the perfect essays\, and tracking deadlines. But there’s one major factor that remains opaque: financial aid. \nYou’re staring at a confusing maze of acronyms\, numbers\, and fine print that could determine whether your dream education becomes a reality or a financial nightmare. \nHere’s a sobering truth: only 40% of students who start college actually graduate in four years\, and finances play a crucial role in that statistic. The difference between those who succeed and those who don’t often comes down to one critical factor – truly understanding how to navigate the financial aid system. \nWe Read It for You is a summer book webinar series for parents who want to better understand the college planning process without having to read every book on the shelf.  Each session includes:\n• A summary of one relevant college planning book\n• Key insights and how they apply to your student’s journey\n• A live Q&A with an advisor\n• Real-world context from those working with families every day \n 
URL:https://www.thecollegefundingcoach.org/class/we-read-it-for-you-the-ultimate-college-financial-aid-guide/
LOCATION:Zoom – VA\, VA
CATEGORIES:Classes,The CFC Book Review,Webinar,Workshops
ATTACH;FMTTYPE=image/png:https://www.thecollegefundingcoach.org/wp-content/uploads/2025/07/The-Ultimate-College-Financial-Aid-Guide.png
END:VEVENT
BEGIN:VEVENT
DTSTART;TZID=America/New_York:20250826T130000
DTEND;TZID=America/New_York:20250826T134500
DTSTAMP:20260420T232854
CREATED:20250625T125410Z
LAST-MODIFIED:20250730T164331Z
UID:20359-1756213200-1756215900@www.thecollegefundingcoach.org
SUMMARY:We Read it For You! - Where You Go Is Not Who You'll Be by Frank Bruni
DESCRIPTION: What if everything you’ve heard about the life-changing power of an Ivy League education is just wrong? Frank Bruni shatters the illusion that only elite colleges can unlock success\, offering a refreshing antidote to the anxiety and frenzy that dominate today’s college admissions landscape.  \nDrawing on anecdotes\, statistics\, and profiles of accomplished individuals who did not attend elite schools\, Bruni exposes the flaws in the college admissions mania and the rankings that fuel it. He argues that a student’s effort\, passion\, and resilience matter far more than the name on their diploma\, and that a fulfilling\, successful life can be achieved at a wide range of colleges\, not just the most selective ones. The book reassures students and parents that true achievement is shaped by character and determination\, not by the prestige of an alma mater. \nWe Read It for You is a summer book webinar series for parents who want to better understand the college planning process without having to read every book on the shelf.  Each session includes:\n• A summary of one relevant college planning book\n• Key insights and how they apply to your student’s journey\n• A live Q&A with an advisor\n• Real-world context from those working with families every day \n 
URL:https://www.thecollegefundingcoach.org/class/we-read-it-for-you-where-you-go-is-not-who-youll-be-by-frank-bruni/
LOCATION:Zoom – VA\, VA
CATEGORIES:Classes,The CFC Book Review,Webinar,Workshops
ATTACH;FMTTYPE=image/png:https://www.thecollegefundingcoach.org/wp-content/uploads/2025/06/We-Read-It-for-You-Where-You-Go-Is-Not-Who-Youll-Be-by-Frank-Bruni.png
END:VEVENT
END:VCALENDAR