BEGIN:VCALENDAR
VERSION:2.0
PRODID:-//The College Funding Coach - ECPv6.15.17//NONSGML v1.0//EN
CALSCALE:GREGORIAN
METHOD:PUBLISH
X-WR-CALNAME:The College Funding Coach
X-ORIGINAL-URL:https://www.thecollegefundingcoach.org
X-WR-CALDESC:Events for The College Funding Coach
REFRESH-INTERVAL;VALUE=DURATION:PT1H
X-Robots-Tag:noindex
X-PUBLISHED-TTL:PT1H
BEGIN:VTIMEZONE
TZID:America/New_York
BEGIN:DAYLIGHT
TZOFFSETFROM:-0500
TZOFFSETTO:-0400
TZNAME:EDT
DTSTART:20240310T070000
END:DAYLIGHT
BEGIN:STANDARD
TZOFFSETFROM:-0400
TZOFFSETTO:-0500
TZNAME:EST
DTSTART:20241103T060000
END:STANDARD
BEGIN:DAYLIGHT
TZOFFSETFROM:-0500
TZOFFSETTO:-0400
TZNAME:EDT
DTSTART:20250309T070000
END:DAYLIGHT
BEGIN:STANDARD
TZOFFSETFROM:-0400
TZOFFSETTO:-0500
TZNAME:EST
DTSTART:20251102T060000
END:STANDARD
BEGIN:DAYLIGHT
TZOFFSETFROM:-0500
TZOFFSETTO:-0400
TZNAME:EDT
DTSTART:20260308T070000
END:DAYLIGHT
BEGIN:STANDARD
TZOFFSETFROM:-0400
TZOFFSETTO:-0500
TZNAME:EST
DTSTART:20261101T060000
END:STANDARD
END:VTIMEZONE
BEGIN:VEVENT
DTSTART;VALUE=DATE:20251203
DTEND;VALUE=DATE:20251204
DTSTAMP:20260420T173423
CREATED:20250625T191951Z
LAST-MODIFIED:20251017T125227Z
UID:20391-1764720000-1764806399@www.thecollegefundingcoach.org
SUMMARY:Pennsylvania School Counselor Association Conference 2025
DESCRIPTION:
URL:https://www.thecollegefundingcoach.org/class/pennsylvania-school-counselor-association-conference-2025/
LOCATION:The Penn Stater Hotel & Convention Center\, 215 Innovation Boulevard\, State College\, PA\, 16803\, United States
CATEGORIES:Classes,Conference,Workshops
ATTACH;FMTTYPE=image/avif:https://www.thecollegefundingcoach.org/wp-content/uploads/2025/06/PA-SCA-Logo.avif
GEO:40.8315637;-77.8450378
X-APPLE-STRUCTURED-LOCATION;VALUE=URI;X-ADDRESS=The Penn Stater Hotel & Convention Center 215 Innovation Boulevard State College PA 16803 United States;X-APPLE-RADIUS=500;X-TITLE=215 Innovation Boulevard:geo:-77.8450378,40.8315637
END:VEVENT
END:VCALENDAR