BEGIN:VCALENDAR
VERSION:2.0
PRODID:-//The College Funding Coach - ECPv6.15.17//NONSGML v1.0//EN
CALSCALE:GREGORIAN
METHOD:PUBLISH
X-ORIGINAL-URL:https://www.thecollegefundingcoach.org
X-WR-CALDESC:Events for The College Funding Coach
REFRESH-INTERVAL;VALUE=DURATION:PT1H
X-Robots-Tag:noindex
X-PUBLISHED-TTL:PT1H
BEGIN:VTIMEZONE
TZID:America/New_York
BEGIN:DAYLIGHT
TZOFFSETFROM:-0500
TZOFFSETTO:-0400
TZNAME:EDT
DTSTART:20250309T070000
END:DAYLIGHT
BEGIN:STANDARD
TZOFFSETFROM:-0400
TZOFFSETTO:-0500
TZNAME:EST
DTSTART:20251102T060000
END:STANDARD
BEGIN:DAYLIGHT
TZOFFSETFROM:-0500
TZOFFSETTO:-0400
TZNAME:EDT
DTSTART:20260308T070000
END:DAYLIGHT
BEGIN:STANDARD
TZOFFSETFROM:-0400
TZOFFSETTO:-0500
TZNAME:EST
DTSTART:20261101T060000
END:STANDARD
BEGIN:DAYLIGHT
TZOFFSETFROM:-0500
TZOFFSETTO:-0400
TZNAME:EDT
DTSTART:20270314T070000
END:DAYLIGHT
BEGIN:STANDARD
TZOFFSETFROM:-0400
TZOFFSETTO:-0500
TZNAME:EST
DTSTART:20271107T060000
END:STANDARD
END:VTIMEZONE
BEGIN:VEVENT
DTSTART;VALUE=DATE:20260223
DTEND;VALUE=DATE:20260226
DTSTAMP:20260420T034635
CREATED:20260217T161941Z
LAST-MODIFIED:20260217T161941Z
UID:21811-1771804800-1772063999@www.thecollegefundingcoach.org
SUMMARY:INACAC Annual Conference 2026
DESCRIPTION:
URL:https://www.thecollegefundingcoach.org/class/inacac-annual-conference-2026/
LOCATION:The Sheraton at Keystone Crossing\, 8787 Keystone Xing\, Indianapolis\, IN\, 46240\, United States
CATEGORIES:Conference,Workshops
ATTACH;FMTTYPE=image/png:https://www.thecollegefundingcoach.org/wp-content/uploads/2023/02/Screen-Shot-2023-02-08-at-8.13.25-AM.png
GEO:39.9157512;-86.1085983
X-APPLE-STRUCTURED-LOCATION;VALUE=URI;X-ADDRESS=The Sheraton at Keystone Crossing 8787 Keystone Xing Indianapolis IN 46240 United States;X-APPLE-RADIUS=500;X-TITLE=8787 Keystone Xing:geo:-86.1085983,39.9157512
END:VEVENT
END:VCALENDAR