BEGIN:VCALENDAR
VERSION:2.0
PRODID:-//The College Funding Coach - ECPv6.15.17//NONSGML v1.0//EN
CALSCALE:GREGORIAN
METHOD:PUBLISH
X-ORIGINAL-URL:https://www.thecollegefundingcoach.org
X-WR-CALDESC:Events for The College Funding Coach
REFRESH-INTERVAL;VALUE=DURATION:PT1H
X-Robots-Tag:noindex
X-PUBLISHED-TTL:PT1H
BEGIN:VTIMEZONE
TZID:America/New_York
BEGIN:DAYLIGHT
TZOFFSETFROM:-0500
TZOFFSETTO:-0400
TZNAME:EDT
DTSTART:20220313T070000
END:DAYLIGHT
BEGIN:STANDARD
TZOFFSETFROM:-0400
TZOFFSETTO:-0500
TZNAME:EST
DTSTART:20221106T060000
END:STANDARD
BEGIN:DAYLIGHT
TZOFFSETFROM:-0500
TZOFFSETTO:-0400
TZNAME:EDT
DTSTART:20230312T070000
END:DAYLIGHT
BEGIN:STANDARD
TZOFFSETFROM:-0400
TZOFFSETTO:-0500
TZNAME:EST
DTSTART:20231105T060000
END:STANDARD
BEGIN:DAYLIGHT
TZOFFSETFROM:-0500
TZOFFSETTO:-0400
TZNAME:EDT
DTSTART:20240310T070000
END:DAYLIGHT
BEGIN:STANDARD
TZOFFSETFROM:-0400
TZOFFSETTO:-0500
TZNAME:EST
DTSTART:20241103T060000
END:STANDARD
END:VTIMEZONE
BEGIN:VEVENT
DTSTART;VALUE=DATE:20230319
DTEND;VALUE=DATE:20230321
DTSTAMP:20260425T080516
CREATED:20230306T224105Z
LAST-MODIFIED:20230314T211405Z
UID:15862-1679184000-1679356799@www.thecollegefundingcoach.org
SUMMARY:MDSCA - Maryland School Counselor Association 2023
DESCRIPTION:
URL:https://www.thecollegefundingcoach.org/class/msca-maryland-school-counselor-association-2023/
LOCATION:Hyatt Regency Chesapeake Bay\, 100 Heron Boulevard\, US-50\, Cambridge\, MD\, 21613\, United States
CATEGORIES:Classes,Conference,Workshops
ATTACH;FMTTYPE=image/png:https://www.thecollegefundingcoach.org/wp-content/uploads/2023/03/MSCA-Maryland-School-Counselor-Association.png
GEO:38.561433;-76.04628
X-APPLE-STRUCTURED-LOCATION;VALUE=URI;X-ADDRESS=Hyatt Regency Chesapeake Bay 100 Heron Boulevard US-50 Cambridge MD 21613 United States;X-APPLE-RADIUS=500;X-TITLE=100 Heron Boulevard\, US-50:geo:-76.04628,38.561433
END:VEVENT
END:VCALENDAR