BEGIN:VCALENDAR
VERSION:2.0
PRODID:-//The College Funding Coach - ECPv6.15.17//NONSGML v1.0//EN
CALSCALE:GREGORIAN
METHOD:PUBLISH
X-ORIGINAL-URL:https://www.thecollegefundingcoach.org
X-WR-CALDESC:Events for The College Funding Coach
REFRESH-INTERVAL;VALUE=DURATION:PT1H
X-Robots-Tag:noindex
X-PUBLISHED-TTL:PT1H
BEGIN:VTIMEZONE
TZID:America/Chicago
BEGIN:DAYLIGHT
TZOFFSETFROM:-0600
TZOFFSETTO:-0500
TZNAME:CDT
DTSTART:20240310T080000
END:DAYLIGHT
BEGIN:STANDARD
TZOFFSETFROM:-0500
TZOFFSETTO:-0600
TZNAME:CST
DTSTART:20241103T070000
END:STANDARD
BEGIN:DAYLIGHT
TZOFFSETFROM:-0600
TZOFFSETTO:-0500
TZNAME:CDT
DTSTART:20250309T080000
END:DAYLIGHT
BEGIN:STANDARD
TZOFFSETFROM:-0500
TZOFFSETTO:-0600
TZNAME:CST
DTSTART:20251102T070000
END:STANDARD
BEGIN:DAYLIGHT
TZOFFSETFROM:-0600
TZOFFSETTO:-0500
TZNAME:CDT
DTSTART:20260308T080000
END:DAYLIGHT
BEGIN:STANDARD
TZOFFSETFROM:-0500
TZOFFSETTO:-0600
TZNAME:CST
DTSTART:20261101T070000
END:STANDARD
END:VTIMEZONE
BEGIN:VTIMEZONE
TZID:America/New_York
BEGIN:DAYLIGHT
TZOFFSETFROM:-0500
TZOFFSETTO:-0400
TZNAME:EDT
DTSTART:20240310T070000
END:DAYLIGHT
BEGIN:STANDARD
TZOFFSETFROM:-0400
TZOFFSETTO:-0500
TZNAME:EST
DTSTART:20241103T060000
END:STANDARD
BEGIN:DAYLIGHT
TZOFFSETFROM:-0500
TZOFFSETTO:-0400
TZNAME:EDT
DTSTART:20250309T070000
END:DAYLIGHT
BEGIN:STANDARD
TZOFFSETFROM:-0400
TZOFFSETTO:-0500
TZNAME:EST
DTSTART:20251102T060000
END:STANDARD
BEGIN:DAYLIGHT
TZOFFSETFROM:-0500
TZOFFSETTO:-0400
TZNAME:EDT
DTSTART:20260308T070000
END:DAYLIGHT
BEGIN:STANDARD
TZOFFSETFROM:-0400
TZOFFSETTO:-0500
TZNAME:EST
DTSTART:20261101T060000
END:STANDARD
END:VTIMEZONE
BEGIN:VEVENT
DTSTART;TZID=America/Chicago:20250222T080000
DTEND;TZID=America/Chicago:20250222T130000
DTSTAMP:20260421T222840
CREATED:20250204T195132Z
LAST-MODIFIED:20250221T010225Z
UID:19371-1740211200-1740229200@www.thecollegefundingcoach.org
SUMMARY:Valley View School District 365U Family Symposium - Breakout Session
DESCRIPTION:Preview our Little-Known Secrets of Paying for College presentation for one of your breakout sessions! \n\n10:25 am – 11:10 am CST\, Room B49\n\nFor many families\, the high cost of higher education is a daunting proposition. Parents lie awake at night trying to figure out how to afford sending their children to college and still have enough of their hard earned money to be able to retire one day. Some families have children attending college next year and others have 12 years to plan; but the fears of tackling these monumental and rising costs are the same. The College Funding Coach® is here to help families figure out HOW to pay for it! Through our educational workshop\, Little-Known Secrets of Paying for College your parent community will learn: \n\nHow to avoid jeopardizing your retirement nest egg!\nEffective ways to simultaneously save AND pay for college\nStrategies to pay for multiple children attending college at the same time\nHow to recapture out of pocket college costs\nAnd much\, much more!\n\n*If you are a parent\, please register for a Little-Known Secrets of Paying for College workshop or webinar. These breakout sessions are for attendees of the Valley View School District 365U Family Symposium.*
URL:https://www.thecollegefundingcoach.org/class/valley-view-school-district-365u-family-symposium-2025/
LOCATION:Brooks Middle School\, 350 Blair Lane\, Bolingbrook\, IL\, 60440\, United States
CATEGORIES:Classes,Conference,IN-PERSON/ON-SITE WORKSHOP,Workshops
ATTACH;FMTTYPE=image/png:https://www.thecollegefundingcoach.org/wp-content/uploads/2025/02/valley-view.png
GEO:41.7022146;-88.0810686
X-APPLE-STRUCTURED-LOCATION;VALUE=URI;X-ADDRESS=Brooks Middle School 350 Blair Lane Bolingbrook IL 60440 United States;X-APPLE-RADIUS=500;X-TITLE=350 Blair Lane:geo:-88.0810686,41.7022146
END:VEVENT
BEGIN:VEVENT
DTSTART;VALUE=DATE:20250224
DTEND;VALUE=DATE:20250227
DTSTAMP:20260421T222840
CREATED:20250212T175151Z
LAST-MODIFIED:20250212T175151Z
UID:19467-1740355200-1740614399@www.thecollegefundingcoach.org
SUMMARY:IACAC 2025 Annual Conference
DESCRIPTION:
URL:https://www.thecollegefundingcoach.org/class/iacac-2025-annual-conference/
LOCATION:The Sheraton at Keystone Crossing\, Indianapolis\, IN\, United States
CATEGORIES:Classes,Conference,Workshops
ATTACH;FMTTYPE=image/png:https://www.thecollegefundingcoach.org/wp-content/uploads/2023/02/Screen-Shot-2023-02-08-at-8.13.25-AM.png
GEO:39.76909;-86.158018
END:VEVENT
END:VCALENDAR