BEGIN:VCALENDAR
VERSION:2.0
PRODID:-//The College Funding Coach - ECPv6.15.17//NONSGML v1.0//EN
CALSCALE:GREGORIAN
METHOD:PUBLISH
X-WR-CALNAME:The College Funding Coach
X-ORIGINAL-URL:https://www.thecollegefundingcoach.org
X-WR-CALDESC:Events for The College Funding Coach
REFRESH-INTERVAL;VALUE=DURATION:PT1H
X-Robots-Tag:noindex
X-PUBLISHED-TTL:PT1H
BEGIN:VTIMEZONE
TZID:America/New_York
BEGIN:DAYLIGHT
TZOFFSETFROM:-0500
TZOFFSETTO:-0400
TZNAME:EDT
DTSTART:20210314T070000
END:DAYLIGHT
BEGIN:STANDARD
TZOFFSETFROM:-0400
TZOFFSETTO:-0500
TZNAME:EST
DTSTART:20211107T060000
END:STANDARD
BEGIN:DAYLIGHT
TZOFFSETFROM:-0500
TZOFFSETTO:-0400
TZNAME:EDT
DTSTART:20220313T070000
END:DAYLIGHT
BEGIN:STANDARD
TZOFFSETFROM:-0400
TZOFFSETTO:-0500
TZNAME:EST
DTSTART:20221106T060000
END:STANDARD
BEGIN:DAYLIGHT
TZOFFSETFROM:-0500
TZOFFSETTO:-0400
TZNAME:EDT
DTSTART:20230312T070000
END:DAYLIGHT
BEGIN:STANDARD
TZOFFSETFROM:-0400
TZOFFSETTO:-0500
TZNAME:EST
DTSTART:20231105T060000
END:STANDARD
END:VTIMEZONE
BEGIN:VEVENT
DTSTART;VALUE=DATE:20221102
DTEND;VALUE=DATE:20221105
DTSTAMP:20260425T100113
CREATED:20221025T201519Z
LAST-MODIFIED:20221031T151117Z
UID:15237-1667347200-1667606399@www.thecollegefundingcoach.org
SUMMARY:NCSCA Annual Conference
DESCRIPTION:North Carolina School Counselor Association (NCSCA)  |  9650 Strickland Rd. Suite 103-125 |  Raleigh\, NC 27615 \nFor NCSCA questions\, please email Andrea Wallace\, Association Manager \n     \n \n\n\n\n\nNCSCA is a state division of the American School Counselor Association. \n\n\n\n\nNorth Carolina School Counselor Association (NCSCA) has been approved by NBCC as an Approved Continuing Education Provider\, ACEP No. 6314.\nPrograms that do not qualify for credit are clearly identified. NCSCA is solely responsible for all aspects of the programs. \n\n\n\n\nCopyright © 2022 North Carolina School Counselor Association. All Rights Reserved.
URL:https://www.thecollegefundingcoach.org/class/ncsca-annual-conference/
LOCATION:NCSCA Annual Conference
CATEGORIES:Classes,Conference,Workshops
ATTACH;FMTTYPE=image/png:https://www.thecollegefundingcoach.org/wp-content/uploads/2022/10/NCSCA-Annual-Conference.png
END:VEVENT
BEGIN:VEVENT
DTSTART;VALUE=DATE:20221117
DTEND;VALUE=DATE:20221119
DTSTAMP:20260425T100113
CREATED:20221028T133435Z
LAST-MODIFIED:20221028T133435Z
UID:15260-1668643200-1668815999@www.thecollegefundingcoach.org
SUMMARY:Indiana -SCA Conference
DESCRIPTION:
URL:https://www.thecollegefundingcoach.org/class/indiana-sca-conference/
LOCATION:IN
CATEGORIES:Classes,Conference,Workshops
ATTACH;FMTTYPE=image/png:https://www.thecollegefundingcoach.org/wp-content/uploads/2022/10/Screen-Shot-2022-10-28-at-9.29.47-AM.png
END:VEVENT
BEGIN:VEVENT
DTSTART;TZID=America/New_York:20221118T090000
DTEND;TZID=America/New_York:20221118T153000
DTSTAMP:20260425T100113
CREATED:20221025T202310Z
LAST-MODIFIED:20221025T202705Z
UID:15242-1668762000-1668785400@www.thecollegefundingcoach.org
SUMMARY:NCAIS Annual College Counselors Conference
DESCRIPTION:Friday\, November 18\, 20229:00 AM – 3:30 PM EDT\nCategory: Conferences\n\n\n\nNovember 18\, 2022 | College Counselors Workshop | Wake Forest University\n\nContact: mhilleboe@ncais.org \nDownload as iCal file
URL:https://www.thecollegefundingcoach.org/class/ncais-annual-college-counselors-conference/
LOCATION:NCAIS Annual College Counselors Conference
CATEGORIES:Classes,Conference,Workshops
ATTACH;FMTTYPE=image/png:https://www.thecollegefundingcoach.org/wp-content/uploads/2021/04/NCAIS-North-Carolina-Association-of-Independent-Schools.png
END:VEVENT
END:VCALENDAR