BEGIN:VCALENDAR
VERSION:2.0
PRODID:-//The College Funding Coach - ECPv6.15.17//NONSGML v1.0//EN
CALSCALE:GREGORIAN
METHOD:PUBLISH
X-WR-CALNAME:The College Funding Coach
X-ORIGINAL-URL:https://www.thecollegefundingcoach.org
X-WR-CALDESC:Events for The College Funding Coach
REFRESH-INTERVAL;VALUE=DURATION:PT1H
X-Robots-Tag:noindex
X-PUBLISHED-TTL:PT1H
BEGIN:VTIMEZONE
TZID:America/Denver
BEGIN:DAYLIGHT
TZOFFSETFROM:-0700
TZOFFSETTO:-0600
TZNAME:MDT
DTSTART:20240310T090000
END:DAYLIGHT
BEGIN:STANDARD
TZOFFSETFROM:-0600
TZOFFSETTO:-0700
TZNAME:MST
DTSTART:20241103T080000
END:STANDARD
BEGIN:DAYLIGHT
TZOFFSETFROM:-0700
TZOFFSETTO:-0600
TZNAME:MDT
DTSTART:20250309T090000
END:DAYLIGHT
BEGIN:STANDARD
TZOFFSETFROM:-0600
TZOFFSETTO:-0700
TZNAME:MST
DTSTART:20251102T080000
END:STANDARD
BEGIN:DAYLIGHT
TZOFFSETFROM:-0700
TZOFFSETTO:-0600
TZNAME:MDT
DTSTART:20260308T090000
END:DAYLIGHT
BEGIN:STANDARD
TZOFFSETFROM:-0600
TZOFFSETTO:-0700
TZNAME:MST
DTSTART:20261101T080000
END:STANDARD
END:VTIMEZONE
BEGIN:VEVENT
DTSTART;TZID=America/Denver:20250922T180000
DTEND;TZID=America/Denver:20250922T193000
DTSTAMP:20260423T103407
CREATED:20250829T150223Z
LAST-MODIFIED:20250904T183852Z
UID:20895-1758564000-1758569400@www.thecollegefundingcoach.org
SUMMARY:Young Women's Preparatory Network - El Paso
DESCRIPTION:
URL:https://www.thecollegefundingcoach.org/class/young-womens-preparatory-network-el-paso/
LOCATION:YISD ACAC Theater\, 9600 Sims Drive\, El Paso\, 79925\, United States
CATEGORIES:Classes,IN-PERSON/ON-SITE WORKSHOP,Workshops
ATTACH;FMTTYPE=image/png:https://www.thecollegefundingcoach.org/wp-content/uploads/2025/08/Young-Womens-Preparatory-Network.png
GEO:31.7624431;-106.3572617
X-APPLE-STRUCTURED-LOCATION;VALUE=URI;X-ADDRESS=YISD ACAC Theater 9600 Sims Drive El Paso 79925 United States;X-APPLE-RADIUS=500;X-TITLE=9600 Sims Drive:geo:-106.3572617,31.7624431
END:VEVENT
END:VCALENDAR