BEGIN:VCALENDAR
VERSION:2.0
PRODID:-//The College Funding Coach - ECPv6.15.17//NONSGML v1.0//EN
CALSCALE:GREGORIAN
METHOD:PUBLISH
X-ORIGINAL-URL:https://www.thecollegefundingcoach.org
X-WR-CALDESC:Events for The College Funding Coach
REFRESH-INTERVAL;VALUE=DURATION:PT1H
X-Robots-Tag:noindex
X-PUBLISHED-TTL:PT1H
BEGIN:VTIMEZONE
TZID:America/New_York
BEGIN:DAYLIGHT
TZOFFSETFROM:-0500
TZOFFSETTO:-0400
TZNAME:EDT
DTSTART:20180311T070000
END:DAYLIGHT
BEGIN:STANDARD
TZOFFSETFROM:-0400
TZOFFSETTO:-0500
TZNAME:EST
DTSTART:20181104T060000
END:STANDARD
BEGIN:DAYLIGHT
TZOFFSETFROM:-0500
TZOFFSETTO:-0400
TZNAME:EDT
DTSTART:20190310T070000
END:DAYLIGHT
BEGIN:STANDARD
TZOFFSETFROM:-0400
TZOFFSETTO:-0500
TZNAME:EST
DTSTART:20191103T060000
END:STANDARD
BEGIN:DAYLIGHT
TZOFFSETFROM:-0500
TZOFFSETTO:-0400
TZNAME:EDT
DTSTART:20200308T070000
END:DAYLIGHT
BEGIN:STANDARD
TZOFFSETFROM:-0400
TZOFFSETTO:-0500
TZNAME:EST
DTSTART:20201101T060000
END:STANDARD
END:VTIMEZONE
BEGIN:VEVENT
DTSTART;TZID=America/New_York:20191113T173000
DTEND;TZID=America/New_York:20191113T190000
DTSTAMP:20260421T103500
CREATED:20190612T193749Z
LAST-MODIFIED:20190821T211407Z
UID:6266-1573666200-1573671600@www.thecollegefundingcoach.org
SUMMARY:CEC Colorado Springs
DESCRIPTION:
URL:https://www.thecollegefundingcoach.org/class/colorado-springs-early-colleges/
LOCATION:CEC Colorado Springs\, 4405 N Chestnut St\, Colorado Springs\, CO\, 80907
CATEGORIES:Classes,Workshops
ATTACH;FMTTYPE=image/png:https://www.thecollegefundingcoach.org/wp-content/uploads/2019/06/CEC-Colorado-Springs-1.png
GEO:38.8932935;-104.8327847
X-APPLE-STRUCTURED-LOCATION;VALUE=URI;X-ADDRESS=CEC Colorado Springs 4405 N Chestnut St Colorado Springs CO 80907;X-APPLE-RADIUS=500;X-TITLE=4405 N Chestnut St:geo:-104.8327847,38.8932935
END:VEVENT
BEGIN:VEVENT
DTSTART;TZID=America/New_York:20191113T183000
DTEND;TZID=America/New_York:20191113T200000
DTSTAMP:20260421T103500
CREATED:20190719T121025Z
LAST-MODIFIED:20190719T121025Z
UID:6575-1573669800-1573675200@www.thecollegefundingcoach.org
SUMMARY:Mountaintop Montessori
DESCRIPTION:
URL:https://www.thecollegefundingcoach.org/class/mountaintop-montessori-2/
LOCATION:Mountaintop Montessori\, 440 Pinnacle Place\, Charlottesville\, VA\, 22911
CATEGORIES:Classes,Workshops
ATTACH;FMTTYPE=image/png:https://www.thecollegefundingcoach.org/wp-content/uploads/2019/01/logo.png
GEO:38.0313148;-78.4437766
X-APPLE-STRUCTURED-LOCATION;VALUE=URI;X-ADDRESS=Mountaintop Montessori 440 Pinnacle Place Charlottesville VA 22911;X-APPLE-RADIUS=500;X-TITLE=440 Pinnacle Place:geo:-78.4437766,38.0313148
END:VEVENT
BEGIN:VEVENT
DTSTART;TZID=America/New_York:20191113T190000
DTEND;TZID=America/New_York:20191113T210000
DTSTAMP:20260421T103500
CREATED:20190612T194425Z
LAST-MODIFIED:20191031T161842Z
UID:6269-1573671600-1573678800@www.thecollegefundingcoach.org
SUMMARY:Briar Woods High School
DESCRIPTION:
URL:https://www.thecollegefundingcoach.org/class/briar-woods-high-school/
LOCATION:Briar Woods High School\, 22525 Belmont Ridge Road\,  Ashburn\,\, VA\, 20148\, United States
CATEGORIES:Classes,Workshops
ATTACH;FMTTYPE=image/png:https://www.thecollegefundingcoach.org/wp-content/uploads/2019/06/Briar-Woods-High-School.png
GEO:38.9925003;-77.5309505
X-APPLE-STRUCTURED-LOCATION;VALUE=URI;X-ADDRESS=Briar Woods High School 22525 Belmont Ridge Road  Ashburn VA 20148 United States;X-APPLE-RADIUS=500;X-TITLE=22525 Belmont Ridge Road:geo:-77.5309505,38.9925003
END:VEVENT
END:VCALENDAR