BEGIN:VCALENDAR
VERSION:2.0
PRODID:-//The College Funding Coach - ECPv6.15.17//NONSGML v1.0//EN
CALSCALE:GREGORIAN
METHOD:PUBLISH
X-WR-CALNAME:The College Funding Coach
X-ORIGINAL-URL:https://www.thecollegefundingcoach.org
X-WR-CALDESC:Events for The College Funding Coach
REFRESH-INTERVAL;VALUE=DURATION:PT1H
X-Robots-Tag:noindex
X-PUBLISHED-TTL:PT1H
BEGIN:VTIMEZONE
TZID:America/New_York
BEGIN:DAYLIGHT
TZOFFSETFROM:-0500
TZOFFSETTO:-0400
TZNAME:EDT
DTSTART:20180311T070000
END:DAYLIGHT
BEGIN:STANDARD
TZOFFSETFROM:-0400
TZOFFSETTO:-0500
TZNAME:EST
DTSTART:20181104T060000
END:STANDARD
BEGIN:DAYLIGHT
TZOFFSETFROM:-0500
TZOFFSETTO:-0400
TZNAME:EDT
DTSTART:20190310T070000
END:DAYLIGHT
BEGIN:STANDARD
TZOFFSETFROM:-0400
TZOFFSETTO:-0500
TZNAME:EST
DTSTART:20191103T060000
END:STANDARD
BEGIN:DAYLIGHT
TZOFFSETFROM:-0500
TZOFFSETTO:-0400
TZNAME:EDT
DTSTART:20200308T070000
END:DAYLIGHT
BEGIN:STANDARD
TZOFFSETFROM:-0400
TZOFFSETTO:-0500
TZNAME:EST
DTSTART:20201101T060000
END:STANDARD
END:VTIMEZONE
BEGIN:VEVENT
DTSTART;TZID=America/New_York:20190514T180000
DTEND;TZID=America/New_York:20190514T193000
DTSTAMP:20260419T185044
CREATED:20190205T160008Z
LAST-MODIFIED:20190404T201425Z
UID:5657-1557856800-1557862200@www.thecollegefundingcoach.org
SUMMARY:Severance Middle School
DESCRIPTION: 
URL:https://www.thecollegefundingcoach.org/class/severance-middle-school/
LOCATION:Severance Middle School\, 1801 Avery Plaza Street Windsor CO 80550\, Windsor\, CO\, 80550
CATEGORIES:Classes,Workshops
ATTACH;FMTTYPE=image/jpeg:https://www.thecollegefundingcoach.org/wp-content/uploads/2019/02/medHawk.jpg
GEO:40.4966697;-104.8677492
X-APPLE-STRUCTURED-LOCATION;VALUE=URI;X-ADDRESS=Severance Middle School 1801 Avery Plaza Street Windsor CO 80550 Windsor CO 80550;X-APPLE-RADIUS=500;X-TITLE=1801 Avery Plaza Street Windsor CO 80550:geo:-104.8677492,40.4966697
END:VEVENT
END:VCALENDAR