BEGIN:VCALENDAR
VERSION:2.0
PRODID:-//The College Funding Coach - ECPv6.15.17//NONSGML v1.0//EN
CALSCALE:GREGORIAN
METHOD:PUBLISH
X-WR-CALNAME:The College Funding Coach
X-ORIGINAL-URL:https://www.thecollegefundingcoach.org
X-WR-CALDESC:Events for The College Funding Coach
REFRESH-INTERVAL;VALUE=DURATION:PT1H
X-Robots-Tag:noindex
X-PUBLISHED-TTL:PT1H
BEGIN:VTIMEZONE
TZID:America/New_York
BEGIN:DAYLIGHT
TZOFFSETFROM:-0500
TZOFFSETTO:-0400
TZNAME:EDT
DTSTART:20170312T070000
END:DAYLIGHT
BEGIN:STANDARD
TZOFFSETFROM:-0400
TZOFFSETTO:-0500
TZNAME:EST
DTSTART:20171105T060000
END:STANDARD
BEGIN:DAYLIGHT
TZOFFSETFROM:-0500
TZOFFSETTO:-0400
TZNAME:EDT
DTSTART:20180311T070000
END:DAYLIGHT
BEGIN:STANDARD
TZOFFSETFROM:-0400
TZOFFSETTO:-0500
TZNAME:EST
DTSTART:20181104T060000
END:STANDARD
BEGIN:DAYLIGHT
TZOFFSETFROM:-0500
TZOFFSETTO:-0400
TZNAME:EDT
DTSTART:20190310T070000
END:DAYLIGHT
BEGIN:STANDARD
TZOFFSETFROM:-0400
TZOFFSETTO:-0500
TZNAME:EST
DTSTART:20191103T060000
END:STANDARD
END:VTIMEZONE
BEGIN:VEVENT
DTSTART;TZID=America/New_York:20180430T180000
DTEND;TZID=America/New_York:20180430T200000
DTSTAMP:20260425T222212
CREATED:20180323T102703Z
LAST-MODIFIED:20180323T102703Z
UID:3744-1525111200-1525118400@www.thecollegefundingcoach.org
SUMMARY:Marple Newtown High School: Little-Known Secrets of Paying for College
DESCRIPTION:
URL:https://www.thecollegefundingcoach.org/class/marple-newtown-high-school-little-known-secrets-of-paying-for-college/
LOCATION:Marple Newtown High School\, 120 Media Line Rd.\, Newtown Square\, PA\, 19073
CATEGORIES:Classes,Workshops
GEO:39.9792137;-75.3852785
X-APPLE-STRUCTURED-LOCATION;VALUE=URI;X-ADDRESS=Marple Newtown High School 120 Media Line Rd. Newtown Square PA 19073;X-APPLE-RADIUS=500;X-TITLE=120 Media Line Rd.:geo:-75.3852785,39.9792137
END:VEVENT
BEGIN:VEVENT
DTSTART;TZID=America/New_York:20180430T180000
DTEND;TZID=America/New_York:20180430T200000
DTSTAMP:20260425T222212
CREATED:20180323T102703Z
LAST-MODIFIED:20180323T102703Z
UID:4632-1525111200-1525118400@www.thecollegefundingcoach.org
SUMMARY:Marple Newtown High School: Little-Known Secrets of Paying for College
DESCRIPTION:
URL:https://www.thecollegefundingcoach.org/class/marple-newtown-high-school-little-known-secrets-of-paying-for-college-2/
LOCATION:Marple Newtown High School\, 120 Media Line Rd.\, Newtown Square\, PA\, 19073
CATEGORIES:Classes,Workshops
GEO:39.9792137;-75.3852785
X-APPLE-STRUCTURED-LOCATION;VALUE=URI;X-ADDRESS=Marple Newtown High School 120 Media Line Rd. Newtown Square PA 19073;X-APPLE-RADIUS=500;X-TITLE=120 Media Line Rd.:geo:-75.3852785,39.9792137
END:VEVENT
BEGIN:VEVENT
DTSTART;TZID=America/New_York:20180430T180000
DTEND;TZID=America/New_York:20180430T200000
DTSTAMP:20260425T222212
CREATED:20180323T102703Z
LAST-MODIFIED:20180323T102703Z
UID:5469-1525111200-1525118400@www.thecollegefundingcoach.org
SUMMARY:Marple Newtown High School: Little-Known Secrets of Paying for College
DESCRIPTION:
URL:https://www.thecollegefundingcoach.org/class/marple-newtown-high-school-little-known-secrets-of-paying-for-college-3/
LOCATION:Marple Newtown High School\, 120 Media Line Rd.\, Newtown Square\, PA\, 19073
CATEGORIES:Classes,Workshops
GEO:39.9792137;-75.3852785
X-APPLE-STRUCTURED-LOCATION;VALUE=URI;X-ADDRESS=Marple Newtown High School 120 Media Line Rd. Newtown Square PA 19073;X-APPLE-RADIUS=500;X-TITLE=120 Media Line Rd.:geo:-75.3852785,39.9792137
END:VEVENT
BEGIN:VEVENT
DTSTART;TZID=America/New_York:20180430T190000
DTEND;TZID=America/New_York:20180430T210000
DTSTAMP:20260425T222212
CREATED:20180220T180327Z
LAST-MODIFIED:20180220T180327Z
UID:3696-1525114800-1525122000@www.thecollegefundingcoach.org
SUMMARY:Caldwell Academy: Little-Known Secrets of Paying for College
DESCRIPTION:
URL:https://www.thecollegefundingcoach.org/class/caldwell-academy/
LOCATION:Caldwell Academy\, 2900 Horse Pen Creek Rd.\, Greensboro\,\, NC\, 27410
CATEGORIES:Classes,Workshops
GEO:36.136623;-79.887765
X-APPLE-STRUCTURED-LOCATION;VALUE=URI;X-ADDRESS=Caldwell Academy 2900 Horse Pen Creek Rd. Greensboro NC 27410;X-APPLE-RADIUS=500;X-TITLE=2900 Horse Pen Creek Rd.:geo:-79.887765,36.136623
END:VEVENT
BEGIN:VEVENT
DTSTART;TZID=America/New_York:20180430T190000
DTEND;TZID=America/New_York:20180430T210000
DTSTAMP:20260425T222212
CREATED:20180220T180327Z
LAST-MODIFIED:20180220T180327Z
UID:4618-1525114800-1525122000@www.thecollegefundingcoach.org
SUMMARY:Caldwell Academy: Little-Known Secrets of Paying for College
DESCRIPTION:
URL:https://www.thecollegefundingcoach.org/class/caldwell-academy-2/
LOCATION:Caldwell Academy\, 2900 Horse Pen Creek Rd.\, Greensboro\,\, NC\, 27410
CATEGORIES:Classes,Workshops
GEO:36.136623;-79.887765
X-APPLE-STRUCTURED-LOCATION;VALUE=URI;X-ADDRESS=Caldwell Academy 2900 Horse Pen Creek Rd. Greensboro NC 27410;X-APPLE-RADIUS=500;X-TITLE=2900 Horse Pen Creek Rd.:geo:-79.887765,36.136623
END:VEVENT
BEGIN:VEVENT
DTSTART;TZID=America/New_York:20180430T190000
DTEND;TZID=America/New_York:20180430T210000
DTSTAMP:20260425T222212
CREATED:20180220T180327Z
LAST-MODIFIED:20180220T180327Z
UID:5455-1525114800-1525122000@www.thecollegefundingcoach.org
SUMMARY:Caldwell Academy: Little-Known Secrets of Paying for College
DESCRIPTION:
URL:https://www.thecollegefundingcoach.org/class/caldwell-academy-3/
LOCATION:Caldwell Academy\, 2900 Horse Pen Creek Rd.\, Greensboro\,\, NC\, 27410
CATEGORIES:Classes,Workshops
GEO:36.136623;-79.887765
X-APPLE-STRUCTURED-LOCATION;VALUE=URI;X-ADDRESS=Caldwell Academy 2900 Horse Pen Creek Rd. Greensboro NC 27410;X-APPLE-RADIUS=500;X-TITLE=2900 Horse Pen Creek Rd.:geo:-79.887765,36.136623
END:VEVENT
END:VCALENDAR