BEGIN:VCALENDAR
VERSION:2.0
PRODID:-//The College Funding Coach - ECPv6.15.17//NONSGML v1.0//EN
CALSCALE:GREGORIAN
METHOD:PUBLISH
X-ORIGINAL-URL:https://www.thecollegefundingcoach.org
X-WR-CALDESC:Events for The College Funding Coach
REFRESH-INTERVAL;VALUE=DURATION:PT1H
X-Robots-Tag:noindex
X-PUBLISHED-TTL:PT1H
BEGIN:VTIMEZONE
TZID:America/New_York
BEGIN:DAYLIGHT
TZOFFSETFROM:-0500
TZOFFSETTO:-0400
TZNAME:EDT
DTSTART:20170312T070000
END:DAYLIGHT
BEGIN:STANDARD
TZOFFSETFROM:-0400
TZOFFSETTO:-0500
TZNAME:EST
DTSTART:20171105T060000
END:STANDARD
BEGIN:DAYLIGHT
TZOFFSETFROM:-0500
TZOFFSETTO:-0400
TZNAME:EDT
DTSTART:20180311T070000
END:DAYLIGHT
BEGIN:STANDARD
TZOFFSETFROM:-0400
TZOFFSETTO:-0500
TZNAME:EST
DTSTART:20181104T060000
END:STANDARD
BEGIN:DAYLIGHT
TZOFFSETFROM:-0500
TZOFFSETTO:-0400
TZNAME:EDT
DTSTART:20190310T070000
END:DAYLIGHT
BEGIN:STANDARD
TZOFFSETFROM:-0400
TZOFFSETTO:-0500
TZNAME:EST
DTSTART:20191103T060000
END:STANDARD
END:VTIMEZONE
BEGIN:VEVENT
DTSTART;TZID=America/New_York:20180426T180000
DTEND;TZID=America/New_York:20180426T193000
DTSTAMP:20260424T170517
CREATED:20180205T184741Z
LAST-MODIFIED:20180205T184741Z
UID:3654-1524765600-1524771000@www.thecollegefundingcoach.org
SUMMARY:New Vista High School: Little Known Secrets of Paying for College
DESCRIPTION:
URL:https://www.thecollegefundingcoach.org/class/new-vista-high-school-little-known-secrets-of-paying-for-college/
LOCATION:New Vista High School\, 700 20th St.\, Boulder\, CO\, 80302
CATEGORIES:Classes,Workshops
GEO:40.0009764;-105.2669553
X-APPLE-STRUCTURED-LOCATION;VALUE=URI;X-ADDRESS=New Vista High School 700 20th St. Boulder CO 80302;X-APPLE-RADIUS=500;X-TITLE=700 20th St.:geo:-105.2669553,40.0009764
END:VEVENT
BEGIN:VEVENT
DTSTART;TZID=America/New_York:20180426T180000
DTEND;TZID=America/New_York:20180426T193000
DTSTAMP:20260424T170517
CREATED:20180205T184741Z
LAST-MODIFIED:20180205T184741Z
UID:4601-1524765600-1524771000@www.thecollegefundingcoach.org
SUMMARY:New Vista High School: Little Known Secrets of Paying for College
DESCRIPTION:
URL:https://www.thecollegefundingcoach.org/class/new-vista-high-school-little-known-secrets-of-paying-for-college-3/
LOCATION:New Vista High School\, 700 20th St.\, Boulder\, CO\, 80302
CATEGORIES:Classes,Workshops
GEO:40.0009764;-105.2669553
X-APPLE-STRUCTURED-LOCATION;VALUE=URI;X-ADDRESS=New Vista High School 700 20th St. Boulder CO 80302;X-APPLE-RADIUS=500;X-TITLE=700 20th St.:geo:-105.2669553,40.0009764
END:VEVENT
BEGIN:VEVENT
DTSTART;TZID=America/New_York:20180426T180000
DTEND;TZID=America/New_York:20180426T193000
DTSTAMP:20260424T170517
CREATED:20180205T184741Z
LAST-MODIFIED:20180205T184741Z
UID:5438-1524765600-1524771000@www.thecollegefundingcoach.org
SUMMARY:New Vista High School: Little Known Secrets of Paying for College
DESCRIPTION:
URL:https://www.thecollegefundingcoach.org/class/new-vista-high-school-little-known-secrets-of-paying-for-college-4/
LOCATION:New Vista High School\, 700 20th St.\, Boulder\, CO\, 80302
CATEGORIES:Classes,Workshops
GEO:40.0009764;-105.2669553
X-APPLE-STRUCTURED-LOCATION;VALUE=URI;X-ADDRESS=New Vista High School 700 20th St. Boulder CO 80302;X-APPLE-RADIUS=500;X-TITLE=700 20th St.:geo:-105.2669553,40.0009764
END:VEVENT
BEGIN:VEVENT
DTSTART;TZID=America/New_York:20180426T180000
DTEND;TZID=America/New_York:20180426T200000
DTSTAMP:20260424T170517
CREATED:20180301T181245Z
LAST-MODIFIED:20180301T181245Z
UID:3711-1524765600-1524772800@www.thecollegefundingcoach.org
SUMMARY:Cheltenham High School: Little-Known Secrets of Paying for College
DESCRIPTION:
URL:https://www.thecollegefundingcoach.org/class/cheltenham-high-school-little-known-secrets-of-paying-for-college/
LOCATION:Cheltenham High School\, 500 Rices Mill Rd.\, Wyncote\, PA\, 19095
CATEGORIES:Classes,Workshops
GEO:40.0864938;-75.1596507
X-APPLE-STRUCTURED-LOCATION;VALUE=URI;X-ADDRESS=Cheltenham High School 500 Rices Mill Rd. Wyncote PA 19095;X-APPLE-RADIUS=500;X-TITLE=500 Rices Mill Rd.:geo:-75.1596507,40.0864938
END:VEVENT
BEGIN:VEVENT
DTSTART;TZID=America/New_York:20180426T180000
DTEND;TZID=America/New_York:20180426T200000
DTSTAMP:20260424T170517
CREATED:20180301T181245Z
LAST-MODIFIED:20180301T181245Z
UID:4622-1524765600-1524772800@www.thecollegefundingcoach.org
SUMMARY:Cheltenham High School: Little-Known Secrets of Paying for College
DESCRIPTION:
URL:https://www.thecollegefundingcoach.org/class/cheltenham-high-school-little-known-secrets-of-paying-for-college-3/
LOCATION:Cheltenham High School\, 500 Rices Mill Rd.\, Wyncote\, PA\, 19095
CATEGORIES:Classes,Workshops
GEO:40.0864938;-75.1596507
X-APPLE-STRUCTURED-LOCATION;VALUE=URI;X-ADDRESS=Cheltenham High School 500 Rices Mill Rd. Wyncote PA 19095;X-APPLE-RADIUS=500;X-TITLE=500 Rices Mill Rd.:geo:-75.1596507,40.0864938
END:VEVENT
BEGIN:VEVENT
DTSTART;TZID=America/New_York:20180426T180000
DTEND;TZID=America/New_York:20180426T200000
DTSTAMP:20260424T170517
CREATED:20180301T181245Z
LAST-MODIFIED:20180301T181245Z
UID:5459-1524765600-1524772800@www.thecollegefundingcoach.org
SUMMARY:Cheltenham High School: Little-Known Secrets of Paying for College
DESCRIPTION:
URL:https://www.thecollegefundingcoach.org/class/cheltenham-high-school-little-known-secrets-of-paying-for-college-4/
LOCATION:Cheltenham High School\, 500 Rices Mill Rd.\, Wyncote\, PA\, 19095
CATEGORIES:Classes,Workshops
GEO:40.0864938;-75.1596507
X-APPLE-STRUCTURED-LOCATION;VALUE=URI;X-ADDRESS=Cheltenham High School 500 Rices Mill Rd. Wyncote PA 19095;X-APPLE-RADIUS=500;X-TITLE=500 Rices Mill Rd.:geo:-75.1596507,40.0864938
END:VEVENT
END:VCALENDAR