BEGIN:VCALENDAR
VERSION:2.0
PRODID:-//The College Funding Coach - ECPv6.15.17//NONSGML v1.0//EN
CALSCALE:GREGORIAN
METHOD:PUBLISH
X-ORIGINAL-URL:https://www.thecollegefundingcoach.org
X-WR-CALDESC:Events for The College Funding Coach
REFRESH-INTERVAL;VALUE=DURATION:PT1H
X-Robots-Tag:noindex
X-PUBLISHED-TTL:PT1H
BEGIN:VTIMEZONE
TZID:America/New_York
BEGIN:DAYLIGHT
TZOFFSETFROM:-0500
TZOFFSETTO:-0400
TZNAME:EDT
DTSTART:20170312T070000
END:DAYLIGHT
BEGIN:STANDARD
TZOFFSETFROM:-0400
TZOFFSETTO:-0500
TZNAME:EST
DTSTART:20171105T060000
END:STANDARD
BEGIN:DAYLIGHT
TZOFFSETFROM:-0500
TZOFFSETTO:-0400
TZNAME:EDT
DTSTART:20180311T070000
END:DAYLIGHT
BEGIN:STANDARD
TZOFFSETFROM:-0400
TZOFFSETTO:-0500
TZNAME:EST
DTSTART:20181104T060000
END:STANDARD
BEGIN:DAYLIGHT
TZOFFSETFROM:-0500
TZOFFSETTO:-0400
TZNAME:EDT
DTSTART:20190310T070000
END:DAYLIGHT
BEGIN:STANDARD
TZOFFSETFROM:-0400
TZOFFSETTO:-0500
TZNAME:EST
DTSTART:20191103T060000
END:STANDARD
END:VTIMEZONE
BEGIN:VEVENT
DTSTART;TZID=America/New_York:20180423T180000
DTEND;TZID=America/New_York:20180423T200000
DTSTAMP:20260424T170525
CREATED:20180216T061544Z
LAST-MODIFIED:20180216T061544Z
UID:3687-1524506400-1524513600@www.thecollegefundingcoach.org
SUMMARY:Liberty High School: Little-Known Secrets of Paying for College
DESCRIPTION:
URL:https://www.thecollegefundingcoach.org/class/liberty-high-school-little-known-secrets-of-paying-for-college/
LOCATION:Liberty High School\, 6300 Independence Ave.\, Bealeton\, VA\, 22712
CATEGORIES:Classes,Workshops
GEO:38.587501;-77.765524
X-APPLE-STRUCTURED-LOCATION;VALUE=URI;X-ADDRESS=Liberty High School 6300 Independence Ave. Bealeton VA 22712;X-APPLE-RADIUS=500;X-TITLE=6300 Independence Ave.:geo:-77.765524,38.587501
END:VEVENT
BEGIN:VEVENT
DTSTART;TZID=America/New_York:20180423T180000
DTEND;TZID=America/New_York:20180423T200000
DTSTAMP:20260424T170525
CREATED:20180216T061544Z
LAST-MODIFIED:20180216T061544Z
UID:4614-1524506400-1524513600@www.thecollegefundingcoach.org
SUMMARY:Liberty High School: Little-Known Secrets of Paying for College
DESCRIPTION:
URL:https://www.thecollegefundingcoach.org/class/liberty-high-school-little-known-secrets-of-paying-for-college-2/
LOCATION:Liberty High School\, 6300 Independence Ave.\, Bealeton\, VA\, 22712
CATEGORIES:Classes,Workshops
GEO:38.587501;-77.765524
X-APPLE-STRUCTURED-LOCATION;VALUE=URI;X-ADDRESS=Liberty High School 6300 Independence Ave. Bealeton VA 22712;X-APPLE-RADIUS=500;X-TITLE=6300 Independence Ave.:geo:-77.765524,38.587501
END:VEVENT
BEGIN:VEVENT
DTSTART;TZID=America/New_York:20180423T180000
DTEND;TZID=America/New_York:20180423T200000
DTSTAMP:20260424T170525
CREATED:20180216T061544Z
LAST-MODIFIED:20180216T061544Z
UID:5451-1524506400-1524513600@www.thecollegefundingcoach.org
SUMMARY:Liberty High School: Little-Known Secrets of Paying for College
DESCRIPTION:
URL:https://www.thecollegefundingcoach.org/class/liberty-high-school-little-known-secrets-of-paying-for-college-3/
LOCATION:Liberty High School\, 6300 Independence Ave.\, Bealeton\, VA\, 22712
CATEGORIES:Classes,Workshops
GEO:38.587501;-77.765524
X-APPLE-STRUCTURED-LOCATION;VALUE=URI;X-ADDRESS=Liberty High School 6300 Independence Ave. Bealeton VA 22712;X-APPLE-RADIUS=500;X-TITLE=6300 Independence Ave.:geo:-77.765524,38.587501
END:VEVENT
END:VCALENDAR